BEGIN:VCALENDAR
VERSION:2.0
PRODID:-//The Carers Manchester Contact Point - ECPv6.15.18//NONSGML v1.0//EN
CALSCALE:GREGORIAN
METHOD:PUBLISH
X-WR-CALNAME:The Carers Manchester Contact Point
X-ORIGINAL-URL:https://www.carersmanchester.org.uk
X-WR-CALDESC:Events for The Carers Manchester Contact Point
REFRESH-INTERVAL;VALUE=DURATION:PT1H
X-Robots-Tag:noindex
X-PUBLISHED-TTL:PT1H
BEGIN:VTIMEZONE
TZID:Europe/Paris
BEGIN:DAYLIGHT
TZOFFSETFROM:+0100
TZOFFSETTO:+0200
TZNAME:CEST
DTSTART:20240331T010000
END:DAYLIGHT
BEGIN:STANDARD
TZOFFSETFROM:+0200
TZOFFSETTO:+0100
TZNAME:CET
DTSTART:20241027T010000
END:STANDARD
BEGIN:DAYLIGHT
TZOFFSETFROM:+0100
TZOFFSETTO:+0200
TZNAME:CEST
DTSTART:20250330T010000
END:DAYLIGHT
BEGIN:STANDARD
TZOFFSETFROM:+0200
TZOFFSETTO:+0100
TZNAME:CET
DTSTART:20251026T010000
END:STANDARD
BEGIN:DAYLIGHT
TZOFFSETFROM:+0100
TZOFFSETTO:+0200
TZNAME:CEST
DTSTART:20260329T010000
END:DAYLIGHT
BEGIN:STANDARD
TZOFFSETFROM:+0200
TZOFFSETTO:+0100
TZNAME:CET
DTSTART:20261025T010000
END:STANDARD
END:VTIMEZONE
BEGIN:VEVENT
DTSTART;TZID=Europe/Paris:20250430T133000
DTEND;TZID=Europe/Paris:20250430T153000
DTSTAMP:20260423T005108
CREATED:20250214T162655Z
LAST-MODIFIED:20250214T162655Z
UID:10003211-1746019800-1746027000@www.carersmanchester.org.uk
SUMMARY:Together Dementia Support: Wythenshawe Dementia café
DESCRIPTION:All welcome! \nAt Wythenshawe Methodist Church\, joined by Wythenshawe Hospital’s Dementia Specialist Nurses. Massages available. \n📩 Book with Beth for a massage: beth@togetherdementiasupport.org \n 
URL:https://www.carersmanchester.org.uk/event/together-dementia-support-wythenshawe-dementia-cafe-3/
LOCATION:Wythenshawe Methodist church\, St Andrews Manse\, Brownley Rd\, Wythenshawe\, Manchester\, M22 0DW\, United Kingdom
END:VEVENT
BEGIN:VEVENT
DTSTART;TZID=Europe/Paris:20250326T133000
DTEND;TZID=Europe/Paris:20250326T153000
DTSTAMP:20260423T005108
CREATED:20250214T161216Z
LAST-MODIFIED:20250214T161216Z
UID:10003206-1742995800-1743003000@www.carersmanchester.org.uk
SUMMARY:Together Dementia Support: Wythenshawe Dementia café
DESCRIPTION:All welcome\, book with beth@togetherdementiasupport.org for the manual handling course or for massage
URL:https://www.carersmanchester.org.uk/event/together-dementia-support-wythenshawe-dementia-cafe-2/
LOCATION:Wythenshawe Methodist church\, St Andrews Manse\, Brownley Rd\, Wythenshawe\, Manchester\, M22 0DW\, United Kingdom
END:VEVENT
BEGIN:VEVENT
DTSTART;TZID=Europe/Paris:20250226T133000
DTEND;TZID=Europe/Paris:20250226T153000
DTSTAMP:20260423T005108
CREATED:20250214T160036Z
LAST-MODIFIED:20250214T160413Z
UID:10003204-1740576600-1740583800@www.carersmanchester.org.uk
SUMMARY:Together Dementia Support: Wythenshawe Dementia café
DESCRIPTION:All welcome\, book with beth@togetherdementiasupport.org for: \n☕ Coffee & Chat + Massages Available! \n 
URL:https://www.carersmanchester.org.uk/event/together-dementia-support-wythenshawe-dementia-cafe/
LOCATION:Wythenshawe Methodist church\, St Andrews Manse\, Brownley Rd\, Wythenshawe\, Manchester\, M22 0DW\, United Kingdom
END:VEVENT
END:VCALENDAR