BEGIN:VCALENDAR
VERSION:2.0
PRODID:-//The Carers Manchester Contact Point - ECPv6.15.18//NONSGML v1.0//EN
CALSCALE:GREGORIAN
METHOD:PUBLISH
X-ORIGINAL-URL:https://www.carersmanchester.org.uk
X-WR-CALDESC:Events for The Carers Manchester Contact Point
REFRESH-INTERVAL;VALUE=DURATION:PT1H
X-Robots-Tag:noindex
X-PUBLISHED-TTL:PT1H
BEGIN:VTIMEZONE
TZID:UTC
BEGIN:STANDARD
TZOFFSETFROM:+0000
TZOFFSETTO:+0000
TZNAME:UTC
DTSTART:20220101T000000
END:STANDARD
END:VTIMEZONE
BEGIN:VEVENT
DTSTART;TZID=UTC:20230405T100000
DTEND;TZID=UTC:20230405T120000
DTSTAMP:20260423T203840
CREATED:20230329T074934Z
LAST-MODIFIED:20230329T074934Z
UID:10001333-1680688800-1680696000@www.carersmanchester.org.uk
SUMMARY:Wills and Power of Attorney Advice Session
DESCRIPTION:Join Greater Manchester Mental Health NHS Foundation Trust for a free advice session with a qualified solicitor. \nThe session will focus on different types of power of attorney and their benefits\, mental capacity and the role of Court of Protection\, what types of Will parents need to protect vulnerable loved ones\, and ensuring any benefits or local authority support will continue in the future. \nThere will also be sessions on Thursday 29 June and Friday 10 November. \nTo book email neil.grace@gmmh.nhs.uk or call 0161 357 1246.
URL:https://www.carersmanchester.org.uk/event/wills-and-power-of-attorney-advice-session/
LOCATION:The Curve\, Prestwich\, M25 3EQ
ATTACH;FMTTYPE=image/jpeg:https://www.carersmanchester.org.uk/wp-content/uploads/2021/11/Legal-Rights-.jpg
END:VEVENT
END:VCALENDAR