BEGIN:VCALENDAR
VERSION:2.0
PRODID:-//The Carers Manchester Contact Point - ECPv6.15.18//NONSGML v1.0//EN
CALSCALE:GREGORIAN
METHOD:PUBLISH
X-ORIGINAL-URL:https://www.carersmanchester.org.uk
X-WR-CALDESC:Events for The Carers Manchester Contact Point
REFRESH-INTERVAL;VALUE=DURATION:PT1H
X-Robots-Tag:noindex
X-PUBLISHED-TTL:PT1H
BEGIN:VTIMEZONE
TZID:Europe/Paris
BEGIN:DAYLIGHT
TZOFFSETFROM:+0100
TZOFFSETTO:+0200
TZNAME:CEST
DTSTART:20240331T010000
END:DAYLIGHT
BEGIN:STANDARD
TZOFFSETFROM:+0200
TZOFFSETTO:+0100
TZNAME:CET
DTSTART:20241027T010000
END:STANDARD
BEGIN:DAYLIGHT
TZOFFSETFROM:+0100
TZOFFSETTO:+0200
TZNAME:CEST
DTSTART:20250330T010000
END:DAYLIGHT
BEGIN:STANDARD
TZOFFSETFROM:+0200
TZOFFSETTO:+0100
TZNAME:CET
DTSTART:20251026T010000
END:STANDARD
BEGIN:DAYLIGHT
TZOFFSETFROM:+0100
TZOFFSETTO:+0200
TZNAME:CEST
DTSTART:20260329T010000
END:DAYLIGHT
BEGIN:STANDARD
TZOFFSETFROM:+0200
TZOFFSETTO:+0100
TZNAME:CET
DTSTART:20261025T010000
END:STANDARD
END:VTIMEZONE
BEGIN:VTIMEZONE
TZID:UTC
BEGIN:STANDARD
TZOFFSETFROM:+0000
TZOFFSETTO:+0000
TZNAME:UTC
DTSTART:20200101T000000
END:STANDARD
END:VTIMEZONE
BEGIN:VEVENT
DTSTART;TZID=Europe/Paris:20251112T100000
DTEND;TZID=Europe/Paris:20251112T123000
DTSTAMP:20260423T120844
CREATED:20251015T153400Z
LAST-MODIFIED:20251015T153400Z
UID:10004068-1762941600-1762950600@www.carersmanchester.org.uk
SUMMARY:Manchester Carers Forum: know your rights session
DESCRIPTION:This event is organised by Manchester Carers Forum. To book or learn more\, please contact Anne on anne@manchestercarersforum.org.uk or 07813091797.
URL:https://www.carersmanchester.org.uk/event/manchester-carers-forum-know-your-rights-session/
LOCATION:Friends Meeting House\, 6 Mount Street\, Manchester\, M2 5NS
END:VEVENT
BEGIN:VEVENT
DTSTART;TZID=UTC:20240613T120000
DTEND;TZID=UTC:20240613T160000
DTSTAMP:20260423T120844
CREATED:20240501T133311Z
LAST-MODIFIED:20240524T101810Z
UID:10001522-1718280000-1718294400@www.carersmanchester.org.uk
SUMMARY:Carers Rights Information Session
DESCRIPTION:
URL:https://www.carersmanchester.org.uk/event/carers-rights-information-session/
LOCATION:Friends Meeting House\, 6 Mount Street\, Manchester\, M2 5NS
END:VEVENT
BEGIN:VEVENT
DTSTART;TZID=UTC:20240312T183000
DTEND;TZID=UTC:20240312T193000
DTSTAMP:20260423T120844
CREATED:20240306T113144Z
LAST-MODIFIED:20240306T113144Z
UID:10001514-1710268200-1710271800@www.carersmanchester.org.uk
SUMMARY:Young Carers Action Day
DESCRIPTION:
URL:https://www.carersmanchester.org.uk/event/young-carers-action-day/
LOCATION:Friends Meeting House\, 6 Mount Street\, Manchester\, M2 5NS
END:VEVENT
BEGIN:VEVENT
DTSTART;TZID=UTC:20221126T100000
DTEND;TZID=UTC:20221126T123000
DTSTAMP:20260423T120844
CREATED:20221020T064802Z
LAST-MODIFIED:20221020T065429Z
UID:10001189-1669456800-1669465800@www.carersmanchester.org.uk
SUMMARY:Celebrate Carers Rights Day
DESCRIPTION:After the success of last year’s event\, Carers Manchester have again organised an event for carers at Friends Meeting House in Manchester City Centre. The day will aim to raise awareness and knowledge of your rights as a carer\, and will feature carers speaking about their stories & experience. If you want to join others who care\, in a safe and supportive place\, to learn more about your rights\, please join us. \nThe day will feature discussion panels and/ or presentations on: \n\nCarers rights\nLegal advice for carers\, and\nSupport for Carers in Paid Employment\n\nAs well as stalls from local services and light refreshments. \nIn order to help people balance joining the event\, and their caring role\, we are hosting events on Thursday and Saturday. The Saturday event is being run specifically for those carers who are also in paid employment\, and would not be able to attend on Thursday. However\, if you are unable to attend on the Thursday for another reason\, please feel free to sign up for the Saturday event.
URL:https://www.carersmanchester.org.uk/event/celebrate-carers-rights-day-2/
LOCATION:Friends Meeting House\, 6 Mount Street\, Manchester\, M2 5NS
ATTACH;FMTTYPE=image/jpeg:https://www.carersmanchester.org.uk/wp-content/uploads/2022/03/support-group-bme-2.jpg
END:VEVENT
BEGIN:VEVENT
DTSTART;TZID=UTC:20221124T093000
DTEND;TZID=UTC:20221124T160000
DTSTAMP:20260423T120844
CREATED:20221018T083614Z
LAST-MODIFIED:20221020T064417Z
UID:10001187-1669282200-1669305600@www.carersmanchester.org.uk
SUMMARY:Celebrate Carers Rights Day
DESCRIPTION:After the success of last year’s event\, Carers Manchester have again organised an event for carers at Friends Meeting House in Manchester City Centre. \nThe day will aim to raise awareness and knowledge of your rights as a carer\, and will feature carers speaking about their stories & experience. If you want to join others who care\, in a safe and supportive place\, to learn more about your rights\, please join us. \nThe day will feature discussion panels and/or presentations on: \n\nCarers rights\nLegal advice for carers\, and\nThe cost of living crisis\n\nAs well as stalls from local services\, teas\, coffees and a lunch. \nIn order to help people balance joining the event\, and their caring role\, the day will be spilt into two\, a morning and an afternoon session. These sessions will be identical\, so you should only book onto one\, either the Morning or Afternoon. Click on the links below to book. \nThursday morning – 9.30am – 1pm \nThursday afternoon – 1pm – 4pm 
URL:https://www.carersmanchester.org.uk/event/celebrate-carers-rights-day/
LOCATION:Friends Meeting House\, 6 Mount Street\, Manchester\, M2 5NS
ATTACH;FMTTYPE=image/jpeg:https://www.carersmanchester.org.uk/wp-content/uploads/2022/03/support-group-bme-2.jpg
END:VEVENT
BEGIN:VEVENT
DTSTART;TZID=UTC:20220329T133000
DTEND;TZID=UTC:20220329T153000
DTSTAMP:20260423T120844
CREATED:20220308T142030Z
LAST-MODIFIED:20220308T142612Z
UID:10000935-1648560600-1648567800@www.carersmanchester.org.uk
SUMMARY:Wythenshawe Dementia Café
DESCRIPTION:Join Together Dementia Support for their monthly Dementia Café on the last Tuesday of every month at Friends Meeting House\, 82 Wythenshawe Road\, Manchester M23 0DJ from 1.30pm – 3.30pm. \nIt’s an opportunity for carers of people living with Dementia to socialise and share experiences over a cup of tea or coffee. Admiral Nurses will be available for advice. \nTheir volunteers will also run activities for the people living with Dementia so you can join the carers’ chat while they make new friends. \nFor more information please call 0161 226 7186 or email admin@togetherdementiasupport.org.
URL:https://www.carersmanchester.org.uk/event/wythenshawe-dementia-cafe/
LOCATION:Friends Meeting House\, 6 Mount Street\, Manchester\, M2 5NS
ATTACH;FMTTYPE=image/png:https://www.carersmanchester.org.uk/wp-content/uploads/2021/06/Tea-and-cake.png
END:VEVENT
BEGIN:VEVENT
DTSTART;TZID=UTC:20211125T093000
DTEND;TZID=UTC:20211125T160000
DTSTAMP:20260423T120844
CREATED:20211101T141504Z
LAST-MODIFIED:20211123T075220Z
UID:10000869-1637832600-1637856000@www.carersmanchester.org.uk
SUMMARY:Celebrate Carers Rights Day 2021
DESCRIPTION:*Please note bookings have now closed for this event* \nJoin us as we celebrate Carers Rights Day at Friends Meeting House\, 6 Mount Street\, Manchester M2 5NS on Thursday 25 November from 9.30am – 1pm or 1pm – 4pm. \nOn the day we’ll aim to raise awareness and knowledge of your rights as a carer\, and will feature carers speaking about their stories and experiences\, stalls from local services\, teas\, coffees and a lunch. \nIn order to help people balance joining the event\, and their caring role\, the day will be spilt into two\, a morning and an afternoon session. These sessions will be identical\, so you should only book onto one\, either the morning or afternoon. \nRegister for the morning session \nRegister for the afternoon session
URL:https://www.carersmanchester.org.uk/event/celebrate-carers-rights-day-2021/
LOCATION:Friends Meeting House\, 6 Mount Street\, Manchester\, M2 5NS
ATTACH;FMTTYPE=image/jpeg:https://www.carersmanchester.org.uk/wp-content/uploads/2021/11/mother-and-daughter-2.jpg
END:VEVENT
BEGIN:VEVENT
DTSTART;TZID=UTC:20210817T133000
DTEND;TZID=UTC:20210817T153000
DTSTAMP:20260423T120844
CREATED:20210723T111924Z
LAST-MODIFIED:20210813T071238Z
UID:10000842-1629207000-1629214200@www.carersmanchester.org.uk
SUMMARY:Dementia Café with Together Dementia Support
DESCRIPTION:Do you look after someone living with Dementia? \nJoin Together Dementia Support and Greater Manchester Mental Health for their free Dementia Café every Tuesday from 1.30pm – 3.30pm at Friends Meeting House\, 82 Wythenshawe Road\, Manchester M23 0DJ. \nIt’s a great chance to socialise and meet other carers over a brew. Once a month\, an Admiral Nurse will join the group to listen\, talk and offer advice. They will be next in on 24 August. \nTo find out more about Together Dementia Support visit www.togetherdementiasupport.org.
URL:https://www.carersmanchester.org.uk/event/dementia-cafe-with-together-dementia-support/
LOCATION:Friends Meeting House\, 6 Mount Street\, Manchester\, M2 5NS
ATTACH;FMTTYPE=image/png:https://www.carersmanchester.org.uk/wp-content/uploads/2021/06/Tea-and-cake.png
END:VEVENT
END:VCALENDAR