BEGIN:VCALENDAR
VERSION:2.0
PRODID:-//The Carers Manchester Contact Point - ECPv6.15.18//NONSGML v1.0//EN
CALSCALE:GREGORIAN
METHOD:PUBLISH
X-WR-CALNAME:The Carers Manchester Contact Point
X-ORIGINAL-URL:https://www.carersmanchester.org.uk
X-WR-CALDESC:Events for The Carers Manchester Contact Point
REFRESH-INTERVAL;VALUE=DURATION:PT1H
X-Robots-Tag:noindex
X-PUBLISHED-TTL:PT1H
BEGIN:VTIMEZONE
TZID:UTC
BEGIN:STANDARD
TZOFFSETFROM:+0000
TZOFFSETTO:+0000
TZNAME:UTC
DTSTART:20210101T000000
END:STANDARD
END:VTIMEZONE
BEGIN:VEVENT
DTSTART;TZID=UTC:20220421T163000
DTEND;TZID=UTC:20220421T173000
DTSTAMP:20260422T130751
CREATED:20220414T074338Z
LAST-MODIFIED:20220414T074338Z
UID:10000862-1650558600-1650562200@www.carersmanchester.org.uk
SUMMARY:Clay Sculpting Workshop
DESCRIPTION:Are you an unpaid carer aged 16 – 25? Join Manchester Carers Centre for their free clay sculpting workshop on Thursday 21 April\, 4.30pm at Bridge 5 Mill\, 22A Beswick Street M4 7HR. Food and refreshments provided. \nTo book contact 07957 836 058 or email admin@manchestercarers.org.uk. \n  \n 
URL:https://www.carersmanchester.org.uk/event/clay-sculpting-workshop/
LOCATION:Bridge 5 Mill\, 22A Beswick Street\, Manchester\, M4 7HR
ATTACH;FMTTYPE=image/jpeg:https://www.carersmanchester.org.uk/wp-content/uploads/2021/11/CarersManchester_SocialPostsWide_take-a-break.jpg
END:VEVENT
END:VCALENDAR