BEGIN:VCALENDAR
VERSION:2.0
PRODID:-//The Carers Manchester Contact Point - ECPv6.15.18//NONSGML v1.0//EN
CALSCALE:GREGORIAN
METHOD:PUBLISH
X-ORIGINAL-URL:https://www.carersmanchester.org.uk
X-WR-CALDESC:Events for The Carers Manchester Contact Point
REFRESH-INTERVAL;VALUE=DURATION:PT1H
X-Robots-Tag:noindex
X-PUBLISHED-TTL:PT1H
BEGIN:VTIMEZONE
TZID:Europe/Paris
BEGIN:DAYLIGHT
TZOFFSETFROM:+0100
TZOFFSETTO:+0200
TZNAME:CEST
DTSTART:20240331T010000
END:DAYLIGHT
BEGIN:STANDARD
TZOFFSETFROM:+0200
TZOFFSETTO:+0100
TZNAME:CET
DTSTART:20241027T010000
END:STANDARD
BEGIN:DAYLIGHT
TZOFFSETFROM:+0100
TZOFFSETTO:+0200
TZNAME:CEST
DTSTART:20250330T010000
END:DAYLIGHT
BEGIN:STANDARD
TZOFFSETFROM:+0200
TZOFFSETTO:+0100
TZNAME:CET
DTSTART:20251026T010000
END:STANDARD
BEGIN:DAYLIGHT
TZOFFSETFROM:+0100
TZOFFSETTO:+0200
TZNAME:CEST
DTSTART:20260329T010000
END:DAYLIGHT
BEGIN:STANDARD
TZOFFSETFROM:+0200
TZOFFSETTO:+0100
TZNAME:CET
DTSTART:20261025T010000
END:STANDARD
END:VTIMEZONE
BEGIN:VEVENT
DTSTART;TZID=Europe/Paris:20251022T100000
DTEND;TZID=Europe/Paris:20251022T140000
DTSTAMP:20260423T165436
CREATED:20251015T152535Z
LAST-MODIFIED:20251015T152535Z
UID:10004065-1761127200-1761141600@www.carersmanchester.org.uk
SUMMARY:Unlocking Strengths: Free Autism & Neurodiversity Training for Families 
DESCRIPTION:Are you a parent or carer of an autistic child or adult\, living in Manchester?\nWould you like to better understand autism and feel more confident supporting your loved one? \nThanks to funding from Manchester Adult Social Care\, Autizma is delivering FREE one-off training sessions! \n\nClick here to learn more or book your place.
URL:https://www.carersmanchester.org.uk/event/unlocking-strengths-free-autism-neurodiversity-training-for-families/
LOCATION:online
END:VEVENT
END:VCALENDAR