BEGIN:VCALENDAR
VERSION:2.0
PRODID:-//The Carers Manchester Contact Point - ECPv6.15.18//NONSGML v1.0//EN
CALSCALE:GREGORIAN
METHOD:PUBLISH
X-WR-CALNAME:The Carers Manchester Contact Point
X-ORIGINAL-URL:https://www.carersmanchester.org.uk
X-WR-CALDESC:Events for The Carers Manchester Contact Point
REFRESH-INTERVAL;VALUE=DURATION:PT1H
X-Robots-Tag:noindex
X-PUBLISHED-TTL:PT1H
BEGIN:VTIMEZONE
TZID:Europe/Paris
BEGIN:DAYLIGHT
TZOFFSETFROM:+0100
TZOFFSETTO:+0200
TZNAME:CEST
DTSTART:20250330T010000
END:DAYLIGHT
BEGIN:STANDARD
TZOFFSETFROM:+0200
TZOFFSETTO:+0100
TZNAME:CET
DTSTART:20251026T010000
END:STANDARD
BEGIN:DAYLIGHT
TZOFFSETFROM:+0100
TZOFFSETTO:+0200
TZNAME:CEST
DTSTART:20260329T010000
END:DAYLIGHT
BEGIN:STANDARD
TZOFFSETFROM:+0200
TZOFFSETTO:+0100
TZNAME:CET
DTSTART:20261025T010000
END:STANDARD
BEGIN:DAYLIGHT
TZOFFSETFROM:+0100
TZOFFSETTO:+0200
TZNAME:CEST
DTSTART:20270328T010000
END:DAYLIGHT
BEGIN:STANDARD
TZOFFSETFROM:+0200
TZOFFSETTO:+0100
TZNAME:CET
DTSTART:20271031T010000
END:STANDARD
END:VTIMEZONE
BEGIN:VEVENT
DTSTART;TZID=Europe/Paris:20260428T170000
DTEND;TZID=Europe/Paris:20260428T190000
DTSTAMP:20260423T102928
CREATED:20260422T152119Z
LAST-MODIFIED:20260422T152135Z
UID:10004765-1777395600-1777402800@www.carersmanchester.org.uk
SUMMARY:Carers Manchester North: Young Adult Carers Bowling Night
DESCRIPTION:Are you aged 18-25? Do you look after someone who not be able to manage without you? Would you like to attend a FREE bowling session? \nIn return we would like to hear your views on support that you feel a Young Adult Carer should have. \nFor more information please contact Chloe: \n\n07716170331 (text only)\nchloe@hopewellmcr.org.uk
URL:https://www.carersmanchester.org.uk/event/carers-manchester-north-young-adult-carers-bowling-night/
LOCATION:Harpurhey Shopping Centre\, M9 4HD
END:VEVENT
END:VCALENDAR