BEGIN:VCALENDAR
VERSION:2.0
PRODID:-//The Carers Manchester Contact Point - ECPv6.15.18//NONSGML v1.0//EN
CALSCALE:GREGORIAN
METHOD:PUBLISH
X-ORIGINAL-URL:https://www.carersmanchester.org.uk
X-WR-CALDESC:Events for The Carers Manchester Contact Point
REFRESH-INTERVAL;VALUE=DURATION:PT1H
X-Robots-Tag:noindex
X-PUBLISHED-TTL:PT1H
BEGIN:VTIMEZONE
TZID:Europe/Paris
BEGIN:DAYLIGHT
TZOFFSETFROM:+0100
TZOFFSETTO:+0200
TZNAME:CEST
DTSTART:20250330T010000
END:DAYLIGHT
BEGIN:STANDARD
TZOFFSETFROM:+0200
TZOFFSETTO:+0100
TZNAME:CET
DTSTART:20251026T010000
END:STANDARD
BEGIN:DAYLIGHT
TZOFFSETFROM:+0100
TZOFFSETTO:+0200
TZNAME:CEST
DTSTART:20260329T010000
END:DAYLIGHT
BEGIN:STANDARD
TZOFFSETFROM:+0200
TZOFFSETTO:+0100
TZNAME:CET
DTSTART:20261025T010000
END:STANDARD
BEGIN:DAYLIGHT
TZOFFSETFROM:+0100
TZOFFSETTO:+0200
TZNAME:CEST
DTSTART:20270328T010000
END:DAYLIGHT
BEGIN:STANDARD
TZOFFSETFROM:+0200
TZOFFSETTO:+0100
TZNAME:CET
DTSTART:20271031T010000
END:STANDARD
END:VTIMEZONE
BEGIN:VEVENT
DTSTART;TZID=Europe/Paris:20260813T190000
DTEND;TZID=Europe/Paris:20260813T203000
DTSTAMP:20260422T204054
CREATED:20251203T094125Z
LAST-MODIFIED:20260126T100038Z
UID:10004363-1786647600-1786653000@www.carersmanchester.org.uk
SUMMARY:Kick off with a Verse (Thursday evenings)
DESCRIPTION:To sign up or learn more\, please email karindenovellis@gmail.com
URL:https://www.carersmanchester.org.uk/event/kickoffversethursday/2026-08-13/
ORGANIZER;CN="Karin De Novellis":MAILTO:karindenovellis@gmail.com
END:VEVENT
BEGIN:VEVENT
DTSTART;TZID=Europe/Paris:20260817T110000
DTEND;TZID=Europe/Paris:20260817T140000
DTSTAMP:20260422T204054
CREATED:20241213T120553Z
LAST-MODIFIED:20250519T121242Z
UID:10001722-1786964400-1786975200@www.carersmanchester.org.uk
SUMMARY:Lifted: Carers Drop-in
DESCRIPTION:
URL:https://www.carersmanchester.org.uk/event/lifted-carers-drop-in-10/2026-08-17/
LOCATION:Dandelion Community Centre\, Oatlands Road\, Manchester\, M22 1AL
END:VEVENT
BEGIN:VEVENT
DTSTART;TZID=Europe/Paris:20260817T123000
DTEND;TZID=Europe/Paris:20260817T140000
DTSTAMP:20260422T204054
CREATED:20241213T121023Z
LAST-MODIFIED:20241216T113524Z
UID:10001980-1786969800-1786975200@www.carersmanchester.org.uk
SUMMARY:Lifted: Uplift Meal
DESCRIPTION:
URL:https://www.carersmanchester.org.uk/event/lifted-uplift-meal-10/2026-08-17/
LOCATION:Dandelion Community Centre\, Oatlands Road\, Manchester\, M22 1AL
END:VEVENT
BEGIN:VEVENT
DTSTART;TZID=Europe/Paris:20260819T133000
DTEND;TZID=Europe/Paris:20260819T153000
DTSTAMP:20260422T204054
CREATED:20250618T154559Z
LAST-MODIFIED:20250618T154559Z
UID:10003862-1787146200-1787153400@www.carersmanchester.org.uk
SUMMARY:Manchester Carers Forum: Cheetham and Crumpsall support group
DESCRIPTION:3rd Wednesday of every month\, 12.30-2.30pm\nUkrainian Cultural Centre\, 31 Smedley Lane\, Cheetham Hill M8 8XB\n\nPlease contact Karen prior to attending in case of last-minute changes: \n\n07903 685435\nor karen@manchestercarersforum.org.uk\n\n  \n 
URL:https://www.carersmanchester.org.uk/event/manchester-carers-forum-cheetham-and-crumpsall-support-group-4/2026-08-19/
LOCATION:Ukrainian Cultural Centre\, 31 Smedley Lane\, Cheetham Hill\,\, Manchester\, M8 8XB
END:VEVENT
BEGIN:VEVENT
DTSTART;TZID=Europe/Paris:20260819T140000
DTEND;TZID=Europe/Paris:20260819T153000
DTSTAMP:20260422T204054
CREATED:20251203T093803Z
LAST-MODIFIED:20260126T100139Z
UID:10004109-1787148000-1787153400@www.carersmanchester.org.uk
SUMMARY:Kick off with a Verse (Wednesday afternoons)
DESCRIPTION:To sign up or learn more\, please email karindenovellis@gmail.com
URL:https://www.carersmanchester.org.uk/event/kickoffverse/2026-08-19/
LOCATION:online
ORGANIZER;CN="Karin De Novellis":MAILTO:karindenovellis@gmail.com
END:VEVENT
BEGIN:VEVENT
DTSTART;TZID=Europe/Paris:20260820T123000
DTEND;TZID=Europe/Paris:20260820T143000
DTSTAMP:20260422T204054
CREATED:20260307T144000Z
LAST-MODIFIED:20260307T144025Z
UID:10004728-1787229000-1787236200@www.carersmanchester.org.uk
SUMMARY:Manchester Carers Forum: Cheetham Hill Carers Peer Support Group
DESCRIPTION:Wednesday 19th March\, 12.30-2.30pm (3rd Wednesday of the month)\nUkrainian Club 31 Smedley Lane\, Cheetham Hill M8 8XB\nContact – Karen on 07903 685435\n\nkaren@manchestercarersforum.org.uk \n  \n*Please contact the organiser prior to attending in case of last minute changes in the month.*
URL:https://www.carersmanchester.org.uk/event/manchester-carers-forum-cheetham-hill-carers-peer-support-group/2026-08-20/
LOCATION:Ukrainian Club\, 31 Smedley Lane\, Cheetham Hill\, M8 8XB
END:VEVENT
BEGIN:VEVENT
DTSTART;TZID=Europe/Paris:20260820T190000
DTEND;TZID=Europe/Paris:20260820T203000
DTSTAMP:20260422T204054
CREATED:20251203T094125Z
LAST-MODIFIED:20260126T100038Z
UID:10004364-1787252400-1787257800@www.carersmanchester.org.uk
SUMMARY:Kick off with a Verse (Thursday evenings)
DESCRIPTION:To sign up or learn more\, please email karindenovellis@gmail.com
URL:https://www.carersmanchester.org.uk/event/kickoffversethursday/2026-08-20/
ORGANIZER;CN="Karin De Novellis":MAILTO:karindenovellis@gmail.com
END:VEVENT
BEGIN:VEVENT
DTSTART;TZID=Europe/Paris:20260824T110000
DTEND;TZID=Europe/Paris:20260824T140000
DTSTAMP:20260422T204054
CREATED:20241213T120553Z
LAST-MODIFIED:20250519T121242Z
UID:10001723-1787569200-1787580000@www.carersmanchester.org.uk
SUMMARY:Lifted: Carers Drop-in
DESCRIPTION:
URL:https://www.carersmanchester.org.uk/event/lifted-carers-drop-in-10/2026-08-24/
LOCATION:Dandelion Community Centre\, Oatlands Road\, Manchester\, M22 1AL
END:VEVENT
BEGIN:VEVENT
DTSTART;TZID=Europe/Paris:20260824T123000
DTEND;TZID=Europe/Paris:20260824T140000
DTSTAMP:20260422T204054
CREATED:20241213T121023Z
LAST-MODIFIED:20241216T113524Z
UID:10001981-1787574600-1787580000@www.carersmanchester.org.uk
SUMMARY:Lifted: Uplift Meal
DESCRIPTION:
URL:https://www.carersmanchester.org.uk/event/lifted-uplift-meal-10/2026-08-24/
LOCATION:Dandelion Community Centre\, Oatlands Road\, Manchester\, M22 1AL
END:VEVENT
BEGIN:VEVENT
DTSTART;TZID=Europe/Paris:20260826T140000
DTEND;TZID=Europe/Paris:20260826T153000
DTSTAMP:20260422T204054
CREATED:20251203T093803Z
LAST-MODIFIED:20260126T100139Z
UID:10004110-1787752800-1787758200@www.carersmanchester.org.uk
SUMMARY:Kick off with a Verse (Wednesday afternoons)
DESCRIPTION:To sign up or learn more\, please email karindenovellis@gmail.com
URL:https://www.carersmanchester.org.uk/event/kickoffverse/2026-08-26/
LOCATION:online
ORGANIZER;CN="Karin De Novellis":MAILTO:karindenovellis@gmail.com
END:VEVENT
BEGIN:VEVENT
DTSTART;TZID=Europe/Paris:20260827T190000
DTEND;TZID=Europe/Paris:20260827T203000
DTSTAMP:20260422T204054
CREATED:20251203T094125Z
LAST-MODIFIED:20260126T100038Z
UID:10004365-1787857200-1787862600@www.carersmanchester.org.uk
SUMMARY:Kick off with a Verse (Thursday evenings)
DESCRIPTION:To sign up or learn more\, please email karindenovellis@gmail.com
URL:https://www.carersmanchester.org.uk/event/kickoffversethursday/2026-08-27/
ORGANIZER;CN="Karin De Novellis":MAILTO:karindenovellis@gmail.com
END:VEVENT
BEGIN:VEVENT
DTSTART;TZID=Europe/Paris:20260828T103000
DTEND;TZID=Europe/Paris:20260828T123000
DTSTAMP:20260422T204054
CREATED:20250618T153827Z
LAST-MODIFIED:20260307T144346Z
UID:10003732-1787913000-1787920200@www.carersmanchester.org.uk
SUMMARY:Recurring event - Manchester Carers Forum: Blackley Carers Peer Support
DESCRIPTION:Friday 27th March\, 10.30am-12.30pm (Last Friday of the month)\nThe Avenue Library Learning Centre\, 9 Victoria Ave East\, Blackley\, M9 6HW\nContact – Karen on 07903 685435\n\nkaren@manchestercarersforum.org.uk \n*Please contact the organiser prior to attending in case of last minute changes in the month.*
URL:https://www.carersmanchester.org.uk/event/blackley-peer-support/2026-08-28/
LOCATION:The Avenue Library and Learning Centre\, 9 Victoria Avenue East\, Manchester\, M9 6HW
END:VEVENT
BEGIN:VEVENT
DTSTART;TZID=Europe/Paris:20260831T110000
DTEND;TZID=Europe/Paris:20260831T140000
DTSTAMP:20260422T204054
CREATED:20241213T120553Z
LAST-MODIFIED:20250519T121242Z
UID:10001724-1788174000-1788184800@www.carersmanchester.org.uk
SUMMARY:Lifted: Carers Drop-in
DESCRIPTION:
URL:https://www.carersmanchester.org.uk/event/lifted-carers-drop-in-10/2026-08-31/
LOCATION:Dandelion Community Centre\, Oatlands Road\, Manchester\, M22 1AL
END:VEVENT
BEGIN:VEVENT
DTSTART;TZID=Europe/Paris:20260831T123000
DTEND;TZID=Europe/Paris:20260831T140000
DTSTAMP:20260422T204054
CREATED:20241213T121023Z
LAST-MODIFIED:20241216T113524Z
UID:10001982-1788179400-1788184800@www.carersmanchester.org.uk
SUMMARY:Lifted: Uplift Meal
DESCRIPTION:
URL:https://www.carersmanchester.org.uk/event/lifted-uplift-meal-10/2026-08-31/
LOCATION:Dandelion Community Centre\, Oatlands Road\, Manchester\, M22 1AL
END:VEVENT
BEGIN:VEVENT
DTSTART;TZID=Europe/Paris:20260902T140000
DTEND;TZID=Europe/Paris:20260902T153000
DTSTAMP:20260422T204054
CREATED:20251203T093803Z
LAST-MODIFIED:20260126T100139Z
UID:10004111-1788357600-1788363000@www.carersmanchester.org.uk
SUMMARY:Kick off with a Verse (Wednesday afternoons)
DESCRIPTION:To sign up or learn more\, please email karindenovellis@gmail.com
URL:https://www.carersmanchester.org.uk/event/kickoffverse/2026-09-02/
LOCATION:online
ORGANIZER;CN="Karin De Novellis":MAILTO:karindenovellis@gmail.com
END:VEVENT
BEGIN:VEVENT
DTSTART;TZID=Europe/Paris:20260903T133000
DTEND;TZID=Europe/Paris:20260903T153000
DTSTAMP:20260422T204054
CREATED:20251009T140514Z
LAST-MODIFIED:20251009T141034Z
UID:10004013-1788442200-1788449400@www.carersmanchester.org.uk
SUMMARY:Recurring event - East Manchester carer support group
DESCRIPTION:For more information\, please contact: \n\nkaren@manchestercarersforum.org.uk\n07903685435
URL:https://www.carersmanchester.org.uk/event/east-support-group/2026-09-03/
LOCATION:Asda Eastlands\, The community room\, Ashton New Road\, M11 4DB
END:VEVENT
BEGIN:VEVENT
DTSTART;TZID=Europe/Paris:20260903T140000
DTEND;TZID=Europe/Paris:20260903T153000
DTSTAMP:20260422T204054
CREATED:20260307T142307Z
LAST-MODIFIED:20260307T142307Z
UID:10004639-1788444000-1788449400@www.carersmanchester.org.uk
SUMMARY:East Manchester Peer Support Group
DESCRIPTION:Thursday 5th March\, 2.00pm – 3.30pm (1st Thursday of every month)\nAsda Eastlands\, The community room\, Ashton New Road M11 4DB\nContact – Karen on 07903 685435\n\nkaren@manchestercarersforum.org.uk \n  \n\n\n\n\n\n\n\n\n*Please contact the organiser prior to attending in case of last minute changes in the month.*
URL:https://www.carersmanchester.org.uk/event/east-manchester-peer-support-group/2026-09-03/
LOCATION:Asda Eastlands\, The community room\, Ashton New Road\, M11 4DB
END:VEVENT
BEGIN:VEVENT
DTSTART;TZID=Europe/Paris:20260903T190000
DTEND;TZID=Europe/Paris:20260903T203000
DTSTAMP:20260422T204054
CREATED:20251203T094125Z
LAST-MODIFIED:20260126T100038Z
UID:10004366-1788462000-1788467400@www.carersmanchester.org.uk
SUMMARY:Kick off with a Verse (Thursday evenings)
DESCRIPTION:To sign up or learn more\, please email karindenovellis@gmail.com
URL:https://www.carersmanchester.org.uk/event/kickoffversethursday/2026-09-03/
ORGANIZER;CN="Karin De Novellis":MAILTO:karindenovellis@gmail.com
END:VEVENT
BEGIN:VEVENT
DTSTART;TZID=Europe/Paris:20260904T140000
DTEND;TZID=Europe/Paris:20260904T153000
DTSTAMP:20260422T204054
CREATED:20250618T155142Z
LAST-MODIFIED:20250618T155142Z
UID:10003932-1788530400-1788535800@www.carersmanchester.org.uk
SUMMARY:Recurring event - Manchester Carers Forum: Burnage Carers Peer Support Group
DESCRIPTION:Please contact the organiser prior to attending\, in case of last minute changes. \n\n1st Friday of every month\, 2-3.30pm\nThe Burnage Library\, Burnage Ln\, Manchester M19 1EW\nContact Daniel on 07415 436382 or daniel@manchestercarersforum.org.uk
URL:https://www.carersmanchester.org.uk/event/burnage-peer-support/2026-09-04/
LOCATION:Burnage Library\, Burnage Lane\, Manchester\, M19 1EW
END:VEVENT
BEGIN:VEVENT
DTSTART;TZID=Europe/Paris:20260904T140000
DTEND;TZID=Europe/Paris:20260904T153000
DTSTAMP:20260422T204054
CREATED:20260307T142813Z
LAST-MODIFIED:20260307T142813Z
UID:10004669-1788530400-1788535800@www.carersmanchester.org.uk
SUMMARY:Manchester Carers Forum: Burnage Carers Peer Support Group
DESCRIPTION:Friday 6th March\, 2.00pm – 3.30pm (1st Friday of every month)\nThe Burnage Library\, Burnage Lane\, Manchester M19 1EW\nContact – Daniel on 07415 436382\n\ndaniel@manchestercarersforum.org.uk \n*Please contact the organiser prior to attending in case of last minute changes in the month.*
URL:https://www.carersmanchester.org.uk/event/manchester-carers-forum-burnage-carers-peer-support-group-3/2026-09-04/
LOCATION:The Burnage Library\, Burnage Lane\, Manchester\, M19 1EW
END:VEVENT
BEGIN:VEVENT
DTSTART;TZID=Europe/Paris:20260907T110000
DTEND;TZID=Europe/Paris:20260907T140000
DTSTAMP:20260422T204054
CREATED:20241213T120553Z
LAST-MODIFIED:20250519T121242Z
UID:10001725-1788778800-1788789600@www.carersmanchester.org.uk
SUMMARY:Lifted: Carers Drop-in
DESCRIPTION:
URL:https://www.carersmanchester.org.uk/event/lifted-carers-drop-in-10/2026-09-07/
LOCATION:Dandelion Community Centre\, Oatlands Road\, Manchester\, M22 1AL
END:VEVENT
BEGIN:VEVENT
DTSTART;TZID=Europe/Paris:20260907T123000
DTEND;TZID=Europe/Paris:20260907T140000
DTSTAMP:20260422T204054
CREATED:20241213T121023Z
LAST-MODIFIED:20241216T113524Z
UID:10001983-1788784200-1788789600@www.carersmanchester.org.uk
SUMMARY:Lifted: Uplift Meal
DESCRIPTION:
URL:https://www.carersmanchester.org.uk/event/lifted-uplift-meal-10/2026-09-07/
LOCATION:Dandelion Community Centre\, Oatlands Road\, Manchester\, M22 1AL
END:VEVENT
BEGIN:VEVENT
DTSTART;TZID=Europe/Paris:20260908T130000
DTEND;TZID=Europe/Paris:20260908T144500
DTSTAMP:20260422T204054
CREATED:20260307T143226Z
LAST-MODIFIED:20260307T143226Z
UID:10004699-1788872400-1788878700@www.carersmanchester.org.uk
SUMMARY:Manchester Carers Forum: Wythenshawe Carers Peer Support Group
DESCRIPTION:Tuesday 10th March\, 1pm – 2.45pm (2nd Tuesday of every month)\nDandelion Community\, Oatlands Road\, Wythenshawe\, M22 1AH\nContact – Daniel on 07415436382\n\ndaniel@manchestercarersforum.org.uk  \n*Please contact the organiser prior to attending in case of last minute changes in the month.*
URL:https://www.carersmanchester.org.uk/event/manchester-carers-forum-wythenshawe-carers-peer-support-group-2/2026-09-08/
LOCATION:Dandelion Community Centre\, Oatlands Road\, Manchester\, M22 1AL
END:VEVENT
BEGIN:VEVENT
DTSTART;TZID=Europe/Paris:20260909T140000
DTEND;TZID=Europe/Paris:20260909T153000
DTSTAMP:20260422T204054
CREATED:20251203T093803Z
LAST-MODIFIED:20260126T100139Z
UID:10004112-1788962400-1788967800@www.carersmanchester.org.uk
SUMMARY:Kick off with a Verse (Wednesday afternoons)
DESCRIPTION:To sign up or learn more\, please email karindenovellis@gmail.com
URL:https://www.carersmanchester.org.uk/event/kickoffverse/2026-09-09/
LOCATION:online
ORGANIZER;CN="Karin De Novellis":MAILTO:karindenovellis@gmail.com
END:VEVENT
BEGIN:VEVENT
DTSTART;TZID=Europe/Paris:20260910T190000
DTEND;TZID=Europe/Paris:20260910T203000
DTSTAMP:20260422T204054
CREATED:20251203T094125Z
LAST-MODIFIED:20260126T100038Z
UID:10004367-1789066800-1789072200@www.carersmanchester.org.uk
SUMMARY:Kick off with a Verse (Thursday evenings)
DESCRIPTION:To sign up or learn more\, please email karindenovellis@gmail.com
URL:https://www.carersmanchester.org.uk/event/kickoffversethursday/2026-09-10/
ORGANIZER;CN="Karin De Novellis":MAILTO:karindenovellis@gmail.com
END:VEVENT
BEGIN:VEVENT
DTSTART;TZID=Europe/Paris:20260914T110000
DTEND;TZID=Europe/Paris:20260914T140000
DTSTAMP:20260422T204054
CREATED:20241213T120553Z
LAST-MODIFIED:20250519T121242Z
UID:10001726-1789383600-1789394400@www.carersmanchester.org.uk
SUMMARY:Lifted: Carers Drop-in
DESCRIPTION:
URL:https://www.carersmanchester.org.uk/event/lifted-carers-drop-in-10/2026-09-14/
LOCATION:Dandelion Community Centre\, Oatlands Road\, Manchester\, M22 1AL
END:VEVENT
BEGIN:VEVENT
DTSTART;TZID=Europe/Paris:20260914T123000
DTEND;TZID=Europe/Paris:20260914T140000
DTSTAMP:20260422T204054
CREATED:20241213T121023Z
LAST-MODIFIED:20241216T113524Z
UID:10001984-1789389000-1789394400@www.carersmanchester.org.uk
SUMMARY:Lifted: Uplift Meal
DESCRIPTION:
URL:https://www.carersmanchester.org.uk/event/lifted-uplift-meal-10/2026-09-14/
LOCATION:Dandelion Community Centre\, Oatlands Road\, Manchester\, M22 1AL
END:VEVENT
BEGIN:VEVENT
DTSTART;TZID=Europe/Paris:20260916T133000
DTEND;TZID=Europe/Paris:20260916T153000
DTSTAMP:20260422T204054
CREATED:20250618T154559Z
LAST-MODIFIED:20250618T154559Z
UID:10003863-1789565400-1789572600@www.carersmanchester.org.uk
SUMMARY:Manchester Carers Forum: Cheetham and Crumpsall support group
DESCRIPTION:3rd Wednesday of every month\, 12.30-2.30pm\nUkrainian Cultural Centre\, 31 Smedley Lane\, Cheetham Hill M8 8XB\n\nPlease contact Karen prior to attending in case of last-minute changes: \n\n07903 685435\nor karen@manchestercarersforum.org.uk\n\n  \n 
URL:https://www.carersmanchester.org.uk/event/manchester-carers-forum-cheetham-and-crumpsall-support-group-4/2026-09-16/
LOCATION:Ukrainian Cultural Centre\, 31 Smedley Lane\, Cheetham Hill\,\, Manchester\, M8 8XB
END:VEVENT
BEGIN:VEVENT
DTSTART;TZID=Europe/Paris:20260916T140000
DTEND;TZID=Europe/Paris:20260916T153000
DTSTAMP:20260422T204054
CREATED:20251203T093803Z
LAST-MODIFIED:20260126T100139Z
UID:10004113-1789567200-1789572600@www.carersmanchester.org.uk
SUMMARY:Kick off with a Verse (Wednesday afternoons)
DESCRIPTION:To sign up or learn more\, please email karindenovellis@gmail.com
URL:https://www.carersmanchester.org.uk/event/kickoffverse/2026-09-16/
LOCATION:online
ORGANIZER;CN="Karin De Novellis":MAILTO:karindenovellis@gmail.com
END:VEVENT
BEGIN:VEVENT
DTSTART;TZID=Europe/Paris:20260917T123000
DTEND;TZID=Europe/Paris:20260917T143000
DTSTAMP:20260422T204054
CREATED:20260307T144000Z
LAST-MODIFIED:20260307T144025Z
UID:10004729-1789648200-1789655400@www.carersmanchester.org.uk
SUMMARY:Manchester Carers Forum: Cheetham Hill Carers Peer Support Group
DESCRIPTION:Wednesday 19th March\, 12.30-2.30pm (3rd Wednesday of the month)\nUkrainian Club 31 Smedley Lane\, Cheetham Hill M8 8XB\nContact – Karen on 07903 685435\n\nkaren@manchestercarersforum.org.uk \n  \n*Please contact the organiser prior to attending in case of last minute changes in the month.*
URL:https://www.carersmanchester.org.uk/event/manchester-carers-forum-cheetham-hill-carers-peer-support-group/2026-09-17/
LOCATION:Ukrainian Club\, 31 Smedley Lane\, Cheetham Hill\, M8 8XB
END:VEVENT
END:VCALENDAR