BEGIN:VCALENDAR
VERSION:2.0
PRODID:-//The Carers Manchester Contact Point - ECPv6.15.18//NONSGML v1.0//EN
CALSCALE:GREGORIAN
METHOD:PUBLISH
X-WR-CALNAME:The Carers Manchester Contact Point
X-ORIGINAL-URL:https://www.carersmanchester.org.uk
X-WR-CALDESC:Events for The Carers Manchester Contact Point
REFRESH-INTERVAL;VALUE=DURATION:PT1H
X-Robots-Tag:noindex
X-PUBLISHED-TTL:PT1H
BEGIN:VTIMEZONE
TZID:Europe/Paris
BEGIN:DAYLIGHT
TZOFFSETFROM:+0100
TZOFFSETTO:+0200
TZNAME:CEST
DTSTART:20240331T010000
END:DAYLIGHT
BEGIN:STANDARD
TZOFFSETFROM:+0200
TZOFFSETTO:+0100
TZNAME:CET
DTSTART:20241027T010000
END:STANDARD
BEGIN:DAYLIGHT
TZOFFSETFROM:+0100
TZOFFSETTO:+0200
TZNAME:CEST
DTSTART:20250330T010000
END:DAYLIGHT
BEGIN:STANDARD
TZOFFSETFROM:+0200
TZOFFSETTO:+0100
TZNAME:CET
DTSTART:20251026T010000
END:STANDARD
BEGIN:DAYLIGHT
TZOFFSETFROM:+0100
TZOFFSETTO:+0200
TZNAME:CEST
DTSTART:20260329T010000
END:DAYLIGHT
BEGIN:STANDARD
TZOFFSETFROM:+0200
TZOFFSETTO:+0100
TZNAME:CET
DTSTART:20261025T010000
END:STANDARD
END:VTIMEZONE
BEGIN:VEVENT
DTSTART;TZID=Europe/Paris:20250317T123000
DTEND;TZID=Europe/Paris:20250317T140000
DTSTAMP:20260422T220504
CREATED:20241213T121023Z
LAST-MODIFIED:20241216T113524Z
UID:10001906-1742214600-1742220000@www.carersmanchester.org.uk
SUMMARY:Lifted: Uplift Meal
DESCRIPTION:
URL:https://www.carersmanchester.org.uk/event/lifted-uplift-meal-10/2025-03-17/
LOCATION:Dandelion Community Centre\, Oatlands Road\, Manchester\, M22 1AL
END:VEVENT
BEGIN:VEVENT
DTSTART;TZID=Europe/Paris:20250317T110000
DTEND;TZID=Europe/Paris:20250317T140000
DTSTAMP:20260422T220505
CREATED:20241213T120553Z
LAST-MODIFIED:20250519T121242Z
UID:10001648-1742209200-1742220000@www.carersmanchester.org.uk
SUMMARY:Lifted: Carers Drop-in
DESCRIPTION:
URL:https://www.carersmanchester.org.uk/event/lifted-carers-drop-in-10/2025-03-17/
LOCATION:Dandelion Community Centre\, Oatlands Road\, Manchester\, M22 1AL
END:VEVENT
BEGIN:VEVENT
DTSTART;TZID=Europe/Paris:20250313T130000
DTEND;TZID=Europe/Paris:20250313T150000
DTSTAMP:20260422T220505
CREATED:20250211T170033Z
LAST-MODIFIED:20250224T125342Z
UID:10003175-1741870800-1741878000@www.carersmanchester.org.uk
SUMMARY:Together dementia support: Carers trip to the smart Suite Manchester Equipment and Adaptations Partnership (MEAP) building
DESCRIPTION:Contact paula@togetherdementiasupport.org
URL:https://www.carersmanchester.org.uk/event/together-dementia-support-carers-trip-to-the-smart-suite-manchester-equipment-and-adaptations-partnership-meap-building/
END:VEVENT
BEGIN:VEVENT
DTSTART;TZID=Europe/Paris:20250313T103000
DTEND;TZID=Europe/Paris:20250313T123000
DTSTAMP:20260422T220505
CREATED:20250226T153410Z
LAST-MODIFIED:20250226T153410Z
UID:10003215-1741861800-1741869000@www.carersmanchester.org.uk
SUMMARY:British Liver Trust and Liver Cancer UK: Manchester support group
DESCRIPTION:
URL:https://www.carersmanchester.org.uk/event/british-liver-trust-and-liver-cancer-uk-manchester-support-group/
LOCATION:422 Community Hub\, 422 Community Hub\, Stockport Road\, Manchester\, M12 4EX
END:VEVENT
BEGIN:VEVENT
DTSTART;TZID=Europe/Paris:20250312T190000
DTEND;TZID=Europe/Paris:20250312T203000
DTSTAMP:20260422T220505
CREATED:20250211T165514Z
LAST-MODIFIED:20250211T165514Z
UID:10003118-1741806000-1741811400@www.carersmanchester.org.uk
SUMMARY:Together dementia support: Zoom Dementia Carers Training 4 week course
DESCRIPTION:Contact beth@togetherdementiasupport.org
URL:https://www.carersmanchester.org.uk/event/together-dementia-support-zoom-dementia-carers-training-4-week-course/2025-03-12/
END:VEVENT
BEGIN:VEVENT
DTSTART;TZID=Europe/Paris:20250312T110000
DTEND;TZID=Europe/Paris:20250312T130000
DTSTAMP:20260422T220505
CREATED:20250117T135335Z
LAST-MODIFIED:20250117T135442Z
UID:10002502-1741777200-1741784400@www.carersmanchester.org.uk
SUMMARY:Lifted: Walking Group
DESCRIPTION:Text from organiser: \nEvery Wednesday\, staff and carers and family who attend Lifted. Meet up for a lovely walk around Wythenshawe park. \nThe group meet up at the Cafe from there they set off as a group. Half way around the walk the group splits into two groups. One for those who want to do the 1 mile walk\, the other group for those who want to do a 2 or 3 mile walk. \nThe group meet back up at the cafe for a hot drink and a chat. \n  \nWe welcome all new walkers regardless of walking ability we cater for everyone! Still not sure why not read our blog about the walking group – Link \nLifted walking group – Every Wednesday at 11am – 1pm. Make sure to drop us a text or email to let us know you are coming.\nCall/text us on:07385568990 Or 07384784262 \nOr email us: info@liftedcarerscentre.org.uk
URL:https://www.carersmanchester.org.uk/event/lifted-walking-group-10/2025-03-12/
LOCATION:Wythenshawe Park\, Manchester\, M23 0AB
END:VEVENT
BEGIN:VEVENT
DTSTART;TZID=Europe/Paris:20250312T103000
DTEND;TZID=Europe/Paris:20250312T123000
DTSTAMP:20260422T220505
CREATED:20250113T090408Z
LAST-MODIFIED:20250113T090408Z
UID:10002428-1741775400-1741782600@www.carersmanchester.org.uk
SUMMARY:ACCG: Carers 6 Week Ceramics Workshop
DESCRIPTION:
URL:https://www.carersmanchester.org.uk/event/accg-carers-6-week-ceramics-workshop/2025-03-12/
LOCATION:Claremont Resource Centre\, 2 Jarvis Road\, Manchester\, M15 5FS
END:VEVENT
BEGIN:VEVENT
DTSTART;TZID=Europe/Paris:20250310T123000
DTEND;TZID=Europe/Paris:20250310T140000
DTSTAMP:20260422T220505
CREATED:20241213T121023Z
LAST-MODIFIED:20241216T113524Z
UID:10001905-1741609800-1741615200@www.carersmanchester.org.uk
SUMMARY:Lifted: Uplift Meal
DESCRIPTION:
URL:https://www.carersmanchester.org.uk/event/lifted-uplift-meal-10/2025-03-10/
LOCATION:Dandelion Community Centre\, Oatlands Road\, Manchester\, M22 1AL
END:VEVENT
BEGIN:VEVENT
DTSTART;TZID=Europe/Paris:20250310T110000
DTEND;TZID=Europe/Paris:20250310T140000
DTSTAMP:20260422T220505
CREATED:20241213T120553Z
LAST-MODIFIED:20250519T121242Z
UID:10001647-1741604400-1741615200@www.carersmanchester.org.uk
SUMMARY:Lifted: Carers Drop-in
DESCRIPTION:
URL:https://www.carersmanchester.org.uk/event/lifted-carers-drop-in-10/2025-03-10/
LOCATION:Dandelion Community Centre\, Oatlands Road\, Manchester\, M22 1AL
END:VEVENT
BEGIN:VEVENT
DTSTART;TZID=Europe/Paris:20250308T100000
DTEND;TZID=Europe/Paris:20250308T110000
DTSTAMP:20260422T220505
CREATED:20250127T130325Z
LAST-MODIFIED:20250127T130325Z
UID:10003092-1741428000-1741431600@www.carersmanchester.org.uk
SUMMARY:Creative Care – Art for Kids with Additional Needs
DESCRIPTION:Text from organiser: \nCreative Care – Art for Kids with Additional Needs\n\nEvery other Saturday\, 10-11am\n@ Z-Arts\, 335 Stretford Road\, Hulme\, M15 5ZA\nThese inclusive sessions are open to children aged 8 to 16 and are led by Kirsty Gbasai\, a talented Artist & Freelance Creative Practitioner. The sessions celebrate diverse ways of thinking and learning\, offering a welcoming space for children to express their creativity. \nDuring each session\, children will have the chance to explore a range of art techniques\, from painting and drawing to collage and mixed media. \nThis isn’t a one-size-fits-all approach – we encourage each child to explore their own ideas\, experiment\, and try new techniques in a supportive and creative environment. \nFor a full list of dates\, visit the Z-arts Event Page. \nFor more information\, please reach out to Tabitha at tabitha@z-arts.org or call 0161 697 5916.
URL:https://www.carersmanchester.org.uk/event/creative-care-art-for-kids-with-additional-needs/2025-03-08/
LOCATION:Z-Arts\, 335 Stretford Road\, M15 5ZA
END:VEVENT
BEGIN:VEVENT
DTSTART;TZID=Europe/Paris:20250307T140000
DTEND;TZID=Europe/Paris:20250307T153000
DTSTAMP:20260422T220505
CREATED:20250618T155142Z
LAST-MODIFIED:20250618T155142Z
UID:10003914-1741356000-1741361400@www.carersmanchester.org.uk
SUMMARY:Recurring event - Manchester Carers Forum: Burnage Carers Peer Support Group
DESCRIPTION:Please contact the organiser prior to attending\, in case of last minute changes. \n\n1st Friday of every month\, 2-3.30pm\nThe Burnage Library\, Burnage Ln\, Manchester M19 1EW\nContact Daniel on 07415 436382 or daniel@manchestercarersforum.org.uk
URL:https://www.carersmanchester.org.uk/event/burnage-peer-support/2025-03-07/
LOCATION:Burnage Library\, Burnage Lane\, Manchester\, M19 1EW
END:VEVENT
BEGIN:VEVENT
DTSTART;TZID=Europe/Paris:20250306T190000
DTEND;TZID=Europe/Paris:20250306T210000
DTSTAMP:20260422T220505
CREATED:20250211T165907Z
LAST-MODIFIED:20250211T165907Z
UID:10003174-1741287600-1741294800@www.carersmanchester.org.uk
SUMMARY:Together dementia support: Carers Manchester North trip to the Royal Exchange\, ‘escaped alone and what if if only’
DESCRIPTION:Contact Holly@togetherdementiasupport.org
URL:https://www.carersmanchester.org.uk/event/together-dementia-support-carers-manchester-north-trip-to-the-royal-exchange-escaped-alone-and-what-if-if-only/
END:VEVENT
BEGIN:VEVENT
DTSTART;TZID=Europe/Paris:20250306T110000
DTEND;TZID=Europe/Paris:20250306T130000
DTSTAMP:20260422T220505
CREATED:20250211T165647Z
LAST-MODIFIED:20250211T165647Z
UID:10003173-1741258800-1741266000@www.carersmanchester.org.uk
SUMMARY:Together dementia support: Carers Spring walk in Wythenshawe Park
DESCRIPTION:Contact beth@togetherdementiasupport.org
URL:https://www.carersmanchester.org.uk/event/together-dementia-support-carers-spring-walk-in-wythenshawe-park/
END:VEVENT
BEGIN:VEVENT
DTSTART;TZID=Europe/Paris:20250305T190000
DTEND;TZID=Europe/Paris:20250305T203000
DTSTAMP:20260422T220505
CREATED:20250211T165514Z
LAST-MODIFIED:20250211T165514Z
UID:10003117-1741201200-1741206600@www.carersmanchester.org.uk
SUMMARY:Together dementia support: Zoom Dementia Carers Training 4 week course
DESCRIPTION:Contact beth@togetherdementiasupport.org
URL:https://www.carersmanchester.org.uk/event/together-dementia-support-zoom-dementia-carers-training-4-week-course/2025-03-05/
END:VEVENT
BEGIN:VEVENT
DTSTART;TZID=Europe/Paris:20250305T110000
DTEND;TZID=Europe/Paris:20250305T130000
DTSTAMP:20260422T220505
CREATED:20250117T135335Z
LAST-MODIFIED:20250117T135442Z
UID:10002501-1741172400-1741179600@www.carersmanchester.org.uk
SUMMARY:Lifted: Walking Group
DESCRIPTION:Text from organiser: \nEvery Wednesday\, staff and carers and family who attend Lifted. Meet up for a lovely walk around Wythenshawe park. \nThe group meet up at the Cafe from there they set off as a group. Half way around the walk the group splits into two groups. One for those who want to do the 1 mile walk\, the other group for those who want to do a 2 or 3 mile walk. \nThe group meet back up at the cafe for a hot drink and a chat. \n  \nWe welcome all new walkers regardless of walking ability we cater for everyone! Still not sure why not read our blog about the walking group – Link \nLifted walking group – Every Wednesday at 11am – 1pm. Make sure to drop us a text or email to let us know you are coming.\nCall/text us on:07385568990 Or 07384784262 \nOr email us: info@liftedcarerscentre.org.uk
URL:https://www.carersmanchester.org.uk/event/lifted-walking-group-10/2025-03-05/
LOCATION:Wythenshawe Park\, Manchester\, M23 0AB
END:VEVENT
BEGIN:VEVENT
DTSTART;TZID=Europe/Paris:20250305T103000
DTEND;TZID=Europe/Paris:20250305T130000
DTSTAMP:20260422T220505
CREATED:20250227T115703Z
LAST-MODIFIED:20250227T115703Z
UID:10003217-1741170600-1741179600@www.carersmanchester.org.uk
SUMMARY:Lifted: walking trip around Manchester Museum
DESCRIPTION:To learn more or book your place\, contact: \nkate@liftedmcr.org.uk \n07538589345
URL:https://www.carersmanchester.org.uk/event/lifted-walking-trip-around-manchester-museum/
END:VEVENT
BEGIN:VEVENT
DTSTART;TZID=Europe/Paris:20250305T103000
DTEND;TZID=Europe/Paris:20250305T123000
DTSTAMP:20260422T220505
CREATED:20250113T090408Z
LAST-MODIFIED:20250113T090408Z
UID:10002427-1741170600-1741177800@www.carersmanchester.org.uk
SUMMARY:ACCG: Carers 6 Week Ceramics Workshop
DESCRIPTION:
URL:https://www.carersmanchester.org.uk/event/accg-carers-6-week-ceramics-workshop/2025-03-05/
LOCATION:Claremont Resource Centre\, 2 Jarvis Road\, Manchester\, M15 5FS
END:VEVENT
BEGIN:VEVENT
DTSTART;TZID=Europe/Paris:20250304T110000
DTEND;TZID=Europe/Paris:20250304T130000
DTSTAMP:20260422T220505
CREATED:20250212T101413Z
LAST-MODIFIED:20250212T104227Z
UID:10003180-1741086000-1741093200@www.carersmanchester.org.uk
SUMMARY:Carers Manchester South: drop in
DESCRIPTION:If you have any questions about this drop in\, please email cmsouth@manchestercarersforum.org.uk
URL:https://www.carersmanchester.org.uk/event/carers-manchester-south-drop-in/
LOCATION:Barlow Moor Community Association\, 23 Merseybank Avenue\, Manchester\, M21 7NT
END:VEVENT
BEGIN:VEVENT
DTSTART;TZID=Europe/Paris:20250303T123000
DTEND;TZID=Europe/Paris:20250303T140000
DTSTAMP:20260422T220505
CREATED:20241213T121023Z
LAST-MODIFIED:20241216T113524Z
UID:10001904-1741005000-1741010400@www.carersmanchester.org.uk
SUMMARY:Lifted: Uplift Meal
DESCRIPTION:
URL:https://www.carersmanchester.org.uk/event/lifted-uplift-meal-10/2025-03-03/
LOCATION:Dandelion Community Centre\, Oatlands Road\, Manchester\, M22 1AL
END:VEVENT
BEGIN:VEVENT
DTSTART;TZID=Europe/Paris:20250303T110000
DTEND;TZID=Europe/Paris:20250303T140000
DTSTAMP:20260422T220505
CREATED:20241213T120553Z
LAST-MODIFIED:20250519T121242Z
UID:10001646-1740999600-1741010400@www.carersmanchester.org.uk
SUMMARY:Lifted: Carers Drop-in
DESCRIPTION:
URL:https://www.carersmanchester.org.uk/event/lifted-carers-drop-in-10/2025-03-03/
LOCATION:Dandelion Community Centre\, Oatlands Road\, Manchester\, M22 1AL
END:VEVENT
BEGIN:VEVENT
DTSTART;TZID=Europe/Paris:20250228T103000
DTEND;TZID=Europe/Paris:20250228T123000
DTSTAMP:20260422T220505
CREATED:20250618T153827Z
LAST-MODIFIED:20260307T144346Z
UID:10003714-1740738600-1740745800@www.carersmanchester.org.uk
SUMMARY:Recurring event - Manchester Carers Forum: Blackley Carers Peer Support
DESCRIPTION:Friday 27th March\, 10.30am-12.30pm (Last Friday of the month)\nThe Avenue Library Learning Centre\, 9 Victoria Ave East\, Blackley\, M9 6HW\nContact – Karen on 07903 685435\n\nkaren@manchestercarersforum.org.uk \n*Please contact the organiser prior to attending in case of last minute changes in the month.*
URL:https://www.carersmanchester.org.uk/event/blackley-peer-support/2025-02-28/
LOCATION:The Avenue Library and Learning Centre\, 9 Victoria Avenue East\, Manchester\, M9 6HW
END:VEVENT
BEGIN:VEVENT
DTSTART;TZID=Europe/Paris:20250228T103000
DTEND;TZID=Europe/Paris:20250228T123000
DTSTAMP:20260422T220505
CREATED:20250211T125400Z
LAST-MODIFIED:20250211T125400Z
UID:10003106-1740738600-1740745800@www.carersmanchester.org.uk
SUMMARY:Manchester Carers Forum: Blackley Carers Peer Support
DESCRIPTION:It is an informal group providing social and emotional support\, with refreshments provided and often guest speakers and activities. \n\nFriday 28th Februaru\, 10.30am-12.30pm\nThe Avenue Library Learning Centre\, 9 Victoria Ave East\, Manchester\, M9 6HW\n\n  \nFor more information \n 
URL:https://www.carersmanchester.org.uk/event/manchester-carers-forum-blackley-carers-peer-support-3/
LOCATION:The Avenue Library and Learning Centre\, 9 Victoria Avenue East\, Manchester\, M9 6HW
END:VEVENT
BEGIN:VEVENT
DTSTART;TZID=Europe/Paris:20250227T110000
DTEND;TZID=Europe/Paris:20250227T140000
DTSTAMP:20260422T220505
CREATED:20250226T152649Z
LAST-MODIFIED:20250226T152649Z
UID:10003214-1740654000-1740664800@www.carersmanchester.org.uk
SUMMARY:Stepping Out\, The Ramblers\, Bury Carers\, Manchester Carers Forum\, Time Out Salford\, Wigan & Leigh Carers Centre: free walk from Velodrome East Manchester
DESCRIPTION:To learn more or book your place\, please email daniel@manchestercarersforum.org.uk
URL:https://www.carersmanchester.org.uk/event/stepping-out-the-ramblers-bury-carers-manchester-carers-forum-time-out-salford-wigan-leigh-carers-centre-free-walk-from-velodrome-east-manchester/
END:VEVENT
BEGIN:VEVENT
DTSTART;TZID=Europe/Paris:20250227T103000
DTEND;TZID=Europe/Paris:20250227T120000
DTSTAMP:20260422T220505
CREATED:20250127T122259Z
LAST-MODIFIED:20250127T122259Z
UID:10002561-1740652200-1740657600@www.carersmanchester.org.uk
SUMMARY:LMCP: Cost of living support group
DESCRIPTION:
URL:https://www.carersmanchester.org.uk/event/lmcp-cost-of-living-support-group/2025-02-27/
LOCATION:The Guidance Hub\, 389 Waterloo Road\, Manchester\, M8 8EP
END:VEVENT
BEGIN:VEVENT
DTSTART;TZID=Europe/Paris:20250226T180000
DTEND;TZID=Europe/Paris:20250226T200000
DTSTAMP:20260422T220505
CREATED:20250211T152606Z
LAST-MODIFIED:20250225T125233Z
UID:10003115-1740592800-1740600000@www.carersmanchester.org.uk
SUMMARY:Together Dementia Support: bereaved carers meal @ The Metropolitan
DESCRIPTION:Contact beth@togetherdementiasupport.org to learn more and sign up.
URL:https://www.carersmanchester.org.uk/event/bereavedcarersmeal/
LOCATION:Metropolitan West Didsbury\, 2 Lapwing Lane\, Manchester\, M20 2WS
END:VEVENT
BEGIN:VEVENT
DTSTART;TZID=Europe/Paris:20250226T133000
DTEND;TZID=Europe/Paris:20250226T153000
DTSTAMP:20260422T220505
CREATED:20250214T160036Z
LAST-MODIFIED:20250214T160413Z
UID:10003204-1740576600-1740583800@www.carersmanchester.org.uk
SUMMARY:Together Dementia Support: Wythenshawe Dementia café
DESCRIPTION:All welcome\, book with beth@togetherdementiasupport.org for: \n☕ Coffee & Chat + Massages Available! \n 
URL:https://www.carersmanchester.org.uk/event/together-dementia-support-wythenshawe-dementia-cafe/
LOCATION:Wythenshawe Methodist church\, St Andrews Manse\, Brownley Rd\, Wythenshawe\, Manchester\, M22 0DW\, United Kingdom
END:VEVENT
BEGIN:VEVENT
DTSTART;TZID=Europe/Paris:20250226T110000
DTEND;TZID=Europe/Paris:20250226T130000
DTSTAMP:20260422T220505
CREATED:20250117T135335Z
LAST-MODIFIED:20250117T135442Z
UID:10002500-1740567600-1740574800@www.carersmanchester.org.uk
SUMMARY:Lifted: Walking Group
DESCRIPTION:Text from organiser: \nEvery Wednesday\, staff and carers and family who attend Lifted. Meet up for a lovely walk around Wythenshawe park. \nThe group meet up at the Cafe from there they set off as a group. Half way around the walk the group splits into two groups. One for those who want to do the 1 mile walk\, the other group for those who want to do a 2 or 3 mile walk. \nThe group meet back up at the cafe for a hot drink and a chat. \n  \nWe welcome all new walkers regardless of walking ability we cater for everyone! Still not sure why not read our blog about the walking group – Link \nLifted walking group – Every Wednesday at 11am – 1pm. Make sure to drop us a text or email to let us know you are coming.\nCall/text us on:07385568990 Or 07384784262 \nOr email us: info@liftedcarerscentre.org.uk
URL:https://www.carersmanchester.org.uk/event/lifted-walking-group-10/2025-02-26/
LOCATION:Wythenshawe Park\, Manchester\, M23 0AB
END:VEVENT
BEGIN:VEVENT
DTSTART;TZID=Europe/Paris:20250226T103000
DTEND;TZID=Europe/Paris:20250226T123000
DTSTAMP:20260422T220505
CREATED:20250113T090408Z
LAST-MODIFIED:20250113T090408Z
UID:10002426-1740565800-1740573000@www.carersmanchester.org.uk
SUMMARY:ACCG: Carers 6 Week Ceramics Workshop
DESCRIPTION:
URL:https://www.carersmanchester.org.uk/event/accg-carers-6-week-ceramics-workshop/2025-02-26/
LOCATION:Claremont Resource Centre\, 2 Jarvis Road\, Manchester\, M15 5FS
END:VEVENT
BEGIN:VEVENT
DTSTART;TZID=Europe/Paris:20250224T123000
DTEND;TZID=Europe/Paris:20250224T140000
DTSTAMP:20260422T220505
CREATED:20241213T121023Z
LAST-MODIFIED:20241216T113524Z
UID:10001903-1740400200-1740405600@www.carersmanchester.org.uk
SUMMARY:Lifted: Uplift Meal
DESCRIPTION:
URL:https://www.carersmanchester.org.uk/event/lifted-uplift-meal-10/2025-02-24/
LOCATION:Dandelion Community Centre\, Oatlands Road\, Manchester\, M22 1AL
END:VEVENT
BEGIN:VEVENT
DTSTART;TZID=Europe/Paris:20250224T110000
DTEND;TZID=Europe/Paris:20250224T140000
DTSTAMP:20260422T220505
CREATED:20241213T120553Z
LAST-MODIFIED:20250519T121242Z
UID:10001645-1740394800-1740405600@www.carersmanchester.org.uk
SUMMARY:Lifted: Carers Drop-in
DESCRIPTION:
URL:https://www.carersmanchester.org.uk/event/lifted-carers-drop-in-10/2025-02-24/
LOCATION:Dandelion Community Centre\, Oatlands Road\, Manchester\, M22 1AL
END:VEVENT
END:VCALENDAR