BEGIN:VCALENDAR
VERSION:2.0
PRODID:-//The Carers Manchester Contact Point - ECPv6.15.18//NONSGML v1.0//EN
CALSCALE:GREGORIAN
METHOD:PUBLISH
X-WR-CALNAME:The Carers Manchester Contact Point
X-ORIGINAL-URL:https://www.carersmanchester.org.uk
X-WR-CALDESC:Events for The Carers Manchester Contact Point
REFRESH-INTERVAL;VALUE=DURATION:PT1H
X-Robots-Tag:noindex
X-PUBLISHED-TTL:PT1H
BEGIN:VTIMEZONE
TZID:Europe/Paris
BEGIN:DAYLIGHT
TZOFFSETFROM:+0100
TZOFFSETTO:+0200
TZNAME:CEST
DTSTART:20250330T010000
END:DAYLIGHT
BEGIN:STANDARD
TZOFFSETFROM:+0200
TZOFFSETTO:+0100
TZNAME:CET
DTSTART:20251026T010000
END:STANDARD
BEGIN:DAYLIGHT
TZOFFSETFROM:+0100
TZOFFSETTO:+0200
TZNAME:CEST
DTSTART:20260329T010000
END:DAYLIGHT
BEGIN:STANDARD
TZOFFSETFROM:+0200
TZOFFSETTO:+0100
TZNAME:CET
DTSTART:20261025T010000
END:STANDARD
BEGIN:DAYLIGHT
TZOFFSETFROM:+0100
TZOFFSETTO:+0200
TZNAME:CEST
DTSTART:20270328T010000
END:DAYLIGHT
BEGIN:STANDARD
TZOFFSETFROM:+0200
TZOFFSETTO:+0100
TZNAME:CET
DTSTART:20271031T010000
END:STANDARD
END:VTIMEZONE
BEGIN:VEVENT
DTSTART;TZID=Europe/Paris:20260715T140000
DTEND;TZID=Europe/Paris:20260715T153000
DTSTAMP:20260422T174026
CREATED:20251203T093803Z
LAST-MODIFIED:20260126T100139Z
UID:10004104-1784124000-1784129400@www.carersmanchester.org.uk
SUMMARY:Kick off with a Verse (Wednesday afternoons)
DESCRIPTION:To sign up or learn more\, please email karindenovellis@gmail.com
URL:https://www.carersmanchester.org.uk/event/kickoffverse/2026-07-15/
LOCATION:online
ORGANIZER;CN="Karin De Novellis":MAILTO:karindenovellis@gmail.com
END:VEVENT
BEGIN:VEVENT
DTSTART;TZID=Europe/Paris:20260716T123000
DTEND;TZID=Europe/Paris:20260716T143000
DTSTAMP:20260422T174026
CREATED:20260307T144000Z
LAST-MODIFIED:20260307T144025Z
UID:10004727-1784205000-1784212200@www.carersmanchester.org.uk
SUMMARY:Manchester Carers Forum: Cheetham Hill Carers Peer Support Group
DESCRIPTION:Wednesday 19th March\, 12.30-2.30pm (3rd Wednesday of the month)\nUkrainian Club 31 Smedley Lane\, Cheetham Hill M8 8XB\nContact – Karen on 07903 685435\n\nkaren@manchestercarersforum.org.uk \n  \n*Please contact the organiser prior to attending in case of last minute changes in the month.*
URL:https://www.carersmanchester.org.uk/event/manchester-carers-forum-cheetham-hill-carers-peer-support-group/2026-07-16/
LOCATION:Ukrainian Club\, 31 Smedley Lane\, Cheetham Hill\, M8 8XB
END:VEVENT
BEGIN:VEVENT
DTSTART;TZID=Europe/Paris:20260716T190000
DTEND;TZID=Europe/Paris:20260716T203000
DTSTAMP:20260422T174026
CREATED:20251203T094125Z
LAST-MODIFIED:20260126T100038Z
UID:10004359-1784228400-1784233800@www.carersmanchester.org.uk
SUMMARY:Kick off with a Verse (Thursday evenings)
DESCRIPTION:To sign up or learn more\, please email karindenovellis@gmail.com
URL:https://www.carersmanchester.org.uk/event/kickoffversethursday/2026-07-16/
ORGANIZER;CN="Karin De Novellis":MAILTO:karindenovellis@gmail.com
END:VEVENT
BEGIN:VEVENT
DTSTART;TZID=Europe/Paris:20260720T110000
DTEND;TZID=Europe/Paris:20260720T140000
DTSTAMP:20260422T174026
CREATED:20241213T120553Z
LAST-MODIFIED:20250519T121242Z
UID:10001718-1784545200-1784556000@www.carersmanchester.org.uk
SUMMARY:Lifted: Carers Drop-in
DESCRIPTION:
URL:https://www.carersmanchester.org.uk/event/lifted-carers-drop-in-10/2026-07-20/
LOCATION:Dandelion Community Centre\, Oatlands Road\, Manchester\, M22 1AL
END:VEVENT
BEGIN:VEVENT
DTSTART;TZID=Europe/Paris:20260720T123000
DTEND;TZID=Europe/Paris:20260720T140000
DTSTAMP:20260422T174026
CREATED:20241213T121023Z
LAST-MODIFIED:20241216T113524Z
UID:10001976-1784550600-1784556000@www.carersmanchester.org.uk
SUMMARY:Lifted: Uplift Meal
DESCRIPTION:
URL:https://www.carersmanchester.org.uk/event/lifted-uplift-meal-10/2026-07-20/
LOCATION:Dandelion Community Centre\, Oatlands Road\, Manchester\, M22 1AL
END:VEVENT
BEGIN:VEVENT
DTSTART;TZID=Europe/Paris:20260722T140000
DTEND;TZID=Europe/Paris:20260722T153000
DTSTAMP:20260422T174026
CREATED:20251203T093803Z
LAST-MODIFIED:20260126T100139Z
UID:10004105-1784728800-1784734200@www.carersmanchester.org.uk
SUMMARY:Kick off with a Verse (Wednesday afternoons)
DESCRIPTION:To sign up or learn more\, please email karindenovellis@gmail.com
URL:https://www.carersmanchester.org.uk/event/kickoffverse/2026-07-22/
LOCATION:online
ORGANIZER;CN="Karin De Novellis":MAILTO:karindenovellis@gmail.com
END:VEVENT
BEGIN:VEVENT
DTSTART;TZID=Europe/Paris:20260723T190000
DTEND;TZID=Europe/Paris:20260723T203000
DTSTAMP:20260422T174026
CREATED:20251203T094125Z
LAST-MODIFIED:20260126T100038Z
UID:10004360-1784833200-1784838600@www.carersmanchester.org.uk
SUMMARY:Kick off with a Verse (Thursday evenings)
DESCRIPTION:To sign up or learn more\, please email karindenovellis@gmail.com
URL:https://www.carersmanchester.org.uk/event/kickoffversethursday/2026-07-23/
ORGANIZER;CN="Karin De Novellis":MAILTO:karindenovellis@gmail.com
END:VEVENT
BEGIN:VEVENT
DTSTART;TZID=Europe/Paris:20260724T103000
DTEND;TZID=Europe/Paris:20260724T123000
DTSTAMP:20260422T174026
CREATED:20250618T153827Z
LAST-MODIFIED:20260307T144346Z
UID:10004758-1784889000-1784896200@www.carersmanchester.org.uk
SUMMARY:Recurring event - Manchester Carers Forum: Blackley Carers Peer Support
DESCRIPTION:Friday 27th March\, 10.30am-12.30pm (Last Friday of the month)\nThe Avenue Library Learning Centre\, 9 Victoria Ave East\, Blackley\, M9 6HW\nContact – Karen on 07903 685435\n\nkaren@manchestercarersforum.org.uk \n*Please contact the organiser prior to attending in case of last minute changes in the month.*
URL:https://www.carersmanchester.org.uk/event/blackley-peer-support/2026-07-24/
LOCATION:The Avenue Library and Learning Centre\, 9 Victoria Avenue East\, Manchester\, M9 6HW
END:VEVENT
BEGIN:VEVENT
DTSTART;TZID=Europe/Paris:20260727T110000
DTEND;TZID=Europe/Paris:20260727T140000
DTSTAMP:20260422T174026
CREATED:20241213T120553Z
LAST-MODIFIED:20250519T121242Z
UID:10001719-1785150000-1785160800@www.carersmanchester.org.uk
SUMMARY:Lifted: Carers Drop-in
DESCRIPTION:
URL:https://www.carersmanchester.org.uk/event/lifted-carers-drop-in-10/2026-07-27/
LOCATION:Dandelion Community Centre\, Oatlands Road\, Manchester\, M22 1AL
END:VEVENT
BEGIN:VEVENT
DTSTART;TZID=Europe/Paris:20260727T123000
DTEND;TZID=Europe/Paris:20260727T140000
DTSTAMP:20260422T174026
CREATED:20241213T121023Z
LAST-MODIFIED:20241216T113524Z
UID:10001977-1785155400-1785160800@www.carersmanchester.org.uk
SUMMARY:Lifted: Uplift Meal
DESCRIPTION:
URL:https://www.carersmanchester.org.uk/event/lifted-uplift-meal-10/2026-07-27/
LOCATION:Dandelion Community Centre\, Oatlands Road\, Manchester\, M22 1AL
END:VEVENT
BEGIN:VEVENT
DTSTART;TZID=Europe/Paris:20260729T140000
DTEND;TZID=Europe/Paris:20260729T153000
DTSTAMP:20260422T174026
CREATED:20251203T093803Z
LAST-MODIFIED:20260126T100139Z
UID:10004106-1785333600-1785339000@www.carersmanchester.org.uk
SUMMARY:Kick off with a Verse (Wednesday afternoons)
DESCRIPTION:To sign up or learn more\, please email karindenovellis@gmail.com
URL:https://www.carersmanchester.org.uk/event/kickoffverse/2026-07-29/
LOCATION:online
ORGANIZER;CN="Karin De Novellis":MAILTO:karindenovellis@gmail.com
END:VEVENT
BEGIN:VEVENT
DTSTART;TZID=Europe/Paris:20260730T190000
DTEND;TZID=Europe/Paris:20260730T203000
DTSTAMP:20260422T174026
CREATED:20251203T094125Z
LAST-MODIFIED:20260126T100038Z
UID:10004361-1785438000-1785443400@www.carersmanchester.org.uk
SUMMARY:Kick off with a Verse (Thursday evenings)
DESCRIPTION:To sign up or learn more\, please email karindenovellis@gmail.com
URL:https://www.carersmanchester.org.uk/event/kickoffversethursday/2026-07-30/
ORGANIZER;CN="Karin De Novellis":MAILTO:karindenovellis@gmail.com
END:VEVENT
BEGIN:VEVENT
DTSTART;TZID=Europe/Paris:20260803T110000
DTEND;TZID=Europe/Paris:20260803T140000
DTSTAMP:20260422T174026
CREATED:20241213T120553Z
LAST-MODIFIED:20250519T121242Z
UID:10001720-1785754800-1785765600@www.carersmanchester.org.uk
SUMMARY:Lifted: Carers Drop-in
DESCRIPTION:
URL:https://www.carersmanchester.org.uk/event/lifted-carers-drop-in-10/2026-08-03/
LOCATION:Dandelion Community Centre\, Oatlands Road\, Manchester\, M22 1AL
END:VEVENT
BEGIN:VEVENT
DTSTART;TZID=Europe/Paris:20260803T123000
DTEND;TZID=Europe/Paris:20260803T140000
DTSTAMP:20260422T174026
CREATED:20241213T121023Z
LAST-MODIFIED:20241216T113524Z
UID:10001978-1785760200-1785765600@www.carersmanchester.org.uk
SUMMARY:Lifted: Uplift Meal
DESCRIPTION:
URL:https://www.carersmanchester.org.uk/event/lifted-uplift-meal-10/2026-08-03/
LOCATION:Dandelion Community Centre\, Oatlands Road\, Manchester\, M22 1AL
END:VEVENT
BEGIN:VEVENT
DTSTART;TZID=Europe/Paris:20260805T140000
DTEND;TZID=Europe/Paris:20260805T153000
DTSTAMP:20260422T174026
CREATED:20251203T093803Z
LAST-MODIFIED:20260126T100139Z
UID:10004107-1785938400-1785943800@www.carersmanchester.org.uk
SUMMARY:Kick off with a Verse (Wednesday afternoons)
DESCRIPTION:To sign up or learn more\, please email karindenovellis@gmail.com
URL:https://www.carersmanchester.org.uk/event/kickoffverse/2026-08-05/
LOCATION:online
ORGANIZER;CN="Karin De Novellis":MAILTO:karindenovellis@gmail.com
END:VEVENT
BEGIN:VEVENT
DTSTART;TZID=Europe/Paris:20260806T133000
DTEND;TZID=Europe/Paris:20260806T153000
DTSTAMP:20260422T174026
CREATED:20251009T140514Z
LAST-MODIFIED:20251009T141034Z
UID:10004012-1786023000-1786030200@www.carersmanchester.org.uk
SUMMARY:Recurring event - East Manchester carer support group
DESCRIPTION:For more information\, please contact: \n\nkaren@manchestercarersforum.org.uk\n07903685435
URL:https://www.carersmanchester.org.uk/event/east-support-group/2026-08-06/
LOCATION:Asda Eastlands\, The community room\, Ashton New Road\, M11 4DB
END:VEVENT
BEGIN:VEVENT
DTSTART;TZID=Europe/Paris:20260806T140000
DTEND;TZID=Europe/Paris:20260806T153000
DTSTAMP:20260422T174026
CREATED:20260307T142307Z
LAST-MODIFIED:20260307T142307Z
UID:10004638-1786024800-1786030200@www.carersmanchester.org.uk
SUMMARY:East Manchester Peer Support Group
DESCRIPTION:Thursday 5th March\, 2.00pm – 3.30pm (1st Thursday of every month)\nAsda Eastlands\, The community room\, Ashton New Road M11 4DB\nContact – Karen on 07903 685435\n\nkaren@manchestercarersforum.org.uk \n  \n\n\n\n\n\n\n\n\n*Please contact the organiser prior to attending in case of last minute changes in the month.*
URL:https://www.carersmanchester.org.uk/event/east-manchester-peer-support-group/2026-08-06/
LOCATION:Asda Eastlands\, The community room\, Ashton New Road\, M11 4DB
END:VEVENT
BEGIN:VEVENT
DTSTART;TZID=Europe/Paris:20260806T190000
DTEND;TZID=Europe/Paris:20260806T203000
DTSTAMP:20260422T174026
CREATED:20251203T094125Z
LAST-MODIFIED:20260126T100038Z
UID:10004362-1786042800-1786048200@www.carersmanchester.org.uk
SUMMARY:Kick off with a Verse (Thursday evenings)
DESCRIPTION:To sign up or learn more\, please email karindenovellis@gmail.com
URL:https://www.carersmanchester.org.uk/event/kickoffversethursday/2026-08-06/
ORGANIZER;CN="Karin De Novellis":MAILTO:karindenovellis@gmail.com
END:VEVENT
BEGIN:VEVENT
DTSTART;TZID=Europe/Paris:20260807T140000
DTEND;TZID=Europe/Paris:20260807T153000
DTSTAMP:20260422T174026
CREATED:20250618T155142Z
LAST-MODIFIED:20250618T155142Z
UID:10003931-1786111200-1786116600@www.carersmanchester.org.uk
SUMMARY:Recurring event - Manchester Carers Forum: Burnage Carers Peer Support Group
DESCRIPTION:Please contact the organiser prior to attending\, in case of last minute changes. \n\n1st Friday of every month\, 2-3.30pm\nThe Burnage Library\, Burnage Ln\, Manchester M19 1EW\nContact Daniel on 07415 436382 or daniel@manchestercarersforum.org.uk
URL:https://www.carersmanchester.org.uk/event/burnage-peer-support/2026-08-07/
LOCATION:Burnage Library\, Burnage Lane\, Manchester\, M19 1EW
END:VEVENT
BEGIN:VEVENT
DTSTART;TZID=Europe/Paris:20260807T140000
DTEND;TZID=Europe/Paris:20260807T153000
DTSTAMP:20260422T174026
CREATED:20260307T142813Z
LAST-MODIFIED:20260307T142813Z
UID:10004668-1786111200-1786116600@www.carersmanchester.org.uk
SUMMARY:Manchester Carers Forum: Burnage Carers Peer Support Group
DESCRIPTION:Friday 6th March\, 2.00pm – 3.30pm (1st Friday of every month)\nThe Burnage Library\, Burnage Lane\, Manchester M19 1EW\nContact – Daniel on 07415 436382\n\ndaniel@manchestercarersforum.org.uk \n*Please contact the organiser prior to attending in case of last minute changes in the month.*
URL:https://www.carersmanchester.org.uk/event/manchester-carers-forum-burnage-carers-peer-support-group-3/2026-08-07/
LOCATION:The Burnage Library\, Burnage Lane\, Manchester\, M19 1EW
END:VEVENT
BEGIN:VEVENT
DTSTART;TZID=Europe/Paris:20260810T110000
DTEND;TZID=Europe/Paris:20260810T140000
DTSTAMP:20260422T174026
CREATED:20241213T120553Z
LAST-MODIFIED:20250519T121242Z
UID:10001721-1786359600-1786370400@www.carersmanchester.org.uk
SUMMARY:Lifted: Carers Drop-in
DESCRIPTION:
URL:https://www.carersmanchester.org.uk/event/lifted-carers-drop-in-10/2026-08-10/
LOCATION:Dandelion Community Centre\, Oatlands Road\, Manchester\, M22 1AL
END:VEVENT
BEGIN:VEVENT
DTSTART;TZID=Europe/Paris:20260810T123000
DTEND;TZID=Europe/Paris:20260810T140000
DTSTAMP:20260422T174026
CREATED:20241213T121023Z
LAST-MODIFIED:20241216T113524Z
UID:10001979-1786365000-1786370400@www.carersmanchester.org.uk
SUMMARY:Lifted: Uplift Meal
DESCRIPTION:
URL:https://www.carersmanchester.org.uk/event/lifted-uplift-meal-10/2026-08-10/
LOCATION:Dandelion Community Centre\, Oatlands Road\, Manchester\, M22 1AL
END:VEVENT
BEGIN:VEVENT
DTSTART;TZID=Europe/Paris:20260811T130000
DTEND;TZID=Europe/Paris:20260811T144500
DTSTAMP:20260422T174026
CREATED:20260307T143226Z
LAST-MODIFIED:20260307T143226Z
UID:10004698-1786453200-1786459500@www.carersmanchester.org.uk
SUMMARY:Manchester Carers Forum: Wythenshawe Carers Peer Support Group
DESCRIPTION:Tuesday 10th March\, 1pm – 2.45pm (2nd Tuesday of every month)\nDandelion Community\, Oatlands Road\, Wythenshawe\, M22 1AH\nContact – Daniel on 07415436382\n\ndaniel@manchestercarersforum.org.uk  \n*Please contact the organiser prior to attending in case of last minute changes in the month.*
URL:https://www.carersmanchester.org.uk/event/manchester-carers-forum-wythenshawe-carers-peer-support-group-2/2026-08-11/
LOCATION:Dandelion Community Centre\, Oatlands Road\, Manchester\, M22 1AL
END:VEVENT
BEGIN:VEVENT
DTSTART;TZID=Europe/Paris:20260812T140000
DTEND;TZID=Europe/Paris:20260812T153000
DTSTAMP:20260422T174026
CREATED:20251203T093803Z
LAST-MODIFIED:20260126T100139Z
UID:10004108-1786543200-1786548600@www.carersmanchester.org.uk
SUMMARY:Kick off with a Verse (Wednesday afternoons)
DESCRIPTION:To sign up or learn more\, please email karindenovellis@gmail.com
URL:https://www.carersmanchester.org.uk/event/kickoffverse/2026-08-12/
LOCATION:online
ORGANIZER;CN="Karin De Novellis":MAILTO:karindenovellis@gmail.com
END:VEVENT
BEGIN:VEVENT
DTSTART;TZID=Europe/Paris:20260813T190000
DTEND;TZID=Europe/Paris:20260813T203000
DTSTAMP:20260422T174026
CREATED:20251203T094125Z
LAST-MODIFIED:20260126T100038Z
UID:10004363-1786647600-1786653000@www.carersmanchester.org.uk
SUMMARY:Kick off with a Verse (Thursday evenings)
DESCRIPTION:To sign up or learn more\, please email karindenovellis@gmail.com
URL:https://www.carersmanchester.org.uk/event/kickoffversethursday/2026-08-13/
ORGANIZER;CN="Karin De Novellis":MAILTO:karindenovellis@gmail.com
END:VEVENT
BEGIN:VEVENT
DTSTART;TZID=Europe/Paris:20260817T110000
DTEND;TZID=Europe/Paris:20260817T140000
DTSTAMP:20260422T174026
CREATED:20241213T120553Z
LAST-MODIFIED:20250519T121242Z
UID:10001722-1786964400-1786975200@www.carersmanchester.org.uk
SUMMARY:Lifted: Carers Drop-in
DESCRIPTION:
URL:https://www.carersmanchester.org.uk/event/lifted-carers-drop-in-10/2026-08-17/
LOCATION:Dandelion Community Centre\, Oatlands Road\, Manchester\, M22 1AL
END:VEVENT
BEGIN:VEVENT
DTSTART;TZID=Europe/Paris:20260817T123000
DTEND;TZID=Europe/Paris:20260817T140000
DTSTAMP:20260422T174026
CREATED:20241213T121023Z
LAST-MODIFIED:20241216T113524Z
UID:10001980-1786969800-1786975200@www.carersmanchester.org.uk
SUMMARY:Lifted: Uplift Meal
DESCRIPTION:
URL:https://www.carersmanchester.org.uk/event/lifted-uplift-meal-10/2026-08-17/
LOCATION:Dandelion Community Centre\, Oatlands Road\, Manchester\, M22 1AL
END:VEVENT
BEGIN:VEVENT
DTSTART;TZID=Europe/Paris:20260819T133000
DTEND;TZID=Europe/Paris:20260819T153000
DTSTAMP:20260422T174026
CREATED:20250618T154559Z
LAST-MODIFIED:20250618T154559Z
UID:10003862-1787146200-1787153400@www.carersmanchester.org.uk
SUMMARY:Manchester Carers Forum: Cheetham and Crumpsall support group
DESCRIPTION:3rd Wednesday of every month\, 12.30-2.30pm\nUkrainian Cultural Centre\, 31 Smedley Lane\, Cheetham Hill M8 8XB\n\nPlease contact Karen prior to attending in case of last-minute changes: \n\n07903 685435\nor karen@manchestercarersforum.org.uk\n\n  \n 
URL:https://www.carersmanchester.org.uk/event/manchester-carers-forum-cheetham-and-crumpsall-support-group-4/2026-08-19/
LOCATION:Ukrainian Cultural Centre\, 31 Smedley Lane\, Cheetham Hill\,\, Manchester\, M8 8XB
END:VEVENT
BEGIN:VEVENT
DTSTART;TZID=Europe/Paris:20260819T140000
DTEND;TZID=Europe/Paris:20260819T153000
DTSTAMP:20260422T174026
CREATED:20251203T093803Z
LAST-MODIFIED:20260126T100139Z
UID:10004109-1787148000-1787153400@www.carersmanchester.org.uk
SUMMARY:Kick off with a Verse (Wednesday afternoons)
DESCRIPTION:To sign up or learn more\, please email karindenovellis@gmail.com
URL:https://www.carersmanchester.org.uk/event/kickoffverse/2026-08-19/
LOCATION:online
ORGANIZER;CN="Karin De Novellis":MAILTO:karindenovellis@gmail.com
END:VEVENT
BEGIN:VEVENT
DTSTART;TZID=Europe/Paris:20260820T123000
DTEND;TZID=Europe/Paris:20260820T143000
DTSTAMP:20260422T174026
CREATED:20260307T144000Z
LAST-MODIFIED:20260307T144025Z
UID:10004728-1787229000-1787236200@www.carersmanchester.org.uk
SUMMARY:Manchester Carers Forum: Cheetham Hill Carers Peer Support Group
DESCRIPTION:Wednesday 19th March\, 12.30-2.30pm (3rd Wednesday of the month)\nUkrainian Club 31 Smedley Lane\, Cheetham Hill M8 8XB\nContact – Karen on 07903 685435\n\nkaren@manchestercarersforum.org.uk \n  \n*Please contact the organiser prior to attending in case of last minute changes in the month.*
URL:https://www.carersmanchester.org.uk/event/manchester-carers-forum-cheetham-hill-carers-peer-support-group/2026-08-20/
LOCATION:Ukrainian Club\, 31 Smedley Lane\, Cheetham Hill\, M8 8XB
END:VEVENT
END:VCALENDAR