BEGIN:VCALENDAR
VERSION:2.0
PRODID:-//The Carers Manchester Contact Point - ECPv6.15.18//NONSGML v1.0//EN
CALSCALE:GREGORIAN
METHOD:PUBLISH
X-WR-CALNAME:The Carers Manchester Contact Point
X-ORIGINAL-URL:https://www.carersmanchester.org.uk
X-WR-CALDESC:Events for The Carers Manchester Contact Point
REFRESH-INTERVAL;VALUE=DURATION:PT1H
X-Robots-Tag:noindex
X-PUBLISHED-TTL:PT1H
BEGIN:VTIMEZONE
TZID:Europe/Paris
BEGIN:DAYLIGHT
TZOFFSETFROM:+0100
TZOFFSETTO:+0200
TZNAME:CEST
DTSTART:20240331T010000
END:DAYLIGHT
BEGIN:STANDARD
TZOFFSETFROM:+0200
TZOFFSETTO:+0100
TZNAME:CET
DTSTART:20241027T010000
END:STANDARD
BEGIN:DAYLIGHT
TZOFFSETFROM:+0100
TZOFFSETTO:+0200
TZNAME:CEST
DTSTART:20250330T010000
END:DAYLIGHT
BEGIN:STANDARD
TZOFFSETFROM:+0200
TZOFFSETTO:+0100
TZNAME:CET
DTSTART:20251026T010000
END:STANDARD
BEGIN:DAYLIGHT
TZOFFSETFROM:+0100
TZOFFSETTO:+0200
TZNAME:CEST
DTSTART:20260329T010000
END:DAYLIGHT
BEGIN:STANDARD
TZOFFSETFROM:+0200
TZOFFSETTO:+0100
TZNAME:CET
DTSTART:20261025T010000
END:STANDARD
END:VTIMEZONE
BEGIN:VEVENT
DTSTART;TZID=Europe/Paris:20250613T100000
DTEND;TZID=Europe/Paris:20250613T150000
DTSTAMP:20260422T145441
CREATED:20250409T133126Z
LAST-MODIFIED:20250428T140605Z
UID:10003296-1749808800-1749826800@www.carersmanchester.org.uk
SUMMARY:ACCG: welfare rights drop in
DESCRIPTION:Come along to discuss any benefits\, housing or other related issues that you may be having with a Welfare and Benefits Advisor. \nTo request more information please email cmc@accg.org.uk or call 0161 226 6334.
URL:https://www.carersmanchester.org.uk/event/accg-welfare-rights-drop-in/
LOCATION:Claremont Resource Centre\, 2 Jarvis Road\, Manchester\, M15 5FS
END:VEVENT
BEGIN:VEVENT
DTSTART;TZID=Europe/Paris:20250616T110000
DTEND;TZID=Europe/Paris:20250616T140000
DTSTAMP:20260422T145441
CREATED:20241213T120553Z
LAST-MODIFIED:20250519T121242Z
UID:10001661-1750071600-1750082400@www.carersmanchester.org.uk
SUMMARY:Lifted: Carers Drop-in
DESCRIPTION:
URL:https://www.carersmanchester.org.uk/event/lifted-carers-drop-in-10/2025-06-16/
LOCATION:Dandelion Community Centre\, Oatlands Road\, Manchester\, M22 1AL
END:VEVENT
BEGIN:VEVENT
DTSTART;TZID=Europe/Paris:20250616T123000
DTEND;TZID=Europe/Paris:20250616T140000
DTSTAMP:20260422T145441
CREATED:20241213T121023Z
LAST-MODIFIED:20241216T113524Z
UID:10001919-1750077000-1750082400@www.carersmanchester.org.uk
SUMMARY:Lifted: Uplift Meal
DESCRIPTION:
URL:https://www.carersmanchester.org.uk/event/lifted-uplift-meal-10/2025-06-16/
LOCATION:Dandelion Community Centre\, Oatlands Road\, Manchester\, M22 1AL
END:VEVENT
BEGIN:VEVENT
DTSTART;TZID=Europe/Paris:20250616T131500
DTEND;TZID=Europe/Paris:20250616T151500
DTSTAMP:20260422T145441
CREATED:20241219T164940Z
LAST-MODIFIED:20250213T113204Z
UID:10003199-1750079700-1750086900@www.carersmanchester.org.uk
SUMMARY:Lived Experience Panel: Monthly meeting
DESCRIPTION:Monthly meeting of the Carers Manchester Lived Experience Panel. \nMeeting location will be confirmed with panel members by email. Every second meeting will usually be held as an online meeting. \n  \nThis event is for current members of the Carers Manchester Lived Experience Panel. If you are interested in joining the panel\, you can find more information on our website. \n 
URL:https://www.carersmanchester.org.uk/event/lived-experience-panel-monthly-meeting-3/2025-06-16/
END:VEVENT
BEGIN:VEVENT
DTSTART;TZID=Europe/Paris:20250618T103000
DTEND;TZID=Europe/Paris:20250618T120000
DTSTAMP:20260422T145441
CREATED:20250403T103051Z
LAST-MODIFIED:20250403T103051Z
UID:10003250-1750242600-1750248000@www.carersmanchester.org.uk
SUMMARY:Move and Live Well with Parkinson's class- North Manchester
DESCRIPTION:Led by experienced dance artist Jody\, this relaxed and fun session is for anyone living with Parkinson’s and their support network. Sessions can be taken seated or standing and adapted for anybody. \nSessions will begin sitting with gentle movements focusing on mobility and body awareness. Using a wide range of music\, sessions will develop physical strength\, spacial awareness\, balance and motor skills. \nSessions are £3\, first session free. There will be refreshments provided and social time included. Partners/carers are encouraged to join. Bring water\, comfortable loose clothing and supportive shoes. \nThere is a small car park at the church\, as well as on street parking. The venue is accessible by a ramp and there are accessible facilities. \nNo need to book\, just run up. For more info email manchester@livewellanddance.org.uk
URL:https://www.carersmanchester.org.uk/event/move-and-live-well-with-parkinsons-class-north-manchester/2025-06-18/
LOCATION:Crumpsall Methodist Church\, Lansdowne Road\, Manchester\, M8 5ST
END:VEVENT
BEGIN:VEVENT
DTSTART;TZID=Europe/Paris:20250618T110000
DTEND;TZID=Europe/Paris:20250618T130000
DTSTAMP:20260422T145441
CREATED:20250117T135335Z
LAST-MODIFIED:20250117T135442Z
UID:10002516-1750244400-1750251600@www.carersmanchester.org.uk
SUMMARY:Lifted: Walking Group
DESCRIPTION:Text from organiser: \nEvery Wednesday\, staff and carers and family who attend Lifted. Meet up for a lovely walk around Wythenshawe park. \nThe group meet up at the Cafe from there they set off as a group. Half way around the walk the group splits into two groups. One for those who want to do the 1 mile walk\, the other group for those who want to do a 2 or 3 mile walk. \nThe group meet back up at the cafe for a hot drink and a chat. \n  \nWe welcome all new walkers regardless of walking ability we cater for everyone! Still not sure why not read our blog about the walking group – Link \nLifted walking group – Every Wednesday at 11am – 1pm. Make sure to drop us a text or email to let us know you are coming.\nCall/text us on:07385568990 Or 07384784262 \nOr email us: info@liftedcarerscentre.org.uk
URL:https://www.carersmanchester.org.uk/event/lifted-walking-group-10/2025-06-18/
LOCATION:Wythenshawe Park\, Manchester\, M23 0AB
END:VEVENT
BEGIN:VEVENT
DTSTART;TZID=Europe/Paris:20250618T133000
DTEND;TZID=Europe/Paris:20250618T153000
DTSTAMP:20260422T145441
CREATED:20250618T154559Z
LAST-MODIFIED:20250618T154559Z
UID:10003848-1750253400-1750260600@www.carersmanchester.org.uk
SUMMARY:Manchester Carers Forum: Cheetham and Crumpsall support group
DESCRIPTION:3rd Wednesday of every month\, 12.30-2.30pm\nUkrainian Cultural Centre\, 31 Smedley Lane\, Cheetham Hill M8 8XB\n\nPlease contact Karen prior to attending in case of last-minute changes: \n\n07903 685435\nor karen@manchestercarersforum.org.uk\n\n  \n 
URL:https://www.carersmanchester.org.uk/event/manchester-carers-forum-cheetham-and-crumpsall-support-group-4/2025-06-18/
LOCATION:Ukrainian Cultural Centre\, 31 Smedley Lane\, Cheetham Hill\,\, Manchester\, M8 8XB
END:VEVENT
BEGIN:VEVENT
DTSTART;TZID=Europe/Paris:20250618T190000
DTEND;TZID=Europe/Paris:20250618T203000
DTSTAMP:20260422T145441
CREATED:20250211T165514Z
LAST-MODIFIED:20250211T165514Z
UID:10003132-1750273200-1750278600@www.carersmanchester.org.uk
SUMMARY:Together dementia support: Zoom Dementia Carers Training 4 week course
DESCRIPTION:Contact beth@togetherdementiasupport.org
URL:https://www.carersmanchester.org.uk/event/together-dementia-support-zoom-dementia-carers-training-4-week-course/2025-06-18/
END:VEVENT
BEGIN:VEVENT
DTSTART;TZID=Europe/Paris:20250619T193000
DTEND;TZID=Europe/Paris:20250619T210000
DTSTAMP:20260422T145441
CREATED:20250618T154905Z
LAST-MODIFIED:20250618T154905Z
UID:10003908-1750361400-1750366800@www.carersmanchester.org.uk
SUMMARY:SEND Dads Society drop in
DESCRIPTION:
URL:https://www.carersmanchester.org.uk/event/send-dads-society-drop-in-3/
LOCATION:Heaton Park Golf Club\, Middleton Road\, Prestwich\, M25 2SW
END:VEVENT
BEGIN:VEVENT
DTSTART;TZID=Europe/Paris:20250623T110000
DTEND;TZID=Europe/Paris:20250623T140000
DTSTAMP:20260422T145441
CREATED:20241213T120553Z
LAST-MODIFIED:20250519T121242Z
UID:10001662-1750676400-1750687200@www.carersmanchester.org.uk
SUMMARY:Lifted: Carers Drop-in
DESCRIPTION:
URL:https://www.carersmanchester.org.uk/event/lifted-carers-drop-in-10/2025-06-23/
LOCATION:Dandelion Community Centre\, Oatlands Road\, Manchester\, M22 1AL
END:VEVENT
BEGIN:VEVENT
DTSTART;TZID=Europe/Paris:20250623T123000
DTEND;TZID=Europe/Paris:20250623T140000
DTSTAMP:20260422T145441
CREATED:20241213T121023Z
LAST-MODIFIED:20241216T113524Z
UID:10001920-1750681800-1750687200@www.carersmanchester.org.uk
SUMMARY:Lifted: Uplift Meal
DESCRIPTION:
URL:https://www.carersmanchester.org.uk/event/lifted-uplift-meal-10/2025-06-23/
LOCATION:Dandelion Community Centre\, Oatlands Road\, Manchester\, M22 1AL
END:VEVENT
BEGIN:VEVENT
DTSTART;TZID=Europe/Paris:20250624T110000
DTEND;TZID=Europe/Paris:20250624T170000
DTSTAMP:20260422T145441
CREATED:20250618T134927Z
LAST-MODIFIED:20250618T153339Z
UID:10003713-1750762800-1750784400@www.carersmanchester.org.uk
SUMMARY:Day out and walk at Haigh Hall Woodland Park
DESCRIPTION:If you are a Manchester-based carer\, please book your free place by emailing daniel@manchestercarersforum.org.uk.
URL:https://www.carersmanchester.org.uk/event/day-out-and-walk-at-haigh-hall-woodland-park/
LOCATION:Haigh Hall Woodland Park
END:VEVENT
BEGIN:VEVENT
DTSTART;TZID=Europe/Paris:20250625T103000
DTEND;TZID=Europe/Paris:20250625T120000
DTSTAMP:20260422T145441
CREATED:20250403T103051Z
LAST-MODIFIED:20250403T103051Z
UID:10003251-1750847400-1750852800@www.carersmanchester.org.uk
SUMMARY:Move and Live Well with Parkinson's class- North Manchester
DESCRIPTION:Led by experienced dance artist Jody\, this relaxed and fun session is for anyone living with Parkinson’s and their support network. Sessions can be taken seated or standing and adapted for anybody. \nSessions will begin sitting with gentle movements focusing on mobility and body awareness. Using a wide range of music\, sessions will develop physical strength\, spacial awareness\, balance and motor skills. \nSessions are £3\, first session free. There will be refreshments provided and social time included. Partners/carers are encouraged to join. Bring water\, comfortable loose clothing and supportive shoes. \nThere is a small car park at the church\, as well as on street parking. The venue is accessible by a ramp and there are accessible facilities. \nNo need to book\, just run up. For more info email manchester@livewellanddance.org.uk
URL:https://www.carersmanchester.org.uk/event/move-and-live-well-with-parkinsons-class-north-manchester/2025-06-25/
LOCATION:Crumpsall Methodist Church\, Lansdowne Road\, Manchester\, M8 5ST
END:VEVENT
BEGIN:VEVENT
DTSTART;TZID=Europe/Paris:20250625T110000
DTEND;TZID=Europe/Paris:20250625T130000
DTSTAMP:20260422T145441
CREATED:20250117T135335Z
LAST-MODIFIED:20250117T135442Z
UID:10002517-1750849200-1750856400@www.carersmanchester.org.uk
SUMMARY:Lifted: Walking Group
DESCRIPTION:Text from organiser: \nEvery Wednesday\, staff and carers and family who attend Lifted. Meet up for a lovely walk around Wythenshawe park. \nThe group meet up at the Cafe from there they set off as a group. Half way around the walk the group splits into two groups. One for those who want to do the 1 mile walk\, the other group for those who want to do a 2 or 3 mile walk. \nThe group meet back up at the cafe for a hot drink and a chat. \n  \nWe welcome all new walkers regardless of walking ability we cater for everyone! Still not sure why not read our blog about the walking group – Link \nLifted walking group – Every Wednesday at 11am – 1pm. Make sure to drop us a text or email to let us know you are coming.\nCall/text us on:07385568990 Or 07384784262 \nOr email us: info@liftedcarerscentre.org.uk
URL:https://www.carersmanchester.org.uk/event/lifted-walking-group-10/2025-06-25/
LOCATION:Wythenshawe Park\, Manchester\, M23 0AB
END:VEVENT
BEGIN:VEVENT
DTSTART;TZID=Europe/Paris:20250625T190000
DTEND;TZID=Europe/Paris:20250625T203000
DTSTAMP:20260422T145441
CREATED:20250211T165514Z
LAST-MODIFIED:20250211T165514Z
UID:10003133-1750878000-1750883400@www.carersmanchester.org.uk
SUMMARY:Together dementia support: Zoom Dementia Carers Training 4 week course
DESCRIPTION:Contact beth@togetherdementiasupport.org
URL:https://www.carersmanchester.org.uk/event/together-dementia-support-zoom-dementia-carers-training-4-week-course/2025-06-25/
END:VEVENT
BEGIN:VEVENT
DTSTART;TZID=Europe/Paris:20250627T103000
DTEND;TZID=Europe/Paris:20250627T123000
DTSTAMP:20260422T145441
CREATED:20250618T153827Z
LAST-MODIFIED:20260307T144346Z
UID:10003718-1751020200-1751027400@www.carersmanchester.org.uk
SUMMARY:Recurring event - Manchester Carers Forum: Blackley Carers Peer Support
DESCRIPTION:Friday 27th March\, 10.30am-12.30pm (Last Friday of the month)\nThe Avenue Library Learning Centre\, 9 Victoria Ave East\, Blackley\, M9 6HW\nContact – Karen on 07903 685435\n\nkaren@manchestercarersforum.org.uk \n*Please contact the organiser prior to attending in case of last minute changes in the month.*
URL:https://www.carersmanchester.org.uk/event/blackley-peer-support/2025-06-27/
LOCATION:The Avenue Library and Learning Centre\, 9 Victoria Avenue East\, Manchester\, M9 6HW
END:VEVENT
BEGIN:VEVENT
DTSTART;TZID=Europe/Paris:20250630T110000
DTEND;TZID=Europe/Paris:20250630T140000
DTSTAMP:20260422T145441
CREATED:20241213T120553Z
LAST-MODIFIED:20250519T121242Z
UID:10001663-1751281200-1751292000@www.carersmanchester.org.uk
SUMMARY:Lifted: Carers Drop-in
DESCRIPTION:
URL:https://www.carersmanchester.org.uk/event/lifted-carers-drop-in-10/2025-06-30/
LOCATION:Dandelion Community Centre\, Oatlands Road\, Manchester\, M22 1AL
END:VEVENT
BEGIN:VEVENT
DTSTART;TZID=Europe/Paris:20250630T123000
DTEND;TZID=Europe/Paris:20250630T140000
DTSTAMP:20260422T145441
CREATED:20241213T121023Z
LAST-MODIFIED:20241216T113524Z
UID:10001921-1751286600-1751292000@www.carersmanchester.org.uk
SUMMARY:Lifted: Uplift Meal
DESCRIPTION:
URL:https://www.carersmanchester.org.uk/event/lifted-uplift-meal-10/2025-06-30/
LOCATION:Dandelion Community Centre\, Oatlands Road\, Manchester\, M22 1AL
END:VEVENT
BEGIN:VEVENT
DTSTART;TZID=Europe/Paris:20250702T103000
DTEND;TZID=Europe/Paris:20250702T120000
DTSTAMP:20260422T145441
CREATED:20250403T103051Z
LAST-MODIFIED:20250403T103051Z
UID:10003252-1751452200-1751457600@www.carersmanchester.org.uk
SUMMARY:Move and Live Well with Parkinson's class- North Manchester
DESCRIPTION:Led by experienced dance artist Jody\, this relaxed and fun session is for anyone living with Parkinson’s and their support network. Sessions can be taken seated or standing and adapted for anybody. \nSessions will begin sitting with gentle movements focusing on mobility and body awareness. Using a wide range of music\, sessions will develop physical strength\, spacial awareness\, balance and motor skills. \nSessions are £3\, first session free. There will be refreshments provided and social time included. Partners/carers are encouraged to join. Bring water\, comfortable loose clothing and supportive shoes. \nThere is a small car park at the church\, as well as on street parking. The venue is accessible by a ramp and there are accessible facilities. \nNo need to book\, just run up. For more info email manchester@livewellanddance.org.uk
URL:https://www.carersmanchester.org.uk/event/move-and-live-well-with-parkinsons-class-north-manchester/2025-07-02/
LOCATION:Crumpsall Methodist Church\, Lansdowne Road\, Manchester\, M8 5ST
END:VEVENT
BEGIN:VEVENT
DTSTART;TZID=Europe/Paris:20250702T110000
DTEND;TZID=Europe/Paris:20250702T130000
DTSTAMP:20260422T145441
CREATED:20250117T135335Z
LAST-MODIFIED:20250117T135442Z
UID:10002518-1751454000-1751461200@www.carersmanchester.org.uk
SUMMARY:Lifted: Walking Group
DESCRIPTION:Text from organiser: \nEvery Wednesday\, staff and carers and family who attend Lifted. Meet up for a lovely walk around Wythenshawe park. \nThe group meet up at the Cafe from there they set off as a group. Half way around the walk the group splits into two groups. One for those who want to do the 1 mile walk\, the other group for those who want to do a 2 or 3 mile walk. \nThe group meet back up at the cafe for a hot drink and a chat. \n  \nWe welcome all new walkers regardless of walking ability we cater for everyone! Still not sure why not read our blog about the walking group – Link \nLifted walking group – Every Wednesday at 11am – 1pm. Make sure to drop us a text or email to let us know you are coming.\nCall/text us on:07385568990 Or 07384784262 \nOr email us: info@liftedcarerscentre.org.uk
URL:https://www.carersmanchester.org.uk/event/lifted-walking-group-10/2025-07-02/
LOCATION:Wythenshawe Park\, Manchester\, M23 0AB
END:VEVENT
BEGIN:VEVENT
DTSTART;TZID=Europe/Paris:20250702T190000
DTEND;TZID=Europe/Paris:20250702T203000
DTSTAMP:20260422T145441
CREATED:20250211T165514Z
LAST-MODIFIED:20250211T165514Z
UID:10003134-1751482800-1751488200@www.carersmanchester.org.uk
SUMMARY:Together dementia support: Zoom Dementia Carers Training 4 week course
DESCRIPTION:Contact beth@togetherdementiasupport.org
URL:https://www.carersmanchester.org.uk/event/together-dementia-support-zoom-dementia-carers-training-4-week-course/2025-07-02/
END:VEVENT
BEGIN:VEVENT
DTSTART;TZID=Europe/Paris:20250704T140000
DTEND;TZID=Europe/Paris:20250704T153000
DTSTAMP:20260422T145441
CREATED:20250618T155142Z
LAST-MODIFIED:20250618T155142Z
UID:10003918-1751637600-1751643000@www.carersmanchester.org.uk
SUMMARY:Recurring event - Manchester Carers Forum: Burnage Carers Peer Support Group
DESCRIPTION:Please contact the organiser prior to attending\, in case of last minute changes. \n\n1st Friday of every month\, 2-3.30pm\nThe Burnage Library\, Burnage Ln\, Manchester M19 1EW\nContact Daniel on 07415 436382 or daniel@manchestercarersforum.org.uk
URL:https://www.carersmanchester.org.uk/event/burnage-peer-support/2025-07-04/
LOCATION:Burnage Library\, Burnage Lane\, Manchester\, M19 1EW
END:VEVENT
BEGIN:VEVENT
DTSTART;TZID=Europe/Paris:20250707T110000
DTEND;TZID=Europe/Paris:20250707T140000
DTSTAMP:20260422T145441
CREATED:20241213T120553Z
LAST-MODIFIED:20250519T121242Z
UID:10001664-1751886000-1751896800@www.carersmanchester.org.uk
SUMMARY:Lifted: Carers Drop-in
DESCRIPTION:
URL:https://www.carersmanchester.org.uk/event/lifted-carers-drop-in-10/2025-07-07/
LOCATION:Dandelion Community Centre\, Oatlands Road\, Manchester\, M22 1AL
END:VEVENT
BEGIN:VEVENT
DTSTART;TZID=Europe/Paris:20250707T123000
DTEND;TZID=Europe/Paris:20250707T140000
DTSTAMP:20260422T145441
CREATED:20241213T121023Z
LAST-MODIFIED:20241216T113524Z
UID:10001922-1751891400-1751896800@www.carersmanchester.org.uk
SUMMARY:Lifted: Uplift Meal
DESCRIPTION:
URL:https://www.carersmanchester.org.uk/event/lifted-uplift-meal-10/2025-07-07/
LOCATION:Dandelion Community Centre\, Oatlands Road\, Manchester\, M22 1AL
END:VEVENT
BEGIN:VEVENT
DTSTART;TZID=Europe/Paris:20250709T103000
DTEND;TZID=Europe/Paris:20250709T120000
DTSTAMP:20260422T145441
CREATED:20250403T103051Z
LAST-MODIFIED:20250403T103051Z
UID:10003253-1752057000-1752062400@www.carersmanchester.org.uk
SUMMARY:Move and Live Well with Parkinson's class- North Manchester
DESCRIPTION:Led by experienced dance artist Jody\, this relaxed and fun session is for anyone living with Parkinson’s and their support network. Sessions can be taken seated or standing and adapted for anybody. \nSessions will begin sitting with gentle movements focusing on mobility and body awareness. Using a wide range of music\, sessions will develop physical strength\, spacial awareness\, balance and motor skills. \nSessions are £3\, first session free. There will be refreshments provided and social time included. Partners/carers are encouraged to join. Bring water\, comfortable loose clothing and supportive shoes. \nThere is a small car park at the church\, as well as on street parking. The venue is accessible by a ramp and there are accessible facilities. \nNo need to book\, just run up. For more info email manchester@livewellanddance.org.uk
URL:https://www.carersmanchester.org.uk/event/move-and-live-well-with-parkinsons-class-north-manchester/2025-07-09/
LOCATION:Crumpsall Methodist Church\, Lansdowne Road\, Manchester\, M8 5ST
END:VEVENT
BEGIN:VEVENT
DTSTART;TZID=Europe/Paris:20250709T110000
DTEND;TZID=Europe/Paris:20250709T130000
DTSTAMP:20260422T145441
CREATED:20250117T135335Z
LAST-MODIFIED:20250117T135442Z
UID:10002519-1752058800-1752066000@www.carersmanchester.org.uk
SUMMARY:Lifted: Walking Group
DESCRIPTION:Text from organiser: \nEvery Wednesday\, staff and carers and family who attend Lifted. Meet up for a lovely walk around Wythenshawe park. \nThe group meet up at the Cafe from there they set off as a group. Half way around the walk the group splits into two groups. One for those who want to do the 1 mile walk\, the other group for those who want to do a 2 or 3 mile walk. \nThe group meet back up at the cafe for a hot drink and a chat. \n  \nWe welcome all new walkers regardless of walking ability we cater for everyone! Still not sure why not read our blog about the walking group – Link \nLifted walking group – Every Wednesday at 11am – 1pm. Make sure to drop us a text or email to let us know you are coming.\nCall/text us on:07385568990 Or 07384784262 \nOr email us: info@liftedcarerscentre.org.uk
URL:https://www.carersmanchester.org.uk/event/lifted-walking-group-10/2025-07-09/
LOCATION:Wythenshawe Park\, Manchester\, M23 0AB
END:VEVENT
BEGIN:VEVENT
DTSTART;TZID=Europe/Paris:20250709T190000
DTEND;TZID=Europe/Paris:20250709T203000
DTSTAMP:20260422T145441
CREATED:20250211T165514Z
LAST-MODIFIED:20250211T165514Z
UID:10003135-1752087600-1752093000@www.carersmanchester.org.uk
SUMMARY:Together dementia support: Zoom Dementia Carers Training 4 week course
DESCRIPTION:Contact beth@togetherdementiasupport.org
URL:https://www.carersmanchester.org.uk/event/together-dementia-support-zoom-dementia-carers-training-4-week-course/2025-07-09/
END:VEVENT
BEGIN:VEVENT
DTSTART;TZID=Europe/Paris:20250710T110000
DTEND;TZID=Europe/Paris:20250710T130000
DTSTAMP:20260422T145441
CREATED:20250702T112832Z
LAST-MODIFIED:20250702T113132Z
UID:10003978-1752145200-1752152400@www.carersmanchester.org.uk
SUMMARY:Carers walk at Peel Park
DESCRIPTION:If you are a carer based in the Manchester City Council area\, please contact daniel@manchestercarersforum.org.uk to sign up for this walk.
URL:https://www.carersmanchester.org.uk/event/13238/
LOCATION:Peel Park\, The Crescent\, Salford\, M5 4WU
END:VEVENT
BEGIN:VEVENT
DTSTART;TZID=Europe/Paris:20250714T110000
DTEND;TZID=Europe/Paris:20250714T130000
DTSTAMP:20260422T145441
CREATED:20250403T102554Z
LAST-MODIFIED:20250403T102554Z
UID:10003234-1752490800-1752498000@www.carersmanchester.org.uk
SUMMARY:Manchester Parkinson's Cafe
DESCRIPTION:Drop in cafe hosted by Parkinson’s UK volunteers. Meet other people with Parkinson’s\, socialise\, share information and experiences. Friends and family welcome. \nThis runs on the second Monday of the month from 11am to 1pm. \nThe ASDA community room is at the back of the store and is fully accessible. \n1. Dates for 2025: \n\n13 January\n10 February\n10 March\n14 April\n12 May\n9 June\n14 July\n11 August\n8 September\n13 October\n10 November\n9 December\n\n\n\n2. Primary contact \n\nHelen Sturman\n07768 834 115\nhsturman@parkinsons.org.uk\n\n\n\n3. Location \n\n\nASDA Eastlands Community Room\nASDA Eastlands\, Sport City\nManchester\nM11 4BD
URL:https://www.carersmanchester.org.uk/event/manchester-parkinsons-cafe-7/2025-07-14/
LOCATION:Asda Eastlands\, The community room\, Ashton New Road\, M11 4DB
END:VEVENT
BEGIN:VEVENT
DTSTART;TZID=Europe/Paris:20250714T110000
DTEND;TZID=Europe/Paris:20250714T140000
DTSTAMP:20260422T145441
CREATED:20241213T120553Z
LAST-MODIFIED:20250519T121242Z
UID:10001665-1752490800-1752501600@www.carersmanchester.org.uk
SUMMARY:Lifted: Carers Drop-in
DESCRIPTION:
URL:https://www.carersmanchester.org.uk/event/lifted-carers-drop-in-10/2025-07-14/
LOCATION:Dandelion Community Centre\, Oatlands Road\, Manchester\, M22 1AL
END:VEVENT
END:VCALENDAR