BEGIN:VCALENDAR
VERSION:2.0
PRODID:-//The Carers Manchester Contact Point - ECPv6.15.18//NONSGML v1.0//EN
CALSCALE:GREGORIAN
METHOD:PUBLISH
X-WR-CALNAME:The Carers Manchester Contact Point
X-ORIGINAL-URL:https://www.carersmanchester.org.uk
X-WR-CALDESC:Events for The Carers Manchester Contact Point
REFRESH-INTERVAL;VALUE=DURATION:PT1H
X-Robots-Tag:noindex
X-PUBLISHED-TTL:PT1H
BEGIN:VTIMEZONE
TZID:Europe/Paris
BEGIN:DAYLIGHT
TZOFFSETFROM:+0100
TZOFFSETTO:+0200
TZNAME:CEST
DTSTART:20240331T010000
END:DAYLIGHT
BEGIN:STANDARD
TZOFFSETFROM:+0200
TZOFFSETTO:+0100
TZNAME:CET
DTSTART:20241027T010000
END:STANDARD
BEGIN:DAYLIGHT
TZOFFSETFROM:+0100
TZOFFSETTO:+0200
TZNAME:CEST
DTSTART:20250330T010000
END:DAYLIGHT
BEGIN:STANDARD
TZOFFSETFROM:+0200
TZOFFSETTO:+0100
TZNAME:CET
DTSTART:20251026T010000
END:STANDARD
BEGIN:DAYLIGHT
TZOFFSETFROM:+0100
TZOFFSETTO:+0200
TZNAME:CEST
DTSTART:20260329T010000
END:DAYLIGHT
BEGIN:STANDARD
TZOFFSETFROM:+0200
TZOFFSETTO:+0100
TZNAME:CET
DTSTART:20261025T010000
END:STANDARD
END:VTIMEZONE
BEGIN:VEVENT
DTSTART;TZID=Europe/Paris:20250421T110000
DTEND;TZID=Europe/Paris:20250421T140000
DTSTAMP:20260422T161540
CREATED:20241213T120553Z
LAST-MODIFIED:20250519T121242Z
UID:10001653-1745233200-1745244000@www.carersmanchester.org.uk
SUMMARY:Lifted: Carers Drop-in
DESCRIPTION:
URL:https://www.carersmanchester.org.uk/event/lifted-carers-drop-in-10/2025-04-21/
LOCATION:Dandelion Community Centre\, Oatlands Road\, Manchester\, M22 1AL
END:VEVENT
BEGIN:VEVENT
DTSTART;TZID=Europe/Paris:20250419T100000
DTEND;TZID=Europe/Paris:20250419T110000
DTSTAMP:20260422T161540
CREATED:20250127T130325Z
LAST-MODIFIED:20250127T130325Z
UID:10003095-1745056800-1745060400@www.carersmanchester.org.uk
SUMMARY:Creative Care – Art for Kids with Additional Needs
DESCRIPTION:Text from organiser: \nCreative Care – Art for Kids with Additional Needs\n\nEvery other Saturday\, 10-11am\n@ Z-Arts\, 335 Stretford Road\, Hulme\, M15 5ZA\nThese inclusive sessions are open to children aged 8 to 16 and are led by Kirsty Gbasai\, a talented Artist & Freelance Creative Practitioner. The sessions celebrate diverse ways of thinking and learning\, offering a welcoming space for children to express their creativity. \nDuring each session\, children will have the chance to explore a range of art techniques\, from painting and drawing to collage and mixed media. \nThis isn’t a one-size-fits-all approach – we encourage each child to explore their own ideas\, experiment\, and try new techniques in a supportive and creative environment. \nFor a full list of dates\, visit the Z-arts Event Page. \nFor more information\, please reach out to Tabitha at tabitha@z-arts.org or call 0161 697 5916.
URL:https://www.carersmanchester.org.uk/event/creative-care-art-for-kids-with-additional-needs/2025-04-19/
LOCATION:Z-Arts\, 335 Stretford Road\, M15 5ZA
END:VEVENT
BEGIN:VEVENT
DTSTART;TZID=Europe/Paris:20250416T190000
DTEND;TZID=Europe/Paris:20250416T203000
DTSTAMP:20260422T161540
CREATED:20250211T165514Z
LAST-MODIFIED:20250211T165514Z
UID:10003123-1744830000-1744835400@www.carersmanchester.org.uk
SUMMARY:Together dementia support: Zoom Dementia Carers Training 4 week course
DESCRIPTION:Contact beth@togetherdementiasupport.org
URL:https://www.carersmanchester.org.uk/event/together-dementia-support-zoom-dementia-carers-training-4-week-course/2025-04-16/
END:VEVENT
BEGIN:VEVENT
DTSTART;TZID=Europe/Paris:20250416T133000
DTEND;TZID=Europe/Paris:20250416T153000
DTSTAMP:20260422T161540
CREATED:20250327T120231Z
LAST-MODIFIED:20250327T120231Z
UID:10003227-1744810200-1744817400@www.carersmanchester.org.uk
SUMMARY:Versus Arthritis information session: arthritis awareness
DESCRIPTION:If you live with arthritis\, chronic pain or care for someone who does\, Versus Arthritis invites you to come along to one of their free\, friendly and interactive information and support talks. These sessions provide helpful tips\, useful resources and the chance for participants to share their experiences. \nUpcoming talks will be held at an accessible venue in Central Manchester: \nVirgin Money Manchester\, 48-50 Market Street\, Manchester\, M1 1PW. You can register for the following talks (all between 1:30-3:30pm): \n\n2 April: Managing Pain\n9 April: Managing Fatigue\n16 April: Arthritis Awareness\n\nRegister online to book your place\, or if you require more support with registration\, please email services@versusarthritis.org or call 0300 790 0433.
URL:https://www.carersmanchester.org.uk/event/versus-arthritis-information-session-awareness/
LOCATION:Virgin Money Manchester\, 48-50 Market Street\, Manchester\, M1 1PW
END:VEVENT
BEGIN:VEVENT
DTSTART;TZID=Europe/Paris:20250416T133000
DTEND;TZID=Europe/Paris:20250416T153000
DTSTAMP:20260422T161540
CREATED:20250211T130515Z
LAST-MODIFIED:20250211T130515Z
UID:10003110-1744810200-1744817400@www.carersmanchester.org.uk
SUMMARY:Manchester Carers Forum: Cheetham and Crumpsall support group
DESCRIPTION:For more information contact Karen on 07903 685435 or email karen@manchestercarersforum.org.uk
URL:https://www.carersmanchester.org.uk/event/manchester-carers-forum-cheetham-and-crumpsall-support-group-3/
LOCATION:Ukrainian Cultural Centre\, 31 Smedley Lane\, Cheetham Hill\,\, Manchester\, M8 8XB
END:VEVENT
BEGIN:VEVENT
DTSTART;TZID=Europe/Paris:20250416T130000
DTEND;TZID=Europe/Paris:20250416T150000
DTSTAMP:20260422T161540
CREATED:20250407T134245Z
LAST-MODIFIED:20250407T134245Z
UID:10003289-1744808400-1744815600@www.carersmanchester.org.uk
SUMMARY:ACCG: Carers Easter Event
DESCRIPTION:To sign up please phone 0161 226 6334 or email cmc@accg.org.uk
URL:https://www.carersmanchester.org.uk/event/accg-carers-easter-event/
LOCATION:Claremont Resource Centre\, 2 Jarvis Road\, Manchester\, M15 5FS
END:VEVENT
BEGIN:VEVENT
DTSTART;TZID=Europe/Paris:20250416T110000
DTEND;TZID=Europe/Paris:20250416T130000
DTSTAMP:20260422T161540
CREATED:20250117T135335Z
LAST-MODIFIED:20250117T135442Z
UID:10002507-1744801200-1744808400@www.carersmanchester.org.uk
SUMMARY:Lifted: Walking Group
DESCRIPTION:Text from organiser: \nEvery Wednesday\, staff and carers and family who attend Lifted. Meet up for a lovely walk around Wythenshawe park. \nThe group meet up at the Cafe from there they set off as a group. Half way around the walk the group splits into two groups. One for those who want to do the 1 mile walk\, the other group for those who want to do a 2 or 3 mile walk. \nThe group meet back up at the cafe for a hot drink and a chat. \n  \nWe welcome all new walkers regardless of walking ability we cater for everyone! Still not sure why not read our blog about the walking group – Link \nLifted walking group – Every Wednesday at 11am – 1pm. Make sure to drop us a text or email to let us know you are coming.\nCall/text us on:07385568990 Or 07384784262 \nOr email us: info@liftedcarerscentre.org.uk
URL:https://www.carersmanchester.org.uk/event/lifted-walking-group-10/2025-04-16/
LOCATION:Wythenshawe Park\, Manchester\, M23 0AB
END:VEVENT
BEGIN:VEVENT
DTSTART;TZID=Europe/Paris:20250416T103000
DTEND;TZID=Europe/Paris:20250416T120000
DTSTAMP:20260422T161540
CREATED:20250403T103051Z
LAST-MODIFIED:20250403T103051Z
UID:10003241-1744799400-1744804800@www.carersmanchester.org.uk
SUMMARY:Move and Live Well with Parkinson's class- North Manchester
DESCRIPTION:Led by experienced dance artist Jody\, this relaxed and fun session is for anyone living with Parkinson’s and their support network. Sessions can be taken seated or standing and adapted for anybody. \nSessions will begin sitting with gentle movements focusing on mobility and body awareness. Using a wide range of music\, sessions will develop physical strength\, spacial awareness\, balance and motor skills. \nSessions are £3\, first session free. There will be refreshments provided and social time included. Partners/carers are encouraged to join. Bring water\, comfortable loose clothing and supportive shoes. \nThere is a small car park at the church\, as well as on street parking. The venue is accessible by a ramp and there are accessible facilities. \nNo need to book\, just run up. For more info email manchester@livewellanddance.org.uk
URL:https://www.carersmanchester.org.uk/event/move-and-live-well-with-parkinsons-class-north-manchester/2025-04-16/
LOCATION:Crumpsall Methodist Church\, Lansdowne Road\, Manchester\, M8 5ST
END:VEVENT
BEGIN:VEVENT
DTSTART;TZID=Europe/Paris:20250415T130000
DTEND;TZID=Europe/Paris:20250415T153000
DTSTAMP:20260422T161540
CREATED:20250326T134413Z
LAST-MODIFIED:20250326T134413Z
UID:10003223-1744722000-1744731000@www.carersmanchester.org.uk
SUMMARY:Carers trip to RHS Bridgewater
DESCRIPTION:To book your place please contact Paula on 07763565160 or email Paula@togetherdementiasupport.org.
URL:https://www.carersmanchester.org.uk/event/carers-trip-to-rhs-bridgewater/
LOCATION:RHS Bridgewater\, Worsley\, Salford\, M28 2LJ
END:VEVENT
BEGIN:VEVENT
DTSTART;TZID=Europe/Paris:20250414T123000
DTEND;TZID=Europe/Paris:20250414T140000
DTSTAMP:20260422T161540
CREATED:20241213T121023Z
LAST-MODIFIED:20241216T113524Z
UID:10001910-1744633800-1744639200@www.carersmanchester.org.uk
SUMMARY:Lifted: Uplift Meal
DESCRIPTION:
URL:https://www.carersmanchester.org.uk/event/lifted-uplift-meal-10/2025-04-14/
LOCATION:Dandelion Community Centre\, Oatlands Road\, Manchester\, M22 1AL
END:VEVENT
BEGIN:VEVENT
DTSTART;TZID=Europe/Paris:20250414T120000
DTEND;TZID=Europe/Paris:20250414T140000
DTSTAMP:20260422T161540
CREATED:20250403T103741Z
LAST-MODIFIED:20250403T103741Z
UID:10003279-1744632000-1744639200@www.carersmanchester.org.uk
SUMMARY:South Manchester Parkinson's Support Group
DESCRIPTION:We are a social and support group for people with Parkinson’s and their partners or carers who live in South Manchester and\nsurrounding areas. We meet once a month\, on the second Monday of the month\, at Didsbury Good Neighbours in Didsbury Park. People start gathering for the meeting at 12pm which typically lasts an hour or two. You can just turn up and will be welcomed. \nDonations from visitors and members to help with our running costs and provision of refreshments\, are very welcome. Typical donations are £6 pp. Several members also opt for shared lunch which costs £4 pp (those that want lunch will be asked in advance) Alternatively you can bring your own lunch. \nThere is sometimes a guest speaker offering information about a topic of interest to the group. The group also organises social gatherings and outings\, where you can get to know other people facing the same challenges as yourself. We are affiliated to Parkinson’s UK and many in our group are members of that but you can attend our meetings without being a member. \nFor more information about Parkinson’s UK please see website:- https://www.parkinsons.org.uk/get-involved/become-member \nNeed help with transport? Ring and Ride provides accessible\, low cost transport to disabled people and older people with walking difficulties for journeys of up to 6 miles. Phone Ring and Ride on 0161 200 6011. \n\n\nPrimary contact\n\nAmanda Ashworth\n0344 225 9846\naashworth@parkinsons.org.uk
URL:https://www.carersmanchester.org.uk/event/south-manchester-parkinsons-support-group/2025-04-14/
LOCATION:Didsbury Good Neighbours\, Didsbury Neighbourhood Centre\, Didsbury\, M20 6WH\, United Kingdom
END:VEVENT
BEGIN:VEVENT
DTSTART;TZID=Europe/Paris:20250414T110000
DTEND;TZID=Europe/Paris:20250414T140000
DTSTAMP:20260422T161540
CREATED:20241213T120553Z
LAST-MODIFIED:20250519T121242Z
UID:10001652-1744628400-1744639200@www.carersmanchester.org.uk
SUMMARY:Lifted: Carers Drop-in
DESCRIPTION:
URL:https://www.carersmanchester.org.uk/event/lifted-carers-drop-in-10/2025-04-14/
LOCATION:Dandelion Community Centre\, Oatlands Road\, Manchester\, M22 1AL
END:VEVENT
BEGIN:VEVENT
DTSTART;TZID=Europe/Paris:20250414T110000
DTEND;TZID=Europe/Paris:20250414T130000
DTSTAMP:20260422T161540
CREATED:20250403T102554Z
LAST-MODIFIED:20250403T102554Z
UID:10003231-1744628400-1744635600@www.carersmanchester.org.uk
SUMMARY:Manchester Parkinson's Cafe
DESCRIPTION:Drop in cafe hosted by Parkinson’s UK volunteers. Meet other people with Parkinson’s\, socialise\, share information and experiences. Friends and family welcome. \nThis runs on the second Monday of the month from 11am to 1pm. \nThe ASDA community room is at the back of the store and is fully accessible. \n1. Dates for 2025: \n\n13 January\n10 February\n10 March\n14 April\n12 May\n9 June\n14 July\n11 August\n8 September\n13 October\n10 November\n9 December\n\n\n\n2. Primary contact \n\nHelen Sturman\n07768 834 115\nhsturman@parkinsons.org.uk\n\n\n\n3. Location \n\n\nASDA Eastlands Community Room\nASDA Eastlands\, Sport City\nManchester\nM11 4BD
URL:https://www.carersmanchester.org.uk/event/manchester-parkinsons-cafe-7/2025-04-14/
LOCATION:Asda Eastlands\, The community room\, Ashton New Road\, M11 4DB
END:VEVENT
BEGIN:VEVENT
DTSTART;TZID=Europe/Paris:20250411T140000
DTEND;TZID=Europe/Paris:20250411T160000
DTSTAMP:20260422T161540
CREATED:20250214T161442Z
LAST-MODIFIED:20250214T161442Z
UID:10003207-1744380000-1744387200@www.carersmanchester.org.uk
SUMMARY:Together Dementia Support: First Aid Course for carers at Kath Locke Centre
DESCRIPTION:Contact beth@togetherdementiasupport.org to book
URL:https://www.carersmanchester.org.uk/event/together-dementia-support-first-aid-course-for-carers-at-kath-locke-centre/
LOCATION:Kath Locke Centre\, 123 Moss Lane East\, Manchester\, M15 5DD
END:VEVENT
BEGIN:VEVENT
DTSTART;TZID=Europe/Paris:20250409T190000
DTEND;TZID=Europe/Paris:20250409T203000
DTSTAMP:20260422T161540
CREATED:20250211T165514Z
LAST-MODIFIED:20250211T165514Z
UID:10003122-1744225200-1744230600@www.carersmanchester.org.uk
SUMMARY:Together dementia support: Zoom Dementia Carers Training 4 week course
DESCRIPTION:Contact beth@togetherdementiasupport.org
URL:https://www.carersmanchester.org.uk/event/together-dementia-support-zoom-dementia-carers-training-4-week-course/2025-04-09/
END:VEVENT
BEGIN:VEVENT
DTSTART;TZID=Europe/Paris:20250409T133000
DTEND;TZID=Europe/Paris:20250409T153000
DTSTAMP:20260422T161540
CREATED:20250327T120112Z
LAST-MODIFIED:20250327T120112Z
UID:10003226-1744205400-1744212600@www.carersmanchester.org.uk
SUMMARY:Versus Arthritis information session: managing fatique
DESCRIPTION:If you live with arthritis\, chronic pain or care for someone who does\, Versus Arthritis invites you to come along to one of their free\, friendly and interactive information and support talks. These sessions provide helpful tips\, useful resources and the chance for participants to share their experiences. \nUpcoming talks will be held at an accessible venue in Central Manchester: \nVirgin Money Manchester\, 48-50 Market Street\, Manchester\, M1 1PW. You can register for the following talks (all between 1:30-3:30pm): \n\n2 April: Managing Pain\n9 April: Managing Fatigue\n16 April: Arthritis Awareness\n\nRegister online to book your place\, or if you require more support with registration\, please email services@versusarthritis.org or call 0300 790 0433.
URL:https://www.carersmanchester.org.uk/event/versus-arthritis-information-session-managing-fatique/
LOCATION:Virgin Money Manchester\, 48-50 Market Street\, Manchester\, M1 1PW
END:VEVENT
BEGIN:VEVENT
DTSTART;TZID=Europe/Paris:20250409T110000
DTEND;TZID=Europe/Paris:20250409T130000
DTSTAMP:20260422T161540
CREATED:20250117T135335Z
LAST-MODIFIED:20250117T135442Z
UID:10002506-1744196400-1744203600@www.carersmanchester.org.uk
SUMMARY:Lifted: Walking Group
DESCRIPTION:Text from organiser: \nEvery Wednesday\, staff and carers and family who attend Lifted. Meet up for a lovely walk around Wythenshawe park. \nThe group meet up at the Cafe from there they set off as a group. Half way around the walk the group splits into two groups. One for those who want to do the 1 mile walk\, the other group for those who want to do a 2 or 3 mile walk. \nThe group meet back up at the cafe for a hot drink and a chat. \n  \nWe welcome all new walkers regardless of walking ability we cater for everyone! Still not sure why not read our blog about the walking group – Link \nLifted walking group – Every Wednesday at 11am – 1pm. Make sure to drop us a text or email to let us know you are coming.\nCall/text us on:07385568990 Or 07384784262 \nOr email us: info@liftedcarerscentre.org.uk
URL:https://www.carersmanchester.org.uk/event/lifted-walking-group-10/2025-04-09/
LOCATION:Wythenshawe Park\, Manchester\, M23 0AB
END:VEVENT
BEGIN:VEVENT
DTSTART;TZID=Europe/Paris:20250409T103000
DTEND;TZID=Europe/Paris:20250409T120000
DTSTAMP:20260422T161540
CREATED:20250403T103051Z
LAST-MODIFIED:20250403T103051Z
UID:10003240-1744194600-1744200000@www.carersmanchester.org.uk
SUMMARY:Move and Live Well with Parkinson's class- North Manchester
DESCRIPTION:Led by experienced dance artist Jody\, this relaxed and fun session is for anyone living with Parkinson’s and their support network. Sessions can be taken seated or standing and adapted for anybody. \nSessions will begin sitting with gentle movements focusing on mobility and body awareness. Using a wide range of music\, sessions will develop physical strength\, spacial awareness\, balance and motor skills. \nSessions are £3\, first session free. There will be refreshments provided and social time included. Partners/carers are encouraged to join. Bring water\, comfortable loose clothing and supportive shoes. \nThere is a small car park at the church\, as well as on street parking. The venue is accessible by a ramp and there are accessible facilities. \nNo need to book\, just run up. For more info email manchester@livewellanddance.org.uk
URL:https://www.carersmanchester.org.uk/event/move-and-live-well-with-parkinsons-class-north-manchester/2025-04-09/
LOCATION:Crumpsall Methodist Church\, Lansdowne Road\, Manchester\, M8 5ST
END:VEVENT
BEGIN:VEVENT
DTSTART;TZID=Europe/Paris:20250407T123000
DTEND;TZID=Europe/Paris:20250407T140000
DTSTAMP:20260422T161540
CREATED:20241213T121023Z
LAST-MODIFIED:20241216T113524Z
UID:10001909-1744029000-1744034400@www.carersmanchester.org.uk
SUMMARY:Lifted: Uplift Meal
DESCRIPTION:
URL:https://www.carersmanchester.org.uk/event/lifted-uplift-meal-10/2025-04-07/
LOCATION:Dandelion Community Centre\, Oatlands Road\, Manchester\, M22 1AL
END:VEVENT
BEGIN:VEVENT
DTSTART;TZID=Europe/Paris:20250407T110000
DTEND;TZID=Europe/Paris:20250407T140000
DTSTAMP:20260422T161540
CREATED:20241213T120553Z
LAST-MODIFIED:20250519T121242Z
UID:10001651-1744023600-1744034400@www.carersmanchester.org.uk
SUMMARY:Lifted: Carers Drop-in
DESCRIPTION:
URL:https://www.carersmanchester.org.uk/event/lifted-carers-drop-in-10/2025-04-07/
LOCATION:Dandelion Community Centre\, Oatlands Road\, Manchester\, M22 1AL
END:VEVENT
BEGIN:VEVENT
DTSTART;TZID=Europe/Paris:20250405T100000
DTEND;TZID=Europe/Paris:20250405T110000
DTSTAMP:20260422T161540
CREATED:20250127T130325Z
LAST-MODIFIED:20250127T130325Z
UID:10003094-1743847200-1743850800@www.carersmanchester.org.uk
SUMMARY:Creative Care – Art for Kids with Additional Needs
DESCRIPTION:Text from organiser: \nCreative Care – Art for Kids with Additional Needs\n\nEvery other Saturday\, 10-11am\n@ Z-Arts\, 335 Stretford Road\, Hulme\, M15 5ZA\nThese inclusive sessions are open to children aged 8 to 16 and are led by Kirsty Gbasai\, a talented Artist & Freelance Creative Practitioner. The sessions celebrate diverse ways of thinking and learning\, offering a welcoming space for children to express their creativity. \nDuring each session\, children will have the chance to explore a range of art techniques\, from painting and drawing to collage and mixed media. \nThis isn’t a one-size-fits-all approach – we encourage each child to explore their own ideas\, experiment\, and try new techniques in a supportive and creative environment. \nFor a full list of dates\, visit the Z-arts Event Page. \nFor more information\, please reach out to Tabitha at tabitha@z-arts.org or call 0161 697 5916.
URL:https://www.carersmanchester.org.uk/event/creative-care-art-for-kids-with-additional-needs/2025-04-05/
LOCATION:Z-Arts\, 335 Stretford Road\, M15 5ZA
END:VEVENT
BEGIN:VEVENT
DTSTART;TZID=Europe/Paris:20250404T140000
DTEND;TZID=Europe/Paris:20250404T153000
DTSTAMP:20260422T161540
CREATED:20250618T155142Z
LAST-MODIFIED:20250618T155142Z
UID:10003915-1743775200-1743780600@www.carersmanchester.org.uk
SUMMARY:Recurring event - Manchester Carers Forum: Burnage Carers Peer Support Group
DESCRIPTION:Please contact the organiser prior to attending\, in case of last minute changes. \n\n1st Friday of every month\, 2-3.30pm\nThe Burnage Library\, Burnage Ln\, Manchester M19 1EW\nContact Daniel on 07415 436382 or daniel@manchestercarersforum.org.uk
URL:https://www.carersmanchester.org.uk/event/burnage-peer-support/2025-04-04/
LOCATION:Burnage Library\, Burnage Lane\, Manchester\, M19 1EW
END:VEVENT
BEGIN:VEVENT
DTSTART;TZID=Europe/Paris:20250402T190000
DTEND;TZID=Europe/Paris:20250402T203000
DTSTAMP:20260422T161540
CREATED:20250211T165514Z
LAST-MODIFIED:20250211T165514Z
UID:10003121-1743620400-1743625800@www.carersmanchester.org.uk
SUMMARY:Together dementia support: Zoom Dementia Carers Training 4 week course
DESCRIPTION:Contact beth@togetherdementiasupport.org
URL:https://www.carersmanchester.org.uk/event/together-dementia-support-zoom-dementia-carers-training-4-week-course/2025-04-02/
END:VEVENT
BEGIN:VEVENT
DTSTART;TZID=Europe/Paris:20250402T133000
DTEND;TZID=Europe/Paris:20250402T153000
DTSTAMP:20260422T161540
CREATED:20250327T120013Z
LAST-MODIFIED:20250327T120013Z
UID:10003225-1743600600-1743607800@www.carersmanchester.org.uk
SUMMARY:Versus Arthritis information session: managing pain
DESCRIPTION:If you live with arthritis\, chronic pain or care for someone who does\, Versus Arthritis invites you to come along to one of their free\, friendly and interactive information and support talks. These sessions provide helpful tips\, useful resources and the chance for participants to share their experiences. \nUpcoming talks will be held at an accessible venue in Central Manchester: \nVirgin Money Manchester\, 48-50 Market Street\, Manchester\, M1 1PW. You can register for the following talks (all between 1:30-3:30pm): \n\n2 April: Managing Pain\n9 April: Managing Fatigue\n16 April: Arthritis Awareness\n\nRegister online to book your place\, or if you require more support with registration\, please email services@versusarthritis.org or call 0300 790 0433.
URL:https://www.carersmanchester.org.uk/event/versus-arthritis-information-session-managing-pain/
LOCATION:Virgin Money Manchester\, 48-50 Market Street\, Manchester\, M1 1PW
END:VEVENT
BEGIN:VEVENT
DTSTART;TZID=Europe/Paris:20250402T133000
DTEND;TZID=Europe/Paris:20250402T143000
DTSTAMP:20260422T161540
CREATED:20250327T121831Z
LAST-MODIFIED:20250327T121831Z
UID:10003230-1743600600-1743604200@www.carersmanchester.org.uk
SUMMARY:Live webinar: creating playful environments for people with dementia
DESCRIPTION:Mary Fridley and Maxine Linnell will discuss how to create playful environments where people with dementia are supported to take risks and grow. \n  \nClick here to register
URL:https://www.carersmanchester.org.uk/event/live-webinar-creating-playful-environments-for-people-with-dementia/
LOCATION:online
END:VEVENT
BEGIN:VEVENT
DTSTART;TZID=Europe/Paris:20250402T110000
DTEND;TZID=Europe/Paris:20250402T130000
DTSTAMP:20260422T161540
CREATED:20250117T135335Z
LAST-MODIFIED:20250117T135442Z
UID:10002505-1743591600-1743598800@www.carersmanchester.org.uk
SUMMARY:Lifted: Walking Group
DESCRIPTION:Text from organiser: \nEvery Wednesday\, staff and carers and family who attend Lifted. Meet up for a lovely walk around Wythenshawe park. \nThe group meet up at the Cafe from there they set off as a group. Half way around the walk the group splits into two groups. One for those who want to do the 1 mile walk\, the other group for those who want to do a 2 or 3 mile walk. \nThe group meet back up at the cafe for a hot drink and a chat. \n  \nWe welcome all new walkers regardless of walking ability we cater for everyone! Still not sure why not read our blog about the walking group – Link \nLifted walking group – Every Wednesday at 11am – 1pm. Make sure to drop us a text or email to let us know you are coming.\nCall/text us on:07385568990 Or 07384784262 \nOr email us: info@liftedcarerscentre.org.uk
URL:https://www.carersmanchester.org.uk/event/lifted-walking-group-10/2025-04-02/
LOCATION:Wythenshawe Park\, Manchester\, M23 0AB
END:VEVENT
BEGIN:VEVENT
DTSTART;TZID=Europe/Paris:20250401T110000
DTEND;TZID=Europe/Paris:20250401T130000
DTSTAMP:20260422T161540
CREATED:20250326T134126Z
LAST-MODIFIED:20250326T134126Z
UID:10003222-1743505200-1743512400@www.carersmanchester.org.uk
SUMMARY:North Manchester carers Irish breakfast meetup
DESCRIPTION:To book your place please contact 0161 226 7186 or email Claire@togetherdementiasupport.org.
URL:https://www.carersmanchester.org.uk/event/north-manchester-carers-irish-breakfast-meetup/
LOCATION:Irish World Heritage Centre\, 1 Irish Town Way\, Cheetham Hill\, Manchester\, M8 0AE
END:VEVENT
BEGIN:VEVENT
DTSTART;TZID=Europe/Paris:20250331T123000
DTEND;TZID=Europe/Paris:20250331T140000
DTSTAMP:20260422T161540
CREATED:20241213T121023Z
LAST-MODIFIED:20241216T113524Z
UID:10001908-1743424200-1743429600@www.carersmanchester.org.uk
SUMMARY:Lifted: Uplift Meal
DESCRIPTION:
URL:https://www.carersmanchester.org.uk/event/lifted-uplift-meal-10/2025-03-31/
LOCATION:Dandelion Community Centre\, Oatlands Road\, Manchester\, M22 1AL
END:VEVENT
BEGIN:VEVENT
DTSTART;TZID=Europe/Paris:20250331T110000
DTEND;TZID=Europe/Paris:20250331T140000
DTSTAMP:20260422T161540
CREATED:20241213T120553Z
LAST-MODIFIED:20250519T121242Z
UID:10001650-1743418800-1743429600@www.carersmanchester.org.uk
SUMMARY:Lifted: Carers Drop-in
DESCRIPTION:
URL:https://www.carersmanchester.org.uk/event/lifted-carers-drop-in-10/2025-03-31/
LOCATION:Dandelion Community Centre\, Oatlands Road\, Manchester\, M22 1AL
END:VEVENT
BEGIN:VEVENT
DTSTART;TZID=Europe/Paris:20250329T110000
DTEND;TZID=Europe/Paris:20250329T130000
DTSTAMP:20260422T161540
CREATED:20250327T110428Z
LAST-MODIFIED:20250327T114844Z
UID:10003224-1743246000-1743253200@www.carersmanchester.org.uk
SUMMARY:Together Dementia Support: spring walk for carers
DESCRIPTION:For more information or to book your place\, please call Together Dementia Support on 0161 226 7186 or email admin@togetherdementiasupport.org.
URL:https://www.carersmanchester.org.uk/event/together-dementia-support-spring-walk-for-carers/
LOCATION:Tatton Park\, Knutsford
END:VEVENT
END:VCALENDAR