BEGIN:VCALENDAR
VERSION:2.0
PRODID:-//The Carers Manchester Contact Point - ECPv6.15.18//NONSGML v1.0//EN
CALSCALE:GREGORIAN
METHOD:PUBLISH
X-WR-CALNAME:The Carers Manchester Contact Point
X-ORIGINAL-URL:https://www.carersmanchester.org.uk
X-WR-CALDESC:Events for The Carers Manchester Contact Point
REFRESH-INTERVAL;VALUE=DURATION:PT1H
X-Robots-Tag:noindex
X-PUBLISHED-TTL:PT1H
BEGIN:VTIMEZONE
TZID:Europe/Paris
BEGIN:DAYLIGHT
TZOFFSETFROM:+0100
TZOFFSETTO:+0200
TZNAME:CEST
DTSTART:20260329T010000
END:DAYLIGHT
BEGIN:STANDARD
TZOFFSETFROM:+0200
TZOFFSETTO:+0100
TZNAME:CET
DTSTART:20261025T010000
END:STANDARD
BEGIN:DAYLIGHT
TZOFFSETFROM:+0100
TZOFFSETTO:+0200
TZNAME:CEST
DTSTART:20270328T010000
END:DAYLIGHT
BEGIN:STANDARD
TZOFFSETFROM:+0200
TZOFFSETTO:+0100
TZNAME:CET
DTSTART:20271031T010000
END:STANDARD
BEGIN:DAYLIGHT
TZOFFSETFROM:+0100
TZOFFSETTO:+0200
TZNAME:CEST
DTSTART:20280326T010000
END:DAYLIGHT
BEGIN:STANDARD
TZOFFSETFROM:+0200
TZOFFSETTO:+0100
TZNAME:CET
DTSTART:20281029T010000
END:STANDARD
END:VTIMEZONE
BEGIN:VEVENT
DTSTART;TZID=Europe/Paris:20271011T110000
DTEND;TZID=Europe/Paris:20271011T140000
DTSTAMP:20260424T161353
CREATED:20241213T120553Z
LAST-MODIFIED:20250519T121242Z
UID:10001782-1823252400-1823263200@www.carersmanchester.org.uk
SUMMARY:Lifted: Carers Drop-in
DESCRIPTION:
URL:https://www.carersmanchester.org.uk/event/lifted-carers-drop-in-10/2027-10-11/
LOCATION:Dandelion Community Centre\, Oatlands Road\, Manchester\, M22 1AL
END:VEVENT
BEGIN:VEVENT
DTSTART;TZID=Europe/Paris:20271011T123000
DTEND;TZID=Europe/Paris:20271011T140000
DTSTAMP:20260424T161353
CREATED:20241213T121023Z
LAST-MODIFIED:20241216T113524Z
UID:10002040-1823257800-1823263200@www.carersmanchester.org.uk
SUMMARY:Lifted: Uplift Meal
DESCRIPTION:
URL:https://www.carersmanchester.org.uk/event/lifted-uplift-meal-10/2027-10-11/
LOCATION:Dandelion Community Centre\, Oatlands Road\, Manchester\, M22 1AL
END:VEVENT
BEGIN:VEVENT
DTSTART;TZID=Europe/Paris:20271012T130000
DTEND;TZID=Europe/Paris:20271012T144500
DTSTAMP:20260424T161353
CREATED:20260307T143226Z
LAST-MODIFIED:20260307T143226Z
UID:10004712-1823346000-1823352300@www.carersmanchester.org.uk
SUMMARY:Manchester Carers Forum: Wythenshawe Carers Peer Support Group
DESCRIPTION:Tuesday 10th March\, 1pm – 2.45pm (2nd Tuesday of every month)\nDandelion Community\, Oatlands Road\, Wythenshawe\, M22 1AH\nContact – Daniel on 07415436382\n\ndaniel@manchestercarersforum.org.uk  \n*Please contact the organiser prior to attending in case of last minute changes in the month.*
URL:https://www.carersmanchester.org.uk/event/manchester-carers-forum-wythenshawe-carers-peer-support-group-2/2027-10-12/
LOCATION:Dandelion Community Centre\, Oatlands Road\, Manchester\, M22 1AL
END:VEVENT
BEGIN:VEVENT
DTSTART;TZID=Europe/Paris:20271013T140000
DTEND;TZID=Europe/Paris:20271013T153000
DTSTAMP:20260424T161353
CREATED:20251203T093803Z
LAST-MODIFIED:20260126T100139Z
UID:10004169-1823436000-1823441400@www.carersmanchester.org.uk
SUMMARY:Kick off with a Verse (Wednesday afternoons)
DESCRIPTION:To sign up or learn more\, please email karindenovellis@gmail.com
URL:https://www.carersmanchester.org.uk/event/kickoffverse/2027-10-13/
LOCATION:online
ORGANIZER;CN="Karin De Novellis":MAILTO:karindenovellis@gmail.com
END:VEVENT
BEGIN:VEVENT
DTSTART;TZID=Europe/Paris:20271014T190000
DTEND;TZID=Europe/Paris:20271014T203000
DTSTAMP:20260424T161353
CREATED:20251203T094125Z
LAST-MODIFIED:20260126T100038Z
UID:10004424-1823540400-1823545800@www.carersmanchester.org.uk
SUMMARY:Kick off with a Verse (Thursday evenings)
DESCRIPTION:To sign up or learn more\, please email karindenovellis@gmail.com
URL:https://www.carersmanchester.org.uk/event/kickoffversethursday/2027-10-14/
ORGANIZER;CN="Karin De Novellis":MAILTO:karindenovellis@gmail.com
END:VEVENT
BEGIN:VEVENT
DTSTART;TZID=Europe/Paris:20271018T110000
DTEND;TZID=Europe/Paris:20271018T140000
DTSTAMP:20260424T161353
CREATED:20241213T120553Z
LAST-MODIFIED:20250519T121242Z
UID:10001783-1823857200-1823868000@www.carersmanchester.org.uk
SUMMARY:Lifted: Carers Drop-in
DESCRIPTION:
URL:https://www.carersmanchester.org.uk/event/lifted-carers-drop-in-10/2027-10-18/
LOCATION:Dandelion Community Centre\, Oatlands Road\, Manchester\, M22 1AL
END:VEVENT
BEGIN:VEVENT
DTSTART;TZID=Europe/Paris:20271018T123000
DTEND;TZID=Europe/Paris:20271018T140000
DTSTAMP:20260424T161353
CREATED:20241213T121023Z
LAST-MODIFIED:20241216T113524Z
UID:10002041-1823862600-1823868000@www.carersmanchester.org.uk
SUMMARY:Lifted: Uplift Meal
DESCRIPTION:
URL:https://www.carersmanchester.org.uk/event/lifted-uplift-meal-10/2027-10-18/
LOCATION:Dandelion Community Centre\, Oatlands Road\, Manchester\, M22 1AL
END:VEVENT
BEGIN:VEVENT
DTSTART;TZID=Europe/Paris:20271020T133000
DTEND;TZID=Europe/Paris:20271020T153000
DTSTAMP:20260424T161353
CREATED:20250618T154559Z
LAST-MODIFIED:20250618T154559Z
UID:10003876-1824039000-1824046200@www.carersmanchester.org.uk
SUMMARY:Manchester Carers Forum: Cheetham and Crumpsall support group
DESCRIPTION:3rd Wednesday of every month\, 12.30-2.30pm\nUkrainian Cultural Centre\, 31 Smedley Lane\, Cheetham Hill M8 8XB\n\nPlease contact Karen prior to attending in case of last-minute changes: \n\n07903 685435\nor karen@manchestercarersforum.org.uk\n\n  \n 
URL:https://www.carersmanchester.org.uk/event/manchester-carers-forum-cheetham-and-crumpsall-support-group-4/2027-10-20/
LOCATION:Ukrainian Cultural Centre\, 31 Smedley Lane\, Cheetham Hill\,\, Manchester\, M8 8XB
END:VEVENT
BEGIN:VEVENT
DTSTART;TZID=Europe/Paris:20271020T140000
DTEND;TZID=Europe/Paris:20271020T153000
DTSTAMP:20260424T161353
CREATED:20251203T093803Z
LAST-MODIFIED:20260126T100139Z
UID:10004170-1824040800-1824046200@www.carersmanchester.org.uk
SUMMARY:Kick off with a Verse (Wednesday afternoons)
DESCRIPTION:To sign up or learn more\, please email karindenovellis@gmail.com
URL:https://www.carersmanchester.org.uk/event/kickoffverse/2027-10-20/
LOCATION:online
ORGANIZER;CN="Karin De Novellis":MAILTO:karindenovellis@gmail.com
END:VEVENT
BEGIN:VEVENT
DTSTART;TZID=Europe/Paris:20271021T123000
DTEND;TZID=Europe/Paris:20271021T143000
DTSTAMP:20260424T161353
CREATED:20260307T144000Z
LAST-MODIFIED:20260307T144025Z
UID:10004742-1824121800-1824129000@www.carersmanchester.org.uk
SUMMARY:Manchester Carers Forum: Cheetham Hill Carers Peer Support Group
DESCRIPTION:Wednesday 19th March\, 12.30-2.30pm (3rd Wednesday of the month)\nUkrainian Club 31 Smedley Lane\, Cheetham Hill M8 8XB\nContact – Karen on 07903 685435\n\nkaren@manchestercarersforum.org.uk \n  \n*Please contact the organiser prior to attending in case of last minute changes in the month.*
URL:https://www.carersmanchester.org.uk/event/manchester-carers-forum-cheetham-hill-carers-peer-support-group/2027-10-21/
LOCATION:Ukrainian Club\, 31 Smedley Lane\, Cheetham Hill\, M8 8XB
END:VEVENT
BEGIN:VEVENT
DTSTART;TZID=Europe/Paris:20271021T190000
DTEND;TZID=Europe/Paris:20271021T203000
DTSTAMP:20260424T161353
CREATED:20251203T094125Z
LAST-MODIFIED:20260126T100038Z
UID:10004425-1824145200-1824150600@www.carersmanchester.org.uk
SUMMARY:Kick off with a Verse (Thursday evenings)
DESCRIPTION:To sign up or learn more\, please email karindenovellis@gmail.com
URL:https://www.carersmanchester.org.uk/event/kickoffversethursday/2027-10-21/
ORGANIZER;CN="Karin De Novellis":MAILTO:karindenovellis@gmail.com
END:VEVENT
BEGIN:VEVENT
DTSTART;TZID=Europe/Paris:20271025T110000
DTEND;TZID=Europe/Paris:20271025T140000
DTSTAMP:20260424T161353
CREATED:20241213T120553Z
LAST-MODIFIED:20250519T121242Z
UID:10001784-1824462000-1824472800@www.carersmanchester.org.uk
SUMMARY:Lifted: Carers Drop-in
DESCRIPTION:
URL:https://www.carersmanchester.org.uk/event/lifted-carers-drop-in-10/2027-10-25/
LOCATION:Dandelion Community Centre\, Oatlands Road\, Manchester\, M22 1AL
END:VEVENT
BEGIN:VEVENT
DTSTART;TZID=Europe/Paris:20271025T123000
DTEND;TZID=Europe/Paris:20271025T140000
DTSTAMP:20260424T161353
CREATED:20241213T121023Z
LAST-MODIFIED:20241216T113524Z
UID:10002042-1824467400-1824472800@www.carersmanchester.org.uk
SUMMARY:Lifted: Uplift Meal
DESCRIPTION:
URL:https://www.carersmanchester.org.uk/event/lifted-uplift-meal-10/2027-10-25/
LOCATION:Dandelion Community Centre\, Oatlands Road\, Manchester\, M22 1AL
END:VEVENT
BEGIN:VEVENT
DTSTART;TZID=Europe/Paris:20271027T140000
DTEND;TZID=Europe/Paris:20271027T153000
DTSTAMP:20260424T161353
CREATED:20251203T093803Z
LAST-MODIFIED:20260126T100139Z
UID:10004171-1824645600-1824651000@www.carersmanchester.org.uk
SUMMARY:Kick off with a Verse (Wednesday afternoons)
DESCRIPTION:To sign up or learn more\, please email karindenovellis@gmail.com
URL:https://www.carersmanchester.org.uk/event/kickoffverse/2027-10-27/
LOCATION:online
ORGANIZER;CN="Karin De Novellis":MAILTO:karindenovellis@gmail.com
END:VEVENT
BEGIN:VEVENT
DTSTART;TZID=Europe/Paris:20271028T190000
DTEND;TZID=Europe/Paris:20271028T203000
DTSTAMP:20260424T161353
CREATED:20251203T094125Z
LAST-MODIFIED:20260126T100038Z
UID:10004426-1824750000-1824755400@www.carersmanchester.org.uk
SUMMARY:Kick off with a Verse (Thursday evenings)
DESCRIPTION:To sign up or learn more\, please email karindenovellis@gmail.com
URL:https://www.carersmanchester.org.uk/event/kickoffversethursday/2027-10-28/
ORGANIZER;CN="Karin De Novellis":MAILTO:karindenovellis@gmail.com
END:VEVENT
BEGIN:VEVENT
DTSTART;TZID=Europe/Paris:20271101T110000
DTEND;TZID=Europe/Paris:20271101T140000
DTSTAMP:20260424T161353
CREATED:20241213T120553Z
LAST-MODIFIED:20250519T121242Z
UID:10001785-1825066800-1825077600@www.carersmanchester.org.uk
SUMMARY:Lifted: Carers Drop-in
DESCRIPTION:
URL:https://www.carersmanchester.org.uk/event/lifted-carers-drop-in-10/2027-11-01/
LOCATION:Dandelion Community Centre\, Oatlands Road\, Manchester\, M22 1AL
END:VEVENT
BEGIN:VEVENT
DTSTART;TZID=Europe/Paris:20271101T123000
DTEND;TZID=Europe/Paris:20271101T140000
DTSTAMP:20260424T161353
CREATED:20241213T121023Z
LAST-MODIFIED:20241216T113524Z
UID:10002043-1825072200-1825077600@www.carersmanchester.org.uk
SUMMARY:Lifted: Uplift Meal
DESCRIPTION:
URL:https://www.carersmanchester.org.uk/event/lifted-uplift-meal-10/2027-11-01/
LOCATION:Dandelion Community Centre\, Oatlands Road\, Manchester\, M22 1AL
END:VEVENT
BEGIN:VEVENT
DTSTART;TZID=Europe/Paris:20271103T140000
DTEND;TZID=Europe/Paris:20271103T153000
DTSTAMP:20260424T161353
CREATED:20251203T093803Z
LAST-MODIFIED:20260126T100139Z
UID:10004172-1825250400-1825255800@www.carersmanchester.org.uk
SUMMARY:Kick off with a Verse (Wednesday afternoons)
DESCRIPTION:To sign up or learn more\, please email karindenovellis@gmail.com
URL:https://www.carersmanchester.org.uk/event/kickoffverse/2027-11-03/
LOCATION:online
ORGANIZER;CN="Karin De Novellis":MAILTO:karindenovellis@gmail.com
END:VEVENT
BEGIN:VEVENT
DTSTART;TZID=Europe/Paris:20271104T133000
DTEND;TZID=Europe/Paris:20271104T153000
DTSTAMP:20260424T161353
CREATED:20251009T140514Z
LAST-MODIFIED:20251009T141034Z
UID:10004027-1825335000-1825342200@www.carersmanchester.org.uk
SUMMARY:Recurring event - East Manchester carer support group
DESCRIPTION:For more information\, please contact: \n\nkaren@manchestercarersforum.org.uk\n07903685435
URL:https://www.carersmanchester.org.uk/event/east-support-group/2027-11-04/
LOCATION:Asda Eastlands\, The community room\, Ashton New Road\, M11 4DB
END:VEVENT
BEGIN:VEVENT
DTSTART;TZID=Europe/Paris:20271104T140000
DTEND;TZID=Europe/Paris:20271104T153000
DTSTAMP:20260424T161353
CREATED:20260307T142307Z
LAST-MODIFIED:20260307T142307Z
UID:10004653-1825336800-1825342200@www.carersmanchester.org.uk
SUMMARY:East Manchester Peer Support Group
DESCRIPTION:Thursday 5th March\, 2.00pm – 3.30pm (1st Thursday of every month)\nAsda Eastlands\, The community room\, Ashton New Road M11 4DB\nContact – Karen on 07903 685435\n\nkaren@manchestercarersforum.org.uk \n  \n\n\n\n\n\n\n\n\n*Please contact the organiser prior to attending in case of last minute changes in the month.*
URL:https://www.carersmanchester.org.uk/event/east-manchester-peer-support-group/2027-11-04/
LOCATION:Asda Eastlands\, The community room\, Ashton New Road\, M11 4DB
END:VEVENT
BEGIN:VEVENT
DTSTART;TZID=Europe/Paris:20271104T190000
DTEND;TZID=Europe/Paris:20271104T203000
DTSTAMP:20260424T161353
CREATED:20251203T094125Z
LAST-MODIFIED:20260126T100038Z
UID:10004427-1825354800-1825360200@www.carersmanchester.org.uk
SUMMARY:Kick off with a Verse (Thursday evenings)
DESCRIPTION:To sign up or learn more\, please email karindenovellis@gmail.com
URL:https://www.carersmanchester.org.uk/event/kickoffversethursday/2027-11-04/
ORGANIZER;CN="Karin De Novellis":MAILTO:karindenovellis@gmail.com
END:VEVENT
BEGIN:VEVENT
DTSTART;TZID=Europe/Paris:20271105T140000
DTEND;TZID=Europe/Paris:20271105T153000
DTSTAMP:20260424T161353
CREATED:20250618T155142Z
LAST-MODIFIED:20250618T155142Z
UID:10003946-1825423200-1825428600@www.carersmanchester.org.uk
SUMMARY:Recurring event - Manchester Carers Forum: Burnage Carers Peer Support Group
DESCRIPTION:Please contact the organiser prior to attending\, in case of last minute changes. \n\n1st Friday of every month\, 2-3.30pm\nThe Burnage Library\, Burnage Ln\, Manchester M19 1EW\nContact Daniel on 07415 436382 or daniel@manchestercarersforum.org.uk
URL:https://www.carersmanchester.org.uk/event/burnage-peer-support/2027-11-05/
LOCATION:Burnage Library\, Burnage Lane\, Manchester\, M19 1EW
END:VEVENT
BEGIN:VEVENT
DTSTART;TZID=Europe/Paris:20271105T140000
DTEND;TZID=Europe/Paris:20271105T153000
DTSTAMP:20260424T161353
CREATED:20260307T142813Z
LAST-MODIFIED:20260307T142813Z
UID:10004683-1825423200-1825428600@www.carersmanchester.org.uk
SUMMARY:Manchester Carers Forum: Burnage Carers Peer Support Group
DESCRIPTION:Friday 6th March\, 2.00pm – 3.30pm (1st Friday of every month)\nThe Burnage Library\, Burnage Lane\, Manchester M19 1EW\nContact – Daniel on 07415 436382\n\ndaniel@manchestercarersforum.org.uk \n*Please contact the organiser prior to attending in case of last minute changes in the month.*
URL:https://www.carersmanchester.org.uk/event/manchester-carers-forum-burnage-carers-peer-support-group-3/2027-11-05/
LOCATION:The Burnage Library\, Burnage Lane\, Manchester\, M19 1EW
END:VEVENT
BEGIN:VEVENT
DTSTART;TZID=Europe/Paris:20271108T110000
DTEND;TZID=Europe/Paris:20271108T140000
DTSTAMP:20260424T161353
CREATED:20241213T120553Z
LAST-MODIFIED:20250519T121242Z
UID:10001786-1825671600-1825682400@www.carersmanchester.org.uk
SUMMARY:Lifted: Carers Drop-in
DESCRIPTION:
URL:https://www.carersmanchester.org.uk/event/lifted-carers-drop-in-10/2027-11-08/
LOCATION:Dandelion Community Centre\, Oatlands Road\, Manchester\, M22 1AL
END:VEVENT
BEGIN:VEVENT
DTSTART;TZID=Europe/Paris:20271108T123000
DTEND;TZID=Europe/Paris:20271108T140000
DTSTAMP:20260424T161353
CREATED:20241213T121023Z
LAST-MODIFIED:20241216T113524Z
UID:10002044-1825677000-1825682400@www.carersmanchester.org.uk
SUMMARY:Lifted: Uplift Meal
DESCRIPTION:
URL:https://www.carersmanchester.org.uk/event/lifted-uplift-meal-10/2027-11-08/
LOCATION:Dandelion Community Centre\, Oatlands Road\, Manchester\, M22 1AL
END:VEVENT
BEGIN:VEVENT
DTSTART;TZID=Europe/Paris:20271109T130000
DTEND;TZID=Europe/Paris:20271109T144500
DTSTAMP:20260424T161353
CREATED:20260307T143226Z
LAST-MODIFIED:20260307T143226Z
UID:10004713-1825765200-1825771500@www.carersmanchester.org.uk
SUMMARY:Manchester Carers Forum: Wythenshawe Carers Peer Support Group
DESCRIPTION:Tuesday 10th March\, 1pm – 2.45pm (2nd Tuesday of every month)\nDandelion Community\, Oatlands Road\, Wythenshawe\, M22 1AH\nContact – Daniel on 07415436382\n\ndaniel@manchestercarersforum.org.uk  \n*Please contact the organiser prior to attending in case of last minute changes in the month.*
URL:https://www.carersmanchester.org.uk/event/manchester-carers-forum-wythenshawe-carers-peer-support-group-2/2027-11-09/
LOCATION:Dandelion Community Centre\, Oatlands Road\, Manchester\, M22 1AL
END:VEVENT
BEGIN:VEVENT
DTSTART;TZID=Europe/Paris:20271110T140000
DTEND;TZID=Europe/Paris:20271110T153000
DTSTAMP:20260424T161353
CREATED:20251203T093803Z
LAST-MODIFIED:20260126T100139Z
UID:10004173-1825855200-1825860600@www.carersmanchester.org.uk
SUMMARY:Kick off with a Verse (Wednesday afternoons)
DESCRIPTION:To sign up or learn more\, please email karindenovellis@gmail.com
URL:https://www.carersmanchester.org.uk/event/kickoffverse/2027-11-10/
LOCATION:online
ORGANIZER;CN="Karin De Novellis":MAILTO:karindenovellis@gmail.com
END:VEVENT
BEGIN:VEVENT
DTSTART;TZID=Europe/Paris:20271111T190000
DTEND;TZID=Europe/Paris:20271111T203000
DTSTAMP:20260424T161353
CREATED:20251203T094125Z
LAST-MODIFIED:20260126T100038Z
UID:10004428-1825959600-1825965000@www.carersmanchester.org.uk
SUMMARY:Kick off with a Verse (Thursday evenings)
DESCRIPTION:To sign up or learn more\, please email karindenovellis@gmail.com
URL:https://www.carersmanchester.org.uk/event/kickoffversethursday/2027-11-11/
ORGANIZER;CN="Karin De Novellis":MAILTO:karindenovellis@gmail.com
END:VEVENT
BEGIN:VEVENT
DTSTART;TZID=Europe/Paris:20271115T110000
DTEND;TZID=Europe/Paris:20271115T140000
DTSTAMP:20260424T161353
CREATED:20241213T120553Z
LAST-MODIFIED:20250519T121242Z
UID:10001787-1826276400-1826287200@www.carersmanchester.org.uk
SUMMARY:Lifted: Carers Drop-in
DESCRIPTION:
URL:https://www.carersmanchester.org.uk/event/lifted-carers-drop-in-10/2027-11-15/
LOCATION:Dandelion Community Centre\, Oatlands Road\, Manchester\, M22 1AL
END:VEVENT
BEGIN:VEVENT
DTSTART;TZID=Europe/Paris:20271115T123000
DTEND;TZID=Europe/Paris:20271115T140000
DTSTAMP:20260424T161353
CREATED:20241213T121023Z
LAST-MODIFIED:20241216T113524Z
UID:10002045-1826281800-1826287200@www.carersmanchester.org.uk
SUMMARY:Lifted: Uplift Meal
DESCRIPTION:
URL:https://www.carersmanchester.org.uk/event/lifted-uplift-meal-10/2027-11-15/
LOCATION:Dandelion Community Centre\, Oatlands Road\, Manchester\, M22 1AL
END:VEVENT
END:VCALENDAR