BEGIN:VCALENDAR
VERSION:2.0
PRODID:-//The Carers Manchester Contact Point - ECPv6.15.18//NONSGML v1.0//EN
CALSCALE:GREGORIAN
METHOD:PUBLISH
X-ORIGINAL-URL:https://www.carersmanchester.org.uk
X-WR-CALDESC:Events for The Carers Manchester Contact Point
REFRESH-INTERVAL;VALUE=DURATION:PT1H
X-Robots-Tag:noindex
X-PUBLISHED-TTL:PT1H
BEGIN:VTIMEZONE
TZID:Europe/Paris
BEGIN:DAYLIGHT
TZOFFSETFROM:+0100
TZOFFSETTO:+0200
TZNAME:CEST
DTSTART:20240331T010000
END:DAYLIGHT
BEGIN:STANDARD
TZOFFSETFROM:+0200
TZOFFSETTO:+0100
TZNAME:CET
DTSTART:20241027T010000
END:STANDARD
BEGIN:DAYLIGHT
TZOFFSETFROM:+0100
TZOFFSETTO:+0200
TZNAME:CEST
DTSTART:20250330T010000
END:DAYLIGHT
BEGIN:STANDARD
TZOFFSETFROM:+0200
TZOFFSETTO:+0100
TZNAME:CET
DTSTART:20251026T010000
END:STANDARD
BEGIN:DAYLIGHT
TZOFFSETFROM:+0100
TZOFFSETTO:+0200
TZNAME:CEST
DTSTART:20260329T010000
END:DAYLIGHT
BEGIN:STANDARD
TZOFFSETFROM:+0200
TZOFFSETTO:+0100
TZNAME:CET
DTSTART:20261025T010000
END:STANDARD
END:VTIMEZONE
BEGIN:VEVENT
DTSTART;TZID=Europe/Paris:20250609T110000
DTEND;TZID=Europe/Paris:20250609T123000
DTSTAMP:20260422T120411
CREATED:20250409T132520Z
LAST-MODIFIED:20250409T132520Z
UID:10003292-1749466800-1749472200@www.carersmanchester.org.uk
SUMMARY:ACCG: Carers movement session
DESCRIPTION:Details TBC. \nTo sign up\, please email cmc@accg.org.uk or call 0161 226 6334. \n 
URL:https://www.carersmanchester.org.uk/event/accg-carers-movement-session/
LOCATION:Claremont Resource Centre\, 2 Jarvis Road\, Manchester\, M15 5FS
END:VEVENT
BEGIN:VEVENT
DTSTART;TZID=Europe/Paris:20250609T110000
DTEND;TZID=Europe/Paris:20250609T130000
DTSTAMP:20260422T120411
CREATED:20250403T102554Z
LAST-MODIFIED:20250403T102554Z
UID:10003233-1749466800-1749474000@www.carersmanchester.org.uk
SUMMARY:Manchester Parkinson's Cafe
DESCRIPTION:Drop in cafe hosted by Parkinson’s UK volunteers. Meet other people with Parkinson’s\, socialise\, share information and experiences. Friends and family welcome. \nThis runs on the second Monday of the month from 11am to 1pm. \nThe ASDA community room is at the back of the store and is fully accessible. \n1. Dates for 2025: \n\n13 January\n10 February\n10 March\n14 April\n12 May\n9 June\n14 July\n11 August\n8 September\n13 October\n10 November\n9 December\n\n\n\n2. Primary contact \n\nHelen Sturman\n07768 834 115\nhsturman@parkinsons.org.uk\n\n\n\n3. Location \n\n\nASDA Eastlands Community Room\nASDA Eastlands\, Sport City\nManchester\nM11 4BD
URL:https://www.carersmanchester.org.uk/event/manchester-parkinsons-cafe-7/2025-06-09/
LOCATION:Asda Eastlands\, The community room\, Ashton New Road\, M11 4DB
END:VEVENT
BEGIN:VEVENT
DTSTART;TZID=Europe/Paris:20250609T110000
DTEND;TZID=Europe/Paris:20250609T160000
DTSTAMP:20260422T120411
CREATED:20250506T150735Z
LAST-MODIFIED:20250506T150735Z
UID:10003308-1749466800-1749484800@www.carersmanchester.org.uk
SUMMARY:Lifted: Carers Week Drop In
DESCRIPTION:Join the Lifted family for a special Carers Week edition of their regular Monday drop in\, featuring: \n\n a hot lunch\nguest speaker\npampering\ncrafting\ndrum circle\nand more!\n\nTo book your free place please contact kate@liftedmcr.org.uk
URL:https://www.carersmanchester.org.uk/event/lifted-carers-week-drop-in/
LOCATION:Dandelion Community Centre\, Oatlands Road\, Manchester\, M22 1AL
END:VEVENT
BEGIN:VEVENT
DTSTART;TZID=Europe/Paris:20250609T120000
DTEND;TZID=Europe/Paris:20250609T140000
DTSTAMP:20260422T120411
CREATED:20250403T103741Z
LAST-MODIFIED:20250403T103741Z
UID:10003281-1749470400-1749477600@www.carersmanchester.org.uk
SUMMARY:South Manchester Parkinson's Support Group
DESCRIPTION:We are a social and support group for people with Parkinson’s and their partners or carers who live in South Manchester and\nsurrounding areas. We meet once a month\, on the second Monday of the month\, at Didsbury Good Neighbours in Didsbury Park. People start gathering for the meeting at 12pm which typically lasts an hour or two. You can just turn up and will be welcomed. \nDonations from visitors and members to help with our running costs and provision of refreshments\, are very welcome. Typical donations are £6 pp. Several members also opt for shared lunch which costs £4 pp (those that want lunch will be asked in advance) Alternatively you can bring your own lunch. \nThere is sometimes a guest speaker offering information about a topic of interest to the group. The group also organises social gatherings and outings\, where you can get to know other people facing the same challenges as yourself. We are affiliated to Parkinson’s UK and many in our group are members of that but you can attend our meetings without being a member. \nFor more information about Parkinson’s UK please see website:- https://www.parkinsons.org.uk/get-involved/become-member \nNeed help with transport? Ring and Ride provides accessible\, low cost transport to disabled people and older people with walking difficulties for journeys of up to 6 miles. Phone Ring and Ride on 0161 200 6011. \n\n\nPrimary contact\n\nAmanda Ashworth\n0344 225 9846\naashworth@parkinsons.org.uk
URL:https://www.carersmanchester.org.uk/event/south-manchester-parkinsons-support-group/2025-06-09/
LOCATION:Didsbury Good Neighbours\, Didsbury Neighbourhood Centre\, Didsbury\, M20 6WH\, United Kingdom
END:VEVENT
BEGIN:VEVENT
DTSTART;TZID=Europe/Paris:20250609T123000
DTEND;TZID=Europe/Paris:20250609T140000
DTSTAMP:20260422T120411
CREATED:20241213T121023Z
LAST-MODIFIED:20241216T113524Z
UID:10001918-1749472200-1749477600@www.carersmanchester.org.uk
SUMMARY:Lifted: Uplift Meal
DESCRIPTION:
URL:https://www.carersmanchester.org.uk/event/lifted-uplift-meal-10/2025-06-09/
LOCATION:Dandelion Community Centre\, Oatlands Road\, Manchester\, M22 1AL
END:VEVENT
BEGIN:VEVENT
DTSTART;TZID=Europe/Paris:20250610T100000
DTEND;TZID=Europe/Paris:20250610T123000
DTSTAMP:20260422T120411
CREATED:20250409T132658Z
LAST-MODIFIED:20250428T141843Z
UID:10003293-1749549600-1749558600@www.carersmanchester.org.uk
SUMMARY:ACCG: carers walk at Heaton Park
DESCRIPTION:To sign up or request more information please email cmc@accg.org.uk or call 0161 226 6334. \nMeet up details will be shared upon booking.
URL:https://www.carersmanchester.org.uk/event/accg-carers-walk-at-heaton-park/
END:VEVENT
BEGIN:VEVENT
DTSTART;TZID=Europe/Paris:20250610T100000
DTEND;TZID=Europe/Paris:20250610T123000
DTSTAMP:20260422T120411
CREATED:20250519T142549Z
LAST-MODIFIED:20250519T153011Z
UID:10003337-1749549600-1749558600@www.carersmanchester.org.uk
SUMMARY:LMCP Carers Week Celebration
DESCRIPTION:
URL:https://www.carersmanchester.org.uk/event/lmcp-carers-week-celebration-2/
LOCATION:St James Church\, 95a Princess Road\, Manchester\, M14 4TH
END:VEVENT
BEGIN:VEVENT
DTSTART;TZID=Europe/Paris:20250610T123000
DTEND;TZID=Europe/Paris:20250610T143000
DTSTAMP:20260422T120411
CREATED:20250414T153153Z
LAST-MODIFIED:20250414T154142Z
UID:10003299-1749558600-1749565800@www.carersmanchester.org.uk
SUMMARY:Carers Manchester North: Carers Week celebration
DESCRIPTION:Event: Carers celebration with food\, activities\, and information\nTime: 12.30-2.30pm\nLocation: Hopewell\, Woodville Surestart Children’s Centre\, Shirley Road\, M8 0NE\nSign up: Email arifa@hopewellmcr.org.uk or call 07 716 170 331\n\n  \nMore details to follow
URL:https://www.carersmanchester.org.uk/event/carers-manchester-north-carers-week-celebration/
LOCATION:Hopewell\, Hopewell\, Woodville Surestart Children's Centre\, Shirley Road\, Cheetham Hill\, Manchester\, M8 0NE
ORGANIZER;CN="Hopewell":MAILTO:info@hopewellmcr.org.uk
END:VEVENT
BEGIN:VEVENT
DTSTART;TZID=Europe/Paris:20250610T173000
DTEND;TZID=Europe/Paris:20250610T193000
DTSTAMP:20260422T120411
CREATED:20250422T105437Z
LAST-MODIFIED:20250422T105437Z
UID:10003301-1749576600-1749583800@www.carersmanchester.org.uk
SUMMARY:Manchester Carers Centre: young adult carers social meal
DESCRIPTION:
URL:https://www.carersmanchester.org.uk/event/manchester-carers-centre-young-adult-carers-social-meal/
END:VEVENT
BEGIN:VEVENT
DTSTART;TZID=Europe/Paris:20250610T180000
DTEND;TZID=Europe/Paris:20250610T200000
DTSTAMP:20260422T120411
CREATED:20250409T140733Z
LAST-MODIFIED:20250414T153651Z
UID:10003298-1749578400-1749585600@www.carersmanchester.org.uk
SUMMARY:Carers Manchester South: Pampering session with HR Massage therapies + dinner
DESCRIPTION:Event: Pampering session with HR Massage therapies + dinner\nTime: Tuesday 10th June\, 6-8pm\nLocation: Dandelion Community Centre\, Oatlands Road\, M22 1AH\nSign up: Email paula@togetherdementiasupport.org or call 07763565160
URL:https://www.carersmanchester.org.uk/event/carers-manchester-south-pampering-session-with-hr-massage-therapies-dinner/
LOCATION:Dandelion Community Centre\, Oatlands Road\, Manchester\, M22 1AL
END:VEVENT
BEGIN:VEVENT
DTSTART;TZID=Europe/Paris:20250611T103000
DTEND;TZID=Europe/Paris:20250611T120000
DTSTAMP:20260422T120411
CREATED:20250403T103051Z
LAST-MODIFIED:20250403T103051Z
UID:10003249-1749637800-1749643200@www.carersmanchester.org.uk
SUMMARY:Move and Live Well with Parkinson's class- North Manchester
DESCRIPTION:Led by experienced dance artist Jody\, this relaxed and fun session is for anyone living with Parkinson’s and their support network. Sessions can be taken seated or standing and adapted for anybody. \nSessions will begin sitting with gentle movements focusing on mobility and body awareness. Using a wide range of music\, sessions will develop physical strength\, spacial awareness\, balance and motor skills. \nSessions are £3\, first session free. There will be refreshments provided and social time included. Partners/carers are encouraged to join. Bring water\, comfortable loose clothing and supportive shoes. \nThere is a small car park at the church\, as well as on street parking. The venue is accessible by a ramp and there are accessible facilities. \nNo need to book\, just run up. For more info email manchester@livewellanddance.org.uk
URL:https://www.carersmanchester.org.uk/event/move-and-live-well-with-parkinsons-class-north-manchester/2025-06-11/
LOCATION:Crumpsall Methodist Church\, Lansdowne Road\, Manchester\, M8 5ST
END:VEVENT
BEGIN:VEVENT
DTSTART;TZID=Europe/Paris:20250611T110000
DTEND;TZID=Europe/Paris:20250611T123000
DTSTAMP:20260422T120411
CREATED:20250519T122712Z
LAST-MODIFIED:20250519T122823Z
UID:10003336-1749639600-1749645000@www.carersmanchester.org.uk
SUMMARY:Carers Week walk around Wythenshawe parks
DESCRIPTION:For more information and to book your place\, please contact daniel@manchestercarersforum.org.uk or sue@liftedmcr.org.uk.
URL:https://www.carersmanchester.org.uk/event/carers-week-walk-wythenshawe/
END:VEVENT
BEGIN:VEVENT
DTSTART;TZID=Europe/Paris:20250611T110000
DTEND;TZID=Europe/Paris:20250611T130000
DTSTAMP:20260422T120411
CREATED:20250117T135335Z
LAST-MODIFIED:20250117T135442Z
UID:10002515-1749639600-1749646800@www.carersmanchester.org.uk
SUMMARY:Lifted: Walking Group
DESCRIPTION:Text from organiser: \nEvery Wednesday\, staff and carers and family who attend Lifted. Meet up for a lovely walk around Wythenshawe park. \nThe group meet up at the Cafe from there they set off as a group. Half way around the walk the group splits into two groups. One for those who want to do the 1 mile walk\, the other group for those who want to do a 2 or 3 mile walk. \nThe group meet back up at the cafe for a hot drink and a chat. \n  \nWe welcome all new walkers regardless of walking ability we cater for everyone! Still not sure why not read our blog about the walking group – Link \nLifted walking group – Every Wednesday at 11am – 1pm. Make sure to drop us a text or email to let us know you are coming.\nCall/text us on:07385568990 Or 07384784262 \nOr email us: info@liftedcarerscentre.org.uk
URL:https://www.carersmanchester.org.uk/event/lifted-walking-group-10/2025-06-11/
LOCATION:Wythenshawe Park\, Manchester\, M23 0AB
END:VEVENT
BEGIN:VEVENT
DTSTART;TZID=Europe/Paris:20250611T110000
DTEND;TZID=Europe/Paris:20250611T130000
DTSTAMP:20260422T120411
CREATED:20250506T140507Z
LAST-MODIFIED:20250506T145911Z
UID:10003306-1749639600-1749646800@www.carersmanchester.org.uk
SUMMARY:Discover Manchester guided walk
DESCRIPTION:Text from organiser: \n  \nSibby\, our entertaining and knowledgeable tour guide\, will show us around Manchester city centre\, taking us through the history\, architecture and culture. As the birthplace of the Industrial Revolution\, Manchester was the world’s first modern city and we’ll discover the major landmarks and fascinating stories central to the city’s history. \nCarers Tour – 11th June 2025 11am for 2 hours\nMeet at the Central Library \nWe will be prioritising places for carers who have gone longest without accessing a trip or break. \nWe can only give one ticket per carer\nThe ticket is only for the carer NOT the cared for\nWe’re not able to provide transport for people to attend. \nIf you would like to apply for a ticket\, please email karen@manchestercarersforum.org.uk
URL:https://www.carersmanchester.org.uk/event/discover-manchester-guided-walk/
LOCATION:Manchester Central Library\, St Peter\, M2 5PD
END:VEVENT
BEGIN:VEVENT
DTSTART;TZID=Europe/Paris:20250611T110000
DTEND;TZID=Europe/Paris:20250611T130000
DTSTAMP:20260422T120411
CREATED:20250526T103053Z
LAST-MODIFIED:20250526T103053Z
UID:10003711-1749639600-1749646800@www.carersmanchester.org.uk
SUMMARY:Manchester Carers Forum: Discover Manchester Guided Walk
DESCRIPTION:Message from the Organiser: \nSibby\, our entertaining and knowledgeable tour guide\, will show us around Manchester city centre\, taking us through the history\, architecture and culture. As the birthplace of the Industrial Revolution\, Manchester was the world’s first modern city and we’ll discover the major landmarks and fascinating stories central to the city’s history. \nCarers Tour – 11th June 2025 11am for 2 hours\nMeet at the Central Library \nWe will be prioritising places for carers who have gone longest without accessing a trip or break. \nWe can only give one ticket per carer\nThe ticket is only for the carer NOT the cared for\nWe’re not able to provide transport for people to attend. \nIf you would like to apply for a ticket\, please email karen@manchestercarersforum.org.uk
URL:https://www.carersmanchester.org.uk/event/manchester-carers-forum-discover-manchester-guided-walk/
LOCATION:Manchester Central Library\, St Peter\, M2 5PD
END:VEVENT
BEGIN:VEVENT
DTSTART;TZID=Europe/Paris:20250611T110000
DTEND;TZID=Europe/Paris:20250611T160000
DTSTAMP:20260422T120411
CREATED:20250409T132812Z
LAST-MODIFIED:20250414T153845Z
UID:10003294-1749639600-1749657600@www.carersmanchester.org.uk
SUMMARY:Carers Selfcare Day
DESCRIPTION:Details TBC. \nTo sign up or request more information please email cmc@accg.org.uk or call 0161 226 6334.
URL:https://www.carersmanchester.org.uk/event/carers-selfcare-day/
LOCATION:Claremont Resource Centre\, 2 Jarvis Road\, Manchester\, M15 5FS
END:VEVENT
BEGIN:VEVENT
DTSTART;TZID=Europe/Paris:20250611T113000
DTEND;TZID=Europe/Paris:20250611T133000
DTSTAMP:20260422T120411
CREATED:20250423T122418Z
LAST-MODIFIED:20250423T132019Z
UID:10003304-1749641400-1749648600@www.carersmanchester.org.uk
SUMMARY:Together Dementia Support: Carers Week picnic and cycling
DESCRIPTION:Join Together Dementia Support and other carers for a picnic in Alexandra Park\, with accessible bikes to ride\, including a rickshaw! You’re welcome to bring the person you care for. \nThis is a free drop in event. To request more information please contact beth@togetherdementiasupport.org or 0161 2267186.
URL:https://www.carersmanchester.org.uk/event/together-dementia-support-carers-week-picnic-and-cycling/
LOCATION:Alexandra Park\, Alexandra Park\, Manchester
END:VEVENT
BEGIN:VEVENT
DTSTART;TZID=Europe/Paris:20250611T190000
DTEND;TZID=Europe/Paris:20250611T203000
DTSTAMP:20260422T120411
CREATED:20250211T165514Z
LAST-MODIFIED:20250211T165514Z
UID:10003131-1749668400-1749673800@www.carersmanchester.org.uk
SUMMARY:Together dementia support: Zoom Dementia Carers Training 4 week course
DESCRIPTION:Contact beth@togetherdementiasupport.org
URL:https://www.carersmanchester.org.uk/event/together-dementia-support-zoom-dementia-carers-training-4-week-course/2025-06-11/
END:VEVENT
BEGIN:VEVENT
DTSTART;TZID=Europe/Paris:20250611T190000
DTEND;TZID=Europe/Paris:20250611T203000
DTSTAMP:20260422T120411
CREATED:20250408T102614Z
LAST-MODIFIED:20250515T083951Z
UID:10003290-1749668400-1749673800@www.carersmanchester.org.uk
SUMMARY:Supporting Carers: Your rights\, Wellbeing and Future (webinar)
DESCRIPTION:Do you want to know more about what is available for unpaid carers in Manchester?  \nJoin us for three discussions\, each followed by an audience Q&A: \n\nCaring about equality\nBenefits and funding support\nMental health and wellbeing \n\nThe panel will feature carers\, Abid Mumtaz (Head of commissioning for Older People\, Prevention & VCFSE)\, Ben Whalley (CEO of Gaddum)\, Michael Dietrich (Welfare and Benefits Advisor at Carers Manchester) and Neil Grace (Lead for Service User and Carer Engagement\, Greater Manchester Mental Health NHS Foundation Trust). \nFor more information and to book your place\, please visit our Eventbrite.
URL:https://www.carersmanchester.org.uk/event/roundtable/
LOCATION:online
END:VEVENT
BEGIN:VEVENT
DTSTART;TZID=Europe/Paris:20250611T190000
DTEND;TZID=Europe/Paris:20250611T203000
DTSTAMP:20260422T120411
CREATED:20250526T101613Z
LAST-MODIFIED:20250526T101613Z
UID:10003710-1749668400-1749673800@www.carersmanchester.org.uk
SUMMARY:Supporting Carers: Your Rights\, Wellbeing and Future
DESCRIPTION:
URL:https://www.carersmanchester.org.uk/event/supporting-carers-your-rights-wellbeing-and-future/
LOCATION:online
END:VEVENT
BEGIN:VEVENT
DTSTART;TZID=Europe/Paris:20250612T110000
DTEND;TZID=Europe/Paris:20250612T140000
DTSTAMP:20260422T120411
CREATED:20250414T145934Z
LAST-MODIFIED:20250513T085253Z
UID:10003307-1749726000-1749736800@www.carersmanchester.org.uk
SUMMARY:Carers Manchester North: trip to FC United
DESCRIPTION:Time TBC \nJoin Carers Manchester North for a tour of the FC United stadium and a delicious lunch. \nTo book your place\, please contact Claire: \n\nClaire@togetherdementiasupport.org\n07767 730531
URL:https://www.carersmanchester.org.uk/event/carers-manchester-north-trip-to-fc-united-community-day/
LOCATION:FC United Football Club\, Community Room\, Broadhurst Park\, 310 Road\, Moston\, Manchester\, M40 0FJ\, United Kingdom
END:VEVENT
BEGIN:VEVENT
DTSTART;TZID=Europe/Paris:20250612T113000
DTEND;TZID=Europe/Paris:20250612T133000
DTSTAMP:20260422T120411
CREATED:20250422T105259Z
LAST-MODIFIED:20250422T105259Z
UID:10003300-1749727800-1749735000@www.carersmanchester.org.uk
SUMMARY:Manchester Carers Centre: afternoon tea
DESCRIPTION:
URL:https://www.carersmanchester.org.uk/event/manchester-carers-centre-afternoon-tea/
END:VEVENT
BEGIN:VEVENT
DTSTART;TZID=Europe/Paris:20250612T130000
DTEND;TZID=Europe/Paris:20250612T150000
DTSTAMP:20260422T120411
CREATED:20250409T132926Z
LAST-MODIFIED:20250414T153827Z
UID:10003295-1749733200-1749740400@www.carersmanchester.org.uk
SUMMARY:ACCG: carers games
DESCRIPTION:Join other carers for games including bingo and Family Fortunes. \nTo sign up or request more information please email cmc@accg.org.uk or call 0161 226 6334.
URL:https://www.carersmanchester.org.uk/event/accg-carers-games/
LOCATION:Claremont Resource Centre\, 2 Jarvis Road\, Manchester\, M15 5FS
END:VEVENT
BEGIN:VEVENT
DTSTART;TZID=Europe/Paris:20250613T100000
DTEND;TZID=Europe/Paris:20250613T120000
DTSTAMP:20260422T120411
CREATED:20250409T140615Z
LAST-MODIFIED:20250506T102545Z
UID:10003297-1749808800-1749816000@www.carersmanchester.org.uk
SUMMARY:Carers Manchester South: music session with refreshments and benefits advice
DESCRIPTION:Join String of Hearts for a music-making session as part of Carers Week! Have some fun\, connect with others\, and experience the benefits of music for wellbeing. Try out singing\, playing percussion\, and writing song lyrics celebrating what is important to you and the person you care for.  \n\nEvent: Music session with String of Hearts followed by tea\, cake\, and benefits advice\nTime: Friday 13th June\, 10am-12pm\nLocation: Amani Centre\, 144 Moss Lane East\, Hulme\, M16 7DG\nSign up: Email sue@manchestercarersforum.org.uk or call 07384784262
URL:https://www.carersmanchester.org.uk/event/carers-manchester-south-music-session-with-refreshments-and-benefits-advice/
LOCATION:Amani Centre\, Moss Lane East\, Manchester\, M16 7DG
END:VEVENT
BEGIN:VEVENT
DTSTART;TZID=Europe/Paris:20250613T100000
DTEND;TZID=Europe/Paris:20250613T150000
DTSTAMP:20260422T120411
CREATED:20250409T133126Z
LAST-MODIFIED:20250428T140605Z
UID:10003296-1749808800-1749826800@www.carersmanchester.org.uk
SUMMARY:ACCG: welfare rights drop in
DESCRIPTION:Come along to discuss any benefits\, housing or other related issues that you may be having with a Welfare and Benefits Advisor. \nTo request more information please email cmc@accg.org.uk or call 0161 226 6334.
URL:https://www.carersmanchester.org.uk/event/accg-welfare-rights-drop-in/
LOCATION:Claremont Resource Centre\, 2 Jarvis Road\, Manchester\, M15 5FS
END:VEVENT
BEGIN:VEVENT
DTSTART;TZID=Europe/Paris:20250616T110000
DTEND;TZID=Europe/Paris:20250616T140000
DTSTAMP:20260422T120411
CREATED:20241213T120553Z
LAST-MODIFIED:20250519T121242Z
UID:10001661-1750071600-1750082400@www.carersmanchester.org.uk
SUMMARY:Lifted: Carers Drop-in
DESCRIPTION:
URL:https://www.carersmanchester.org.uk/event/lifted-carers-drop-in-10/2025-06-16/
LOCATION:Dandelion Community Centre\, Oatlands Road\, Manchester\, M22 1AL
END:VEVENT
BEGIN:VEVENT
DTSTART;TZID=Europe/Paris:20250616T123000
DTEND;TZID=Europe/Paris:20250616T140000
DTSTAMP:20260422T120411
CREATED:20241213T121023Z
LAST-MODIFIED:20241216T113524Z
UID:10001919-1750077000-1750082400@www.carersmanchester.org.uk
SUMMARY:Lifted: Uplift Meal
DESCRIPTION:
URL:https://www.carersmanchester.org.uk/event/lifted-uplift-meal-10/2025-06-16/
LOCATION:Dandelion Community Centre\, Oatlands Road\, Manchester\, M22 1AL
END:VEVENT
BEGIN:VEVENT
DTSTART;TZID=Europe/Paris:20250616T131500
DTEND;TZID=Europe/Paris:20250616T151500
DTSTAMP:20260422T120411
CREATED:20241219T164940Z
LAST-MODIFIED:20250213T113204Z
UID:10003199-1750079700-1750086900@www.carersmanchester.org.uk
SUMMARY:Lived Experience Panel: Monthly meeting
DESCRIPTION:Monthly meeting of the Carers Manchester Lived Experience Panel. \nMeeting location will be confirmed with panel members by email. Every second meeting will usually be held as an online meeting. \n  \nThis event is for current members of the Carers Manchester Lived Experience Panel. If you are interested in joining the panel\, you can find more information on our website. \n 
URL:https://www.carersmanchester.org.uk/event/lived-experience-panel-monthly-meeting-3/2025-06-16/
END:VEVENT
BEGIN:VEVENT
DTSTART;TZID=Europe/Paris:20250618T103000
DTEND;TZID=Europe/Paris:20250618T120000
DTSTAMP:20260422T120411
CREATED:20250403T103051Z
LAST-MODIFIED:20250403T103051Z
UID:10003250-1750242600-1750248000@www.carersmanchester.org.uk
SUMMARY:Move and Live Well with Parkinson's class- North Manchester
DESCRIPTION:Led by experienced dance artist Jody\, this relaxed and fun session is for anyone living with Parkinson’s and their support network. Sessions can be taken seated or standing and adapted for anybody. \nSessions will begin sitting with gentle movements focusing on mobility and body awareness. Using a wide range of music\, sessions will develop physical strength\, spacial awareness\, balance and motor skills. \nSessions are £3\, first session free. There will be refreshments provided and social time included. Partners/carers are encouraged to join. Bring water\, comfortable loose clothing and supportive shoes. \nThere is a small car park at the church\, as well as on street parking. The venue is accessible by a ramp and there are accessible facilities. \nNo need to book\, just run up. For more info email manchester@livewellanddance.org.uk
URL:https://www.carersmanchester.org.uk/event/move-and-live-well-with-parkinsons-class-north-manchester/2025-06-18/
LOCATION:Crumpsall Methodist Church\, Lansdowne Road\, Manchester\, M8 5ST
END:VEVENT
BEGIN:VEVENT
DTSTART;TZID=Europe/Paris:20250618T110000
DTEND;TZID=Europe/Paris:20250618T130000
DTSTAMP:20260422T120411
CREATED:20250117T135335Z
LAST-MODIFIED:20250117T135442Z
UID:10002516-1750244400-1750251600@www.carersmanchester.org.uk
SUMMARY:Lifted: Walking Group
DESCRIPTION:Text from organiser: \nEvery Wednesday\, staff and carers and family who attend Lifted. Meet up for a lovely walk around Wythenshawe park. \nThe group meet up at the Cafe from there they set off as a group. Half way around the walk the group splits into two groups. One for those who want to do the 1 mile walk\, the other group for those who want to do a 2 or 3 mile walk. \nThe group meet back up at the cafe for a hot drink and a chat. \n  \nWe welcome all new walkers regardless of walking ability we cater for everyone! Still not sure why not read our blog about the walking group – Link \nLifted walking group – Every Wednesday at 11am – 1pm. Make sure to drop us a text or email to let us know you are coming.\nCall/text us on:07385568990 Or 07384784262 \nOr email us: info@liftedcarerscentre.org.uk
URL:https://www.carersmanchester.org.uk/event/lifted-walking-group-10/2025-06-18/
LOCATION:Wythenshawe Park\, Manchester\, M23 0AB
END:VEVENT
END:VCALENDAR