BEGIN:VCALENDAR
VERSION:2.0
PRODID:-//The Carers Manchester Contact Point - ECPv6.15.18//NONSGML v1.0//EN
CALSCALE:GREGORIAN
METHOD:PUBLISH
X-WR-CALNAME:The Carers Manchester Contact Point
X-ORIGINAL-URL:https://www.carersmanchester.org.uk
X-WR-CALDESC:Events for The Carers Manchester Contact Point
REFRESH-INTERVAL;VALUE=DURATION:PT1H
X-Robots-Tag:noindex
X-PUBLISHED-TTL:PT1H
BEGIN:VTIMEZONE
TZID:Europe/Paris
BEGIN:DAYLIGHT
TZOFFSETFROM:+0100
TZOFFSETTO:+0200
TZNAME:CEST
DTSTART:20250330T010000
END:DAYLIGHT
BEGIN:STANDARD
TZOFFSETFROM:+0200
TZOFFSETTO:+0100
TZNAME:CET
DTSTART:20251026T010000
END:STANDARD
BEGIN:DAYLIGHT
TZOFFSETFROM:+0100
TZOFFSETTO:+0200
TZNAME:CEST
DTSTART:20260329T010000
END:DAYLIGHT
BEGIN:STANDARD
TZOFFSETFROM:+0200
TZOFFSETTO:+0100
TZNAME:CET
DTSTART:20261025T010000
END:STANDARD
BEGIN:DAYLIGHT
TZOFFSETFROM:+0100
TZOFFSETTO:+0200
TZNAME:CEST
DTSTART:20270328T010000
END:DAYLIGHT
BEGIN:STANDARD
TZOFFSETFROM:+0200
TZOFFSETTO:+0100
TZNAME:CET
DTSTART:20271031T010000
END:STANDARD
END:VTIMEZONE
BEGIN:VEVENT
DTSTART;TZID=Europe/Paris:20260402T133000
DTEND;TZID=Europe/Paris:20260402T153000
DTSTAMP:20260425T152639
CREATED:20251009T140514Z
LAST-MODIFIED:20251009T141034Z
UID:10004008-1775136600-1775143800@www.carersmanchester.org.uk
SUMMARY:Recurring event - East Manchester carer support group
DESCRIPTION:For more information\, please contact: \n\nkaren@manchestercarersforum.org.uk\n07903685435
URL:https://www.carersmanchester.org.uk/event/east-support-group/2026-04-02/
LOCATION:Asda Eastlands\, The community room\, Ashton New Road\, M11 4DB
END:VEVENT
BEGIN:VEVENT
DTSTART;TZID=Europe/Paris:20260401T140000
DTEND;TZID=Europe/Paris:20260401T153000
DTSTAMP:20260425T152639
CREATED:20251203T093803Z
LAST-MODIFIED:20260126T100139Z
UID:10004089-1775052000-1775057400@www.carersmanchester.org.uk
SUMMARY:Kick off with a Verse (Wednesday afternoons)
DESCRIPTION:To sign up or learn more\, please email karindenovellis@gmail.com
URL:https://www.carersmanchester.org.uk/event/kickoffverse/2026-04-01/
LOCATION:online
ORGANIZER;CN="Karin De Novellis":MAILTO:karindenovellis@gmail.com
END:VEVENT
BEGIN:VEVENT
DTSTART;TZID=Europe/Paris:20260330T140000
DTEND;TZID=Europe/Paris:20260330T160000
DTSTAMP:20260425T152639
CREATED:20260307T151637Z
LAST-MODIFIED:20260307T151637Z
UID:10004764-1774879200-1774886400@www.carersmanchester.org.uk
SUMMARY:Manchester Carers Forum: ☕Carers Coffee Meetings☕
DESCRIPTION:Fancy a brew and a chat Daniel will be hosting carers coffee meetings in  February. \n\nMonday 30th March 2pm at The Royal Exchange Café\, Royal Exchange Theatre\, St Ann’s Square\, Manchester M2 7DH.\n\nPlease contact Daniel if you would like to attend on 07415 436382 / daniel@manchestercarersforum.org.uk
URL:https://www.carersmanchester.org.uk/event/manchester-carers-forum-%e2%98%95carers-coffee-meetings%e2%98%95-2/
LOCATION:The Royal Exchange Café\, Royal Exchange Theatre\, St Ann's Square.\, Manchester\, M2 7DH
END:VEVENT
BEGIN:VEVENT
DTSTART;TZID=Europe/Paris:20260330T123000
DTEND;TZID=Europe/Paris:20260330T140000
DTSTAMP:20260425T152639
CREATED:20241213T121023Z
LAST-MODIFIED:20241216T113524Z
UID:10001960-1774873800-1774879200@www.carersmanchester.org.uk
SUMMARY:Lifted: Uplift Meal
DESCRIPTION:
URL:https://www.carersmanchester.org.uk/event/lifted-uplift-meal-10/2026-03-30/
LOCATION:Dandelion Community Centre\, Oatlands Road\, Manchester\, M22 1AL
END:VEVENT
BEGIN:VEVENT
DTSTART;TZID=Europe/Paris:20260330T110000
DTEND;TZID=Europe/Paris:20260330T140000
DTSTAMP:20260425T152639
CREATED:20241213T120553Z
LAST-MODIFIED:20250519T121242Z
UID:10001702-1774868400-1774879200@www.carersmanchester.org.uk
SUMMARY:Lifted: Carers Drop-in
DESCRIPTION:
URL:https://www.carersmanchester.org.uk/event/lifted-carers-drop-in-10/2026-03-30/
LOCATION:Dandelion Community Centre\, Oatlands Road\, Manchester\, M22 1AL
END:VEVENT
BEGIN:VEVENT
DTSTART;TZID=Europe/Paris:20260327T103000
DTEND;TZID=Europe/Paris:20260327T123000
DTSTAMP:20260425T152639
CREATED:20250618T153827Z
LAST-MODIFIED:20260307T144346Z
UID:10003727-1774607400-1774614600@www.carersmanchester.org.uk
SUMMARY:Recurring event - Manchester Carers Forum: Blackley Carers Peer Support
DESCRIPTION:Friday 27th March\, 10.30am-12.30pm (Last Friday of the month)\nThe Avenue Library Learning Centre\, 9 Victoria Ave East\, Blackley\, M9 6HW\nContact – Karen on 07903 685435\n\nkaren@manchestercarersforum.org.uk \n*Please contact the organiser prior to attending in case of last minute changes in the month.*
URL:https://www.carersmanchester.org.uk/event/blackley-peer-support/2026-03-27/
LOCATION:The Avenue Library and Learning Centre\, 9 Victoria Avenue East\, Manchester\, M9 6HW
END:VEVENT
BEGIN:VEVENT
DTSTART;TZID=Europe/Paris:20260326T190000
DTEND;TZID=Europe/Paris:20260326T203000
DTSTAMP:20260425T152639
CREATED:20251203T094125Z
LAST-MODIFIED:20260126T100038Z
UID:10004343-1774551600-1774557000@www.carersmanchester.org.uk
SUMMARY:Kick off with a Verse (Thursday evenings)
DESCRIPTION:To sign up or learn more\, please email karindenovellis@gmail.com
URL:https://www.carersmanchester.org.uk/event/kickoffversethursday/2026-03-26/
ORGANIZER;CN="Karin De Novellis":MAILTO:karindenovellis@gmail.com
END:VEVENT
BEGIN:VEVENT
DTSTART;TZID=Europe/Paris:20260325T190000
DTEND;TZID=Europe/Paris:20260325T203000
DTSTAMP:20260425T152639
CREATED:20250211T165514Z
LAST-MODIFIED:20250211T165514Z
UID:10003172-1774465200-1774470600@www.carersmanchester.org.uk
SUMMARY:Together dementia support: Zoom Dementia Carers Training 4 week course
DESCRIPTION:Contact beth@togetherdementiasupport.org
URL:https://www.carersmanchester.org.uk/event/together-dementia-support-zoom-dementia-carers-training-4-week-course/2026-03-25/
END:VEVENT
BEGIN:VEVENT
DTSTART;TZID=Europe/Paris:20260325T140000
DTEND;TZID=Europe/Paris:20260325T153000
DTSTAMP:20260425T152639
CREATED:20251203T093803Z
LAST-MODIFIED:20260126T100139Z
UID:10004088-1774447200-1774452600@www.carersmanchester.org.uk
SUMMARY:Kick off with a Verse (Wednesday afternoons)
DESCRIPTION:To sign up or learn more\, please email karindenovellis@gmail.com
URL:https://www.carersmanchester.org.uk/event/kickoffverse/2026-03-25/
LOCATION:online
ORGANIZER;CN="Karin De Novellis":MAILTO:karindenovellis@gmail.com
END:VEVENT
BEGIN:VEVENT
DTSTART;TZID=Europe/Paris:20260324T110000
DTEND;TZID=Europe/Paris:20260324T123000
DTSTAMP:20260425T152639
CREATED:20260304T161618Z
LAST-MODIFIED:20260304T161702Z
UID:10004632-1774350000-1774355400@www.carersmanchester.org.uk
SUMMARY:Carers trip to Dunham Massey Park and Gardens
DESCRIPTION:Carers in the Manchester City Council area should sign up by contacting Daniel on 07415436382 or daniel@manchestercarersforum.org.uk
URL:https://www.carersmanchester.org.uk/event/carers-trip-to-dunham-massey-park-and-gardens/
END:VEVENT
BEGIN:VEVENT
DTSTART;TZID=Europe/Paris:20260323T123000
DTEND;TZID=Europe/Paris:20260323T140000
DTSTAMP:20260425T152639
CREATED:20241213T121023Z
LAST-MODIFIED:20241216T113524Z
UID:10001959-1774269000-1774274400@www.carersmanchester.org.uk
SUMMARY:Lifted: Uplift Meal
DESCRIPTION:
URL:https://www.carersmanchester.org.uk/event/lifted-uplift-meal-10/2026-03-23/
LOCATION:Dandelion Community Centre\, Oatlands Road\, Manchester\, M22 1AL
END:VEVENT
BEGIN:VEVENT
DTSTART;TZID=Europe/Paris:20260323T110000
DTEND;TZID=Europe/Paris:20260323T140000
DTSTAMP:20260425T152639
CREATED:20241213T120553Z
LAST-MODIFIED:20250519T121242Z
UID:10001701-1774263600-1774274400@www.carersmanchester.org.uk
SUMMARY:Lifted: Carers Drop-in
DESCRIPTION:
URL:https://www.carersmanchester.org.uk/event/lifted-carers-drop-in-10/2026-03-23/
LOCATION:Dandelion Community Centre\, Oatlands Road\, Manchester\, M22 1AL
END:VEVENT
BEGIN:VEVENT
DTSTART;TZID=Europe/Paris:20260322T160000
DTEND;TZID=Europe/Paris:20260322T170000
DTSTAMP:20260425T152639
CREATED:20260304T142914Z
LAST-MODIFIED:20260304T142914Z
UID:10004628-1774195200-1774198800@www.carersmanchester.org.uk
SUMMARY:Free Hallé concert tickets for carers
DESCRIPTION:Through our partnership with The Hallé\, we offer free concert tickets for carers at The Bridgewater Hall. We’re excited to announce that tickets are now available for the current season! \n  \n\n\n2026 concert dates and times\n\nSunday 24th January\, 4pm\nSunday 15th February\, 4pm\nThursday 5th March\, 6pm\nSunday 22nd March\, 4pm\nSunday 19th April\, 4pm\nSunday 17th May\, 4pm\nThursday 21st May\, 6pm\n\n\n\n\nKey info:\n\nThe deadline for requesting a ticket is 10 days before each concert.\nYou’re welcome to bring a friend or the person you care for.\nWe will do our best to accommodate any access needs. However\, please note we only have a limited number of aisle seats\, step-free seats and wheelchair spaces.\nPlease arrive early to collect your ticket\nFor more information\, or to request a ticket\, email info@carersmanchester.org.uk\nor call 0161 834 6069\, ext 1133. (Please leave a message if no one answers.)\n\n  \nWhen you get in touch\, please specify the dates of the concerts you would like to attend; whether you require one or two tickets; and whether you have any access requirements.
URL:https://www.carersmanchester.org.uk/event/halle2203/
LOCATION:Bridgewater Hall
END:VEVENT
BEGIN:VEVENT
DTSTART;TZID=Europe/Paris:20260319T190000
DTEND;TZID=Europe/Paris:20260319T203000
DTSTAMP:20260425T152639
CREATED:20251203T094125Z
LAST-MODIFIED:20260126T100038Z
UID:10004342-1773946800-1773952200@www.carersmanchester.org.uk
SUMMARY:Kick off with a Verse (Thursday evenings)
DESCRIPTION:To sign up or learn more\, please email karindenovellis@gmail.com
URL:https://www.carersmanchester.org.uk/event/kickoffversethursday/2026-03-19/
ORGANIZER;CN="Karin De Novellis":MAILTO:karindenovellis@gmail.com
END:VEVENT
BEGIN:VEVENT
DTSTART;TZID=Europe/Paris:20260319T130000
DTEND;TZID=Europe/Paris:20260319T140000
DTSTAMP:20260425T152639
CREATED:20260304T142636Z
LAST-MODIFIED:20260304T142636Z
UID:10004627-1773925200-1773928800@www.carersmanchester.org.uk
SUMMARY:Free lunchtime concert
DESCRIPTION:For more information\, or to book your place\, please contact Mark: \n\n07931879224\nmark@manchestercarersforum.org.uk
URL:https://www.carersmanchester.org.uk/event/free-lunchtime-concert/
LOCATION:Royal Northern College of Music\, 124 Oxford Road\, Manchester\, M13 9RD
END:VEVENT
BEGIN:VEVENT
DTSTART;TZID=Europe/Paris:20260319T123000
DTEND;TZID=Europe/Paris:20260319T143000
DTSTAMP:20260425T152639
CREATED:20260307T144000Z
LAST-MODIFIED:20260307T144025Z
UID:10004723-1773923400-1773930600@www.carersmanchester.org.uk
SUMMARY:Manchester Carers Forum: Cheetham Hill Carers Peer Support Group
DESCRIPTION:Wednesday 19th March\, 12.30-2.30pm (3rd Wednesday of the month)\nUkrainian Club 31 Smedley Lane\, Cheetham Hill M8 8XB\nContact – Karen on 07903 685435\n\nkaren@manchestercarersforum.org.uk \n  \n*Please contact the organiser prior to attending in case of last minute changes in the month.*
URL:https://www.carersmanchester.org.uk/event/manchester-carers-forum-cheetham-hill-carers-peer-support-group/2026-03-19/
LOCATION:Ukrainian Club\, 31 Smedley Lane\, Cheetham Hill\, M8 8XB
END:VEVENT
BEGIN:VEVENT
DTSTART;TZID=Europe/Paris:20260318T190000
DTEND;TZID=Europe/Paris:20260318T203000
DTSTAMP:20260425T152639
CREATED:20250211T165514Z
LAST-MODIFIED:20250211T165514Z
UID:10003171-1773860400-1773865800@www.carersmanchester.org.uk
SUMMARY:Together dementia support: Zoom Dementia Carers Training 4 week course
DESCRIPTION:Contact beth@togetherdementiasupport.org
URL:https://www.carersmanchester.org.uk/event/together-dementia-support-zoom-dementia-carers-training-4-week-course/2026-03-18/
END:VEVENT
BEGIN:VEVENT
DTSTART;TZID=Europe/Paris:20260318T140000
DTEND;TZID=Europe/Paris:20260318T153000
DTSTAMP:20260425T152639
CREATED:20251203T093803Z
LAST-MODIFIED:20260126T100139Z
UID:10004087-1773842400-1773847800@www.carersmanchester.org.uk
SUMMARY:Kick off with a Verse (Wednesday afternoons)
DESCRIPTION:To sign up or learn more\, please email karindenovellis@gmail.com
URL:https://www.carersmanchester.org.uk/event/kickoffverse/2026-03-18/
LOCATION:online
ORGANIZER;CN="Karin De Novellis":MAILTO:karindenovellis@gmail.com
END:VEVENT
BEGIN:VEVENT
DTSTART;TZID=Europe/Paris:20260318T133000
DTEND;TZID=Europe/Paris:20260318T153000
DTSTAMP:20260425T152639
CREATED:20250618T154559Z
LAST-MODIFIED:20250618T154559Z
UID:10003857-1773840600-1773847800@www.carersmanchester.org.uk
SUMMARY:Manchester Carers Forum: Cheetham and Crumpsall support group
DESCRIPTION:3rd Wednesday of every month\, 12.30-2.30pm\nUkrainian Cultural Centre\, 31 Smedley Lane\, Cheetham Hill M8 8XB\n\nPlease contact Karen prior to attending in case of last-minute changes: \n\n07903 685435\nor karen@manchestercarersforum.org.uk\n\n  \n 
URL:https://www.carersmanchester.org.uk/event/manchester-carers-forum-cheetham-and-crumpsall-support-group-4/2026-03-18/
LOCATION:Ukrainian Cultural Centre\, 31 Smedley Lane\, Cheetham Hill\,\, Manchester\, M8 8XB
END:VEVENT
BEGIN:VEVENT
DTSTART;TZID=Europe/Paris:20260318T100000
DTEND;TZID=Europe/Paris:20260318T120000
DTSTAMP:20260425T152639
CREATED:20260304T142216Z
LAST-MODIFIED:20260304T142216Z
UID:10004626-1773828000-1773835200@www.carersmanchester.org.uk
SUMMARY:SEND Local Offer Drop In
DESCRIPTION:The SEND Local Offer Drop Ins are for parents and carers of children or young people with Special Educational Needs and Disabilities (SEND) who are looking for information and support. There will be a variety of stallholders from different support organisations. The drop ins are a great opportunity to meet other SEND families and get advice on education\, social care\, accessing breaks\, and more.
URL:https://www.carersmanchester.org.uk/event/send-local-offer-drop-in-7/
LOCATION:Manchester Youth Zone\, 931 Rochdale Road\, Manchester\, M9 8AE
END:VEVENT
BEGIN:VEVENT
DTSTART;TZID=Europe/Paris:20260316T123000
DTEND;TZID=Europe/Paris:20260316T140000
DTSTAMP:20260425T152639
CREATED:20241213T121023Z
LAST-MODIFIED:20241216T113524Z
UID:10001958-1773664200-1773669600@www.carersmanchester.org.uk
SUMMARY:Lifted: Uplift Meal
DESCRIPTION:
URL:https://www.carersmanchester.org.uk/event/lifted-uplift-meal-10/2026-03-16/
LOCATION:Dandelion Community Centre\, Oatlands Road\, Manchester\, M22 1AL
END:VEVENT
BEGIN:VEVENT
DTSTART;TZID=Europe/Paris:20260316T110000
DTEND;TZID=Europe/Paris:20260316T140000
DTSTAMP:20260425T152639
CREATED:20241213T120553Z
LAST-MODIFIED:20250519T121242Z
UID:10001700-1773658800-1773669600@www.carersmanchester.org.uk
SUMMARY:Lifted: Carers Drop-in
DESCRIPTION:
URL:https://www.carersmanchester.org.uk/event/lifted-carers-drop-in-10/2026-03-16/
LOCATION:Dandelion Community Centre\, Oatlands Road\, Manchester\, M22 1AL
END:VEVENT
BEGIN:VEVENT
DTSTART;TZID=Europe/Paris:20260313T110000
DTEND;TZID=Europe/Paris:20260313T130000
DTSTAMP:20260425T152639
CREATED:20260307T150741Z
LAST-MODIFIED:20260307T150741Z
UID:10004763-1773399600-1773406800@www.carersmanchester.org.uk
SUMMARY:Manchester Carers Forum: ☕Carers Coffee Meetings☕
DESCRIPTION:Fancy a brew and a chat Daniel will be hosting carers coffee meetings in  February. \n\nFriday 13th March\, 11am at the Whitworth Art Gallery Café\, The Whitworth The University of Manchester\, Oxford Road\, M15 6ER\n\nPlease contact Daniel if you would like to attend on 07415 436382  \n\n\n\n\n\n\n\n\n\n\n\n\n\n\ndaniel@manchestercarersforum.org.uk
URL:https://www.carersmanchester.org.uk/event/manchester-carers-forum-%e2%98%95carers-coffee-meetings%e2%98%95/
LOCATION:Whitworth Art Gallery Café\, The Whitworth The University of Manchester\, Oxford Road\, M15 6ER
END:VEVENT
BEGIN:VEVENT
DTSTART;TZID=Europe/Paris:20260312T190000
DTEND;TZID=Europe/Paris:20260312T203000
DTSTAMP:20260425T152639
CREATED:20251203T094125Z
LAST-MODIFIED:20260126T100038Z
UID:10004341-1773342000-1773347400@www.carersmanchester.org.uk
SUMMARY:Kick off with a Verse (Thursday evenings)
DESCRIPTION:To sign up or learn more\, please email karindenovellis@gmail.com
URL:https://www.carersmanchester.org.uk/event/kickoffversethursday/2026-03-12/
ORGANIZER;CN="Karin De Novellis":MAILTO:karindenovellis@gmail.com
END:VEVENT
BEGIN:VEVENT
DTSTART;TZID=Europe/Paris:20260311T190000
DTEND;TZID=Europe/Paris:20260311T203000
DTSTAMP:20260425T152639
CREATED:20250211T165514Z
LAST-MODIFIED:20250211T165514Z
UID:10003170-1773255600-1773261000@www.carersmanchester.org.uk
SUMMARY:Together dementia support: Zoom Dementia Carers Training 4 week course
DESCRIPTION:Contact beth@togetherdementiasupport.org
URL:https://www.carersmanchester.org.uk/event/together-dementia-support-zoom-dementia-carers-training-4-week-course/2026-03-11/
END:VEVENT
BEGIN:VEVENT
DTSTART;TZID=Europe/Paris:20260311T140000
DTEND;TZID=Europe/Paris:20260311T153000
DTSTAMP:20260425T152639
CREATED:20251203T093803Z
LAST-MODIFIED:20260126T100139Z
UID:10004086-1773237600-1773243000@www.carersmanchester.org.uk
SUMMARY:Kick off with a Verse (Wednesday afternoons)
DESCRIPTION:To sign up or learn more\, please email karindenovellis@gmail.com
URL:https://www.carersmanchester.org.uk/event/kickoffverse/2026-03-11/
LOCATION:online
ORGANIZER;CN="Karin De Novellis":MAILTO:karindenovellis@gmail.com
END:VEVENT
BEGIN:VEVENT
DTSTART;TZID=Europe/Paris:20260311T110000
DTEND;TZID=Europe/Paris:20260311T130000
DTSTAMP:20260425T152639
CREATED:20250117T135335Z
LAST-MODIFIED:20250117T135442Z
UID:10002554-1773226800-1773234000@www.carersmanchester.org.uk
SUMMARY:Lifted: Walking Group
DESCRIPTION:Text from organiser: \nEvery Wednesday\, staff and carers and family who attend Lifted. Meet up for a lovely walk around Wythenshawe park. \nThe group meet up at the Cafe from there they set off as a group. Half way around the walk the group splits into two groups. One for those who want to do the 1 mile walk\, the other group for those who want to do a 2 or 3 mile walk. \nThe group meet back up at the cafe for a hot drink and a chat. \n  \nWe welcome all new walkers regardless of walking ability we cater for everyone! Still not sure why not read our blog about the walking group – Link \nLifted walking group – Every Wednesday at 11am – 1pm. Make sure to drop us a text or email to let us know you are coming.\nCall/text us on:07385568990 Or 07384784262 \nOr email us: info@liftedcarerscentre.org.uk
URL:https://www.carersmanchester.org.uk/event/lifted-walking-group-10/2026-03-11/
LOCATION:Wythenshawe Park\, Manchester\, M23 0AB
END:VEVENT
BEGIN:VEVENT
DTSTART;TZID=Europe/Paris:20260310T130000
DTEND;TZID=Europe/Paris:20260310T144500
DTSTAMP:20260425T152639
CREATED:20260307T143226Z
LAST-MODIFIED:20260307T143226Z
UID:10004693-1773147600-1773153900@www.carersmanchester.org.uk
SUMMARY:Manchester Carers Forum: Wythenshawe Carers Peer Support Group
DESCRIPTION:Tuesday 10th March\, 1pm – 2.45pm (2nd Tuesday of every month)\nDandelion Community\, Oatlands Road\, Wythenshawe\, M22 1AH\nContact – Daniel on 07415436382\n\ndaniel@manchestercarersforum.org.uk  \n*Please contact the organiser prior to attending in case of last minute changes in the month.*
URL:https://www.carersmanchester.org.uk/event/manchester-carers-forum-wythenshawe-carers-peer-support-group-2/2026-03-10/
LOCATION:Dandelion Community Centre\, Oatlands Road\, Manchester\, M22 1AL
END:VEVENT
BEGIN:VEVENT
DTSTART;TZID=Europe/Paris:20260309T123000
DTEND;TZID=Europe/Paris:20260309T140000
DTSTAMP:20260425T152639
CREATED:20241213T121023Z
LAST-MODIFIED:20241216T113524Z
UID:10001957-1773059400-1773064800@www.carersmanchester.org.uk
SUMMARY:Lifted: Uplift Meal
DESCRIPTION:
URL:https://www.carersmanchester.org.uk/event/lifted-uplift-meal-10/2026-03-09/
LOCATION:Dandelion Community Centre\, Oatlands Road\, Manchester\, M22 1AL
END:VEVENT
BEGIN:VEVENT
DTSTART;TZID=Europe/Paris:20260309T113000
DTEND;TZID=Europe/Paris:20260309T130000
DTSTAMP:20260425T152639
CREATED:20260303T105308Z
LAST-MODIFIED:20260303T105309Z
UID:10004623-1773055800-1773061200@www.carersmanchester.org.uk
SUMMARY:Men's Carers Group
DESCRIPTION:For more information\, contact Mark: \n\n07931879224\nmark@manchestercarersforum.org.uk
URL:https://www.carersmanchester.org.uk/event/mens-carers-group/
LOCATION:Royal Northern College of Music\, 124 Oxford Road\, Manchester\, M13 9RD
END:VEVENT
END:VCALENDAR