BEGIN:VCALENDAR
VERSION:2.0
PRODID:-//The Carers Manchester Contact Point - ECPv6.15.18//NONSGML v1.0//EN
CALSCALE:GREGORIAN
METHOD:PUBLISH
X-ORIGINAL-URL:https://www.carersmanchester.org.uk
X-WR-CALDESC:Events for The Carers Manchester Contact Point
REFRESH-INTERVAL;VALUE=DURATION:PT1H
X-Robots-Tag:noindex
X-PUBLISHED-TTL:PT1H
BEGIN:VTIMEZONE
TZID:Europe/Paris
BEGIN:DAYLIGHT
TZOFFSETFROM:+0100
TZOFFSETTO:+0200
TZNAME:CEST
DTSTART:20250330T010000
END:DAYLIGHT
BEGIN:STANDARD
TZOFFSETFROM:+0200
TZOFFSETTO:+0100
TZNAME:CET
DTSTART:20251026T010000
END:STANDARD
BEGIN:DAYLIGHT
TZOFFSETFROM:+0100
TZOFFSETTO:+0200
TZNAME:CEST
DTSTART:20260329T010000
END:DAYLIGHT
BEGIN:STANDARD
TZOFFSETFROM:+0200
TZOFFSETTO:+0100
TZNAME:CET
DTSTART:20261025T010000
END:STANDARD
BEGIN:DAYLIGHT
TZOFFSETFROM:+0100
TZOFFSETTO:+0200
TZNAME:CEST
DTSTART:20270328T010000
END:DAYLIGHT
BEGIN:STANDARD
TZOFFSETFROM:+0200
TZOFFSETTO:+0100
TZNAME:CET
DTSTART:20271031T010000
END:STANDARD
END:VTIMEZONE
BEGIN:VEVENT
DTSTART;TZID=Europe/Paris:20260209T130000
DTEND;TZID=Europe/Paris:20260209T150000
DTSTAMP:20260424T015700
CREATED:20260126T104359Z
LAST-MODIFIED:20260126T104359Z
UID:10004620-1770642000-1770649200@www.carersmanchester.org.uk
SUMMARY:LMCP: cost-of-living workshop
DESCRIPTION:
URL:https://www.carersmanchester.org.uk/event/lmcp-cost-of-living-workshop-2/
LOCATION:Chorlton Library\, Manchester Road\, M21 9PN
END:VEVENT
BEGIN:VEVENT
DTSTART;TZID=Europe/Paris:20260211T103000
DTEND;TZID=Europe/Paris:20260211T120000
DTSTAMP:20260424T015700
CREATED:20251229T131432Z
LAST-MODIFIED:20251229T131432Z
UID:10004590-1770805800-1770811200@www.carersmanchester.org.uk
SUMMARY:Free training: first aid for children and babies
DESCRIPTION:
URL:https://www.carersmanchester.org.uk/event/firstaid/
LOCATION:African and Caribbean Care Group\, Claremont Resource Centre\, Hulme\, Manchester\, M15 5FS
ORGANIZER;CN="Carers Manchester Central":MAILTO:CMC@accg.org.uk
END:VEVENT
BEGIN:VEVENT
DTSTART;TZID=Europe/Paris:20260211T110000
DTEND;TZID=Europe/Paris:20260211T130000
DTSTAMP:20260424T015700
CREATED:20250117T135335Z
LAST-MODIFIED:20250117T135442Z
UID:10002550-1770807600-1770814800@www.carersmanchester.org.uk
SUMMARY:Lifted: Walking Group
DESCRIPTION:Text from organiser: \nEvery Wednesday\, staff and carers and family who attend Lifted. Meet up for a lovely walk around Wythenshawe park. \nThe group meet up at the Cafe from there they set off as a group. Half way around the walk the group splits into two groups. One for those who want to do the 1 mile walk\, the other group for those who want to do a 2 or 3 mile walk. \nThe group meet back up at the cafe for a hot drink and a chat. \n  \nWe welcome all new walkers regardless of walking ability we cater for everyone! Still not sure why not read our blog about the walking group – Link \nLifted walking group – Every Wednesday at 11am – 1pm. Make sure to drop us a text or email to let us know you are coming.\nCall/text us on:07385568990 Or 07384784262 \nOr email us: info@liftedcarerscentre.org.uk
URL:https://www.carersmanchester.org.uk/event/lifted-walking-group-10/2026-02-11/
LOCATION:Wythenshawe Park\, Manchester\, M23 0AB
END:VEVENT
BEGIN:VEVENT
DTSTART;TZID=Europe/Paris:20260211T120000
DTEND;TZID=Europe/Paris:20260211T143000
DTSTAMP:20260424T015700
CREATED:20251229T131612Z
LAST-MODIFIED:20251229T131848Z
UID:10004591-1770811200-1770820200@www.carersmanchester.org.uk
SUMMARY:Free training: mental health awareness
DESCRIPTION:
URL:https://www.carersmanchester.org.uk/event/mentalhealthawareness/
LOCATION:African and Caribbean Care Group\, Claremont Resource Centre\, Hulme\, Manchester\, M15 5FS
END:VEVENT
BEGIN:VEVENT
DTSTART;TZID=Europe/Paris:20260211T140000
DTEND;TZID=Europe/Paris:20260211T153000
DTSTAMP:20260424T015700
CREATED:20251203T093803Z
LAST-MODIFIED:20260126T100139Z
UID:10004082-1770818400-1770823800@www.carersmanchester.org.uk
SUMMARY:Kick off with a Verse (Wednesday afternoons)
DESCRIPTION:To sign up or learn more\, please email karindenovellis@gmail.com
URL:https://www.carersmanchester.org.uk/event/kickoffverse/2026-02-11/
LOCATION:online
ORGANIZER;CN="Karin De Novellis":MAILTO:karindenovellis@gmail.com
END:VEVENT
BEGIN:VEVENT
DTSTART;TZID=Europe/Paris:20260211T190000
DTEND;TZID=Europe/Paris:20260211T203000
DTSTAMP:20260424T015700
CREATED:20250211T165514Z
LAST-MODIFIED:20250211T165514Z
UID:10003166-1770836400-1770841800@www.carersmanchester.org.uk
SUMMARY:Together dementia support: Zoom Dementia Carers Training 4 week course
DESCRIPTION:Contact beth@togetherdementiasupport.org
URL:https://www.carersmanchester.org.uk/event/together-dementia-support-zoom-dementia-carers-training-4-week-course/2026-02-11/
END:VEVENT
BEGIN:VEVENT
DTSTART;TZID=Europe/Paris:20260212T134500
DTEND;TZID=Europe/Paris:20260212T150000
DTSTAMP:20260424T015700
CREATED:20260113T120354Z
LAST-MODIFIED:20260122T164427Z
UID:10004595-1770903900-1770908400@www.carersmanchester.org.uk
SUMMARY:Free drumming workshop + benefits advice (South Manchester)
DESCRIPTION:For more information\, or to book your place\, please contact Paula on 07763565160 or email paula@togetherdementiasupport.org \n 
URL:https://www.carersmanchester.org.uk/event/drumming-south/
LOCATION:Amani Centre\, Moss Lane East\, Manchester\, M16 7DG
END:VEVENT
BEGIN:VEVENT
DTSTART;TZID=Europe/Paris:20260212T190000
DTEND;TZID=Europe/Paris:20260212T203000
DTSTAMP:20260424T015700
CREATED:20251203T094125Z
LAST-MODIFIED:20260126T100038Z
UID:10004337-1770922800-1770928200@www.carersmanchester.org.uk
SUMMARY:Kick off with a Verse (Thursday evenings)
DESCRIPTION:To sign up or learn more\, please email karindenovellis@gmail.com
URL:https://www.carersmanchester.org.uk/event/kickoffversethursday/2026-02-12/
ORGANIZER;CN="Karin De Novellis":MAILTO:karindenovellis@gmail.com
END:VEVENT
BEGIN:VEVENT
DTSTART;TZID=Europe/Paris:20260215T153000
DTEND;TZID=Europe/Paris:20260215T173000
DTSTAMP:20260424T015700
CREATED:20260114T140535Z
LAST-MODIFIED:20260114T140535Z
UID:10004596-1771169400-1771176600@www.carersmanchester.org.uk
SUMMARY:Free concert for carers
DESCRIPTION:Through our partnership with The Hallé\, we offer free concert tickets for carers at The Bridgewater Hall. We’re excited to announce that tickets are now available for the current season! \n  \n\n\n2026 concert dates and times\n\nSunday 15th February\, 4pm\nThursday 5th March\, 6pm\nSunday 22nd March\, 4pm\nSunday 19th April\, 4pm\nSunday 17th May\, 4pm\nThursday 21st May\, 6pm\n\n\n\n\nKey info:\n\nThe deadline for requesting a ticket is 10 days before each concert.\nYou’re welcome to bring a friend or the person you care for.\nWe will do our best to accommodate any access needs. However\, please note we only have a limited number of aisle seats\, step-free seats and wheelchair spaces.\nPlease arrive early to collect your ticket\nFor more information\, or to request a ticket\, email info@carersmanchester.org.uk\nor call 0161 834 6069\, ext 1133. (Please leave a message if no one answers.) \n\nWhen you get in touch\, please specify the dates of the concerts you would like to attend; whether you require one or two tickets; and whether you have any access requirements.
URL:https://www.carersmanchester.org.uk/event/free-concert-15-feb/
LOCATION:Bridgewater Hall
END:VEVENT
BEGIN:VEVENT
DTSTART;TZID=Europe/Paris:20260216T110000
DTEND;TZID=Europe/Paris:20260216T140000
DTSTAMP:20260424T015700
CREATED:20241213T120553Z
LAST-MODIFIED:20250519T121242Z
UID:10001696-1771239600-1771250400@www.carersmanchester.org.uk
SUMMARY:Lifted: Carers Drop-in
DESCRIPTION:
URL:https://www.carersmanchester.org.uk/event/lifted-carers-drop-in-10/2026-02-16/
LOCATION:Dandelion Community Centre\, Oatlands Road\, Manchester\, M22 1AL
END:VEVENT
BEGIN:VEVENT
DTSTART;TZID=Europe/Paris:20260216T123000
DTEND;TZID=Europe/Paris:20260216T140000
DTSTAMP:20260424T015700
CREATED:20241213T121023Z
LAST-MODIFIED:20241216T113524Z
UID:10001954-1771245000-1771250400@www.carersmanchester.org.uk
SUMMARY:Lifted: Uplift Meal
DESCRIPTION:
URL:https://www.carersmanchester.org.uk/event/lifted-uplift-meal-10/2026-02-16/
LOCATION:Dandelion Community Centre\, Oatlands Road\, Manchester\, M22 1AL
END:VEVENT
BEGIN:VEVENT
DTSTART;TZID=Europe/Paris:20260218T110000
DTEND;TZID=Europe/Paris:20260218T130000
DTSTAMP:20260424T015700
CREATED:20250117T135335Z
LAST-MODIFIED:20250117T135442Z
UID:10002551-1771412400-1771419600@www.carersmanchester.org.uk
SUMMARY:Lifted: Walking Group
DESCRIPTION:Text from organiser: \nEvery Wednesday\, staff and carers and family who attend Lifted. Meet up for a lovely walk around Wythenshawe park. \nThe group meet up at the Cafe from there they set off as a group. Half way around the walk the group splits into two groups. One for those who want to do the 1 mile walk\, the other group for those who want to do a 2 or 3 mile walk. \nThe group meet back up at the cafe for a hot drink and a chat. \n  \nWe welcome all new walkers regardless of walking ability we cater for everyone! Still not sure why not read our blog about the walking group – Link \nLifted walking group – Every Wednesday at 11am – 1pm. Make sure to drop us a text or email to let us know you are coming.\nCall/text us on:07385568990 Or 07384784262 \nOr email us: info@liftedcarerscentre.org.uk
URL:https://www.carersmanchester.org.uk/event/lifted-walking-group-10/2026-02-18/
LOCATION:Wythenshawe Park\, Manchester\, M23 0AB
END:VEVENT
BEGIN:VEVENT
DTSTART;TZID=Europe/Paris:20260218T133000
DTEND;TZID=Europe/Paris:20260218T153000
DTSTAMP:20260424T015700
CREATED:20250618T154559Z
LAST-MODIFIED:20250618T154559Z
UID:10003856-1771421400-1771428600@www.carersmanchester.org.uk
SUMMARY:Manchester Carers Forum: Cheetham and Crumpsall support group
DESCRIPTION:3rd Wednesday of every month\, 12.30-2.30pm\nUkrainian Cultural Centre\, 31 Smedley Lane\, Cheetham Hill M8 8XB\n\nPlease contact Karen prior to attending in case of last-minute changes: \n\n07903 685435\nor karen@manchestercarersforum.org.uk\n\n  \n 
URL:https://www.carersmanchester.org.uk/event/manchester-carers-forum-cheetham-and-crumpsall-support-group-4/2026-02-18/
LOCATION:Ukrainian Cultural Centre\, 31 Smedley Lane\, Cheetham Hill\,\, Manchester\, M8 8XB
END:VEVENT
BEGIN:VEVENT
DTSTART;TZID=Europe/Paris:20260218T140000
DTEND;TZID=Europe/Paris:20260218T153000
DTSTAMP:20260424T015700
CREATED:20251203T093803Z
LAST-MODIFIED:20260126T100139Z
UID:10004083-1771423200-1771428600@www.carersmanchester.org.uk
SUMMARY:Kick off with a Verse (Wednesday afternoons)
DESCRIPTION:To sign up or learn more\, please email karindenovellis@gmail.com
URL:https://www.carersmanchester.org.uk/event/kickoffverse/2026-02-18/
LOCATION:online
ORGANIZER;CN="Karin De Novellis":MAILTO:karindenovellis@gmail.com
END:VEVENT
BEGIN:VEVENT
DTSTART;TZID=Europe/Paris:20260218T190000
DTEND;TZID=Europe/Paris:20260218T203000
DTSTAMP:20260424T015700
CREATED:20250211T165514Z
LAST-MODIFIED:20250211T165514Z
UID:10003167-1771441200-1771446600@www.carersmanchester.org.uk
SUMMARY:Together dementia support: Zoom Dementia Carers Training 4 week course
DESCRIPTION:Contact beth@togetherdementiasupport.org
URL:https://www.carersmanchester.org.uk/event/together-dementia-support-zoom-dementia-carers-training-4-week-course/2026-02-18/
END:VEVENT
BEGIN:VEVENT
DTSTART;TZID=Europe/Paris:20260219T190000
DTEND;TZID=Europe/Paris:20260219T203000
DTSTAMP:20260424T015700
CREATED:20251203T094125Z
LAST-MODIFIED:20260126T100038Z
UID:10004338-1771527600-1771533000@www.carersmanchester.org.uk
SUMMARY:Kick off with a Verse (Thursday evenings)
DESCRIPTION:To sign up or learn more\, please email karindenovellis@gmail.com
URL:https://www.carersmanchester.org.uk/event/kickoffversethursday/2026-02-19/
ORGANIZER;CN="Karin De Novellis":MAILTO:karindenovellis@gmail.com
END:VEVENT
BEGIN:VEVENT
DTSTART;TZID=Europe/Paris:20260223T110000
DTEND;TZID=Europe/Paris:20260223T140000
DTSTAMP:20260424T015701
CREATED:20241213T120553Z
LAST-MODIFIED:20250519T121242Z
UID:10001697-1771844400-1771855200@www.carersmanchester.org.uk
SUMMARY:Lifted: Carers Drop-in
DESCRIPTION:
URL:https://www.carersmanchester.org.uk/event/lifted-carers-drop-in-10/2026-02-23/
LOCATION:Dandelion Community Centre\, Oatlands Road\, Manchester\, M22 1AL
END:VEVENT
BEGIN:VEVENT
DTSTART;TZID=Europe/Paris:20260223T123000
DTEND;TZID=Europe/Paris:20260223T140000
DTSTAMP:20260424T015701
CREATED:20241213T121023Z
LAST-MODIFIED:20241216T113524Z
UID:10001955-1771849800-1771855200@www.carersmanchester.org.uk
SUMMARY:Lifted: Uplift Meal
DESCRIPTION:
URL:https://www.carersmanchester.org.uk/event/lifted-uplift-meal-10/2026-02-23/
LOCATION:Dandelion Community Centre\, Oatlands Road\, Manchester\, M22 1AL
END:VEVENT
BEGIN:VEVENT
DTSTART;TZID=Europe/Paris:20260225T110000
DTEND;TZID=Europe/Paris:20260225T130000
DTSTAMP:20260424T015701
CREATED:20250117T135335Z
LAST-MODIFIED:20250117T135442Z
UID:10002552-1772017200-1772024400@www.carersmanchester.org.uk
SUMMARY:Lifted: Walking Group
DESCRIPTION:Text from organiser: \nEvery Wednesday\, staff and carers and family who attend Lifted. Meet up for a lovely walk around Wythenshawe park. \nThe group meet up at the Cafe from there they set off as a group. Half way around the walk the group splits into two groups. One for those who want to do the 1 mile walk\, the other group for those who want to do a 2 or 3 mile walk. \nThe group meet back up at the cafe for a hot drink and a chat. \n  \nWe welcome all new walkers regardless of walking ability we cater for everyone! Still not sure why not read our blog about the walking group – Link \nLifted walking group – Every Wednesday at 11am – 1pm. Make sure to drop us a text or email to let us know you are coming.\nCall/text us on:07385568990 Or 07384784262 \nOr email us: info@liftedcarerscentre.org.uk
URL:https://www.carersmanchester.org.uk/event/lifted-walking-group-10/2026-02-25/
LOCATION:Wythenshawe Park\, Manchester\, M23 0AB
END:VEVENT
BEGIN:VEVENT
DTSTART;TZID=Europe/Paris:20260225T140000
DTEND;TZID=Europe/Paris:20260225T153000
DTSTAMP:20260424T015701
CREATED:20251203T093803Z
LAST-MODIFIED:20260126T100139Z
UID:10004084-1772028000-1772033400@www.carersmanchester.org.uk
SUMMARY:Kick off with a Verse (Wednesday afternoons)
DESCRIPTION:To sign up or learn more\, please email karindenovellis@gmail.com
URL:https://www.carersmanchester.org.uk/event/kickoffverse/2026-02-25/
LOCATION:online
ORGANIZER;CN="Karin De Novellis":MAILTO:karindenovellis@gmail.com
END:VEVENT
BEGIN:VEVENT
DTSTART;TZID=Europe/Paris:20260225T190000
DTEND;TZID=Europe/Paris:20260225T203000
DTSTAMP:20260424T015701
CREATED:20250211T165514Z
LAST-MODIFIED:20250211T165514Z
UID:10003168-1772046000-1772051400@www.carersmanchester.org.uk
SUMMARY:Together dementia support: Zoom Dementia Carers Training 4 week course
DESCRIPTION:Contact beth@togetherdementiasupport.org
URL:https://www.carersmanchester.org.uk/event/together-dementia-support-zoom-dementia-carers-training-4-week-course/2026-02-25/
END:VEVENT
BEGIN:VEVENT
DTSTART;TZID=Europe/Paris:20260226T190000
DTEND;TZID=Europe/Paris:20260226T203000
DTSTAMP:20260424T015701
CREATED:20251203T094125Z
LAST-MODIFIED:20260126T100038Z
UID:10004339-1772132400-1772137800@www.carersmanchester.org.uk
SUMMARY:Kick off with a Verse (Thursday evenings)
DESCRIPTION:To sign up or learn more\, please email karindenovellis@gmail.com
URL:https://www.carersmanchester.org.uk/event/kickoffversethursday/2026-02-26/
ORGANIZER;CN="Karin De Novellis":MAILTO:karindenovellis@gmail.com
END:VEVENT
BEGIN:VEVENT
DTSTART;TZID=Europe/Paris:20260227T103000
DTEND;TZID=Europe/Paris:20260227T123000
DTSTAMP:20260424T015701
CREATED:20250618T153827Z
LAST-MODIFIED:20260307T144346Z
UID:10003726-1772188200-1772195400@www.carersmanchester.org.uk
SUMMARY:Recurring event - Manchester Carers Forum: Blackley Carers Peer Support
DESCRIPTION:Friday 27th March\, 10.30am-12.30pm (Last Friday of the month)\nThe Avenue Library Learning Centre\, 9 Victoria Ave East\, Blackley\, M9 6HW\nContact – Karen on 07903 685435\n\nkaren@manchestercarersforum.org.uk \n*Please contact the organiser prior to attending in case of last minute changes in the month.*
URL:https://www.carersmanchester.org.uk/event/blackley-peer-support/2026-02-27/
LOCATION:The Avenue Library and Learning Centre\, 9 Victoria Avenue East\, Manchester\, M9 6HW
END:VEVENT
BEGIN:VEVENT
DTSTART;TZID=Europe/Paris:20260302T110000
DTEND;TZID=Europe/Paris:20260302T140000
DTSTAMP:20260424T015701
CREATED:20241213T120553Z
LAST-MODIFIED:20250519T121242Z
UID:10001698-1772449200-1772460000@www.carersmanchester.org.uk
SUMMARY:Lifted: Carers Drop-in
DESCRIPTION:
URL:https://www.carersmanchester.org.uk/event/lifted-carers-drop-in-10/2026-03-02/
LOCATION:Dandelion Community Centre\, Oatlands Road\, Manchester\, M22 1AL
END:VEVENT
BEGIN:VEVENT
DTSTART;TZID=Europe/Paris:20260302T123000
DTEND;TZID=Europe/Paris:20260302T140000
DTSTAMP:20260424T015701
CREATED:20241213T121023Z
LAST-MODIFIED:20241216T113524Z
UID:10001956-1772454600-1772460000@www.carersmanchester.org.uk
SUMMARY:Lifted: Uplift Meal
DESCRIPTION:
URL:https://www.carersmanchester.org.uk/event/lifted-uplift-meal-10/2026-03-02/
LOCATION:Dandelion Community Centre\, Oatlands Road\, Manchester\, M22 1AL
END:VEVENT
BEGIN:VEVENT
DTSTART;TZID=Europe/Paris:20260304T110000
DTEND;TZID=Europe/Paris:20260304T130000
DTSTAMP:20260424T015701
CREATED:20250117T135335Z
LAST-MODIFIED:20250117T135442Z
UID:10002553-1772622000-1772629200@www.carersmanchester.org.uk
SUMMARY:Lifted: Walking Group
DESCRIPTION:Text from organiser: \nEvery Wednesday\, staff and carers and family who attend Lifted. Meet up for a lovely walk around Wythenshawe park. \nThe group meet up at the Cafe from there they set off as a group. Half way around the walk the group splits into two groups. One for those who want to do the 1 mile walk\, the other group for those who want to do a 2 or 3 mile walk. \nThe group meet back up at the cafe for a hot drink and a chat. \n  \nWe welcome all new walkers regardless of walking ability we cater for everyone! Still not sure why not read our blog about the walking group – Link \nLifted walking group – Every Wednesday at 11am – 1pm. Make sure to drop us a text or email to let us know you are coming.\nCall/text us on:07385568990 Or 07384784262 \nOr email us: info@liftedcarerscentre.org.uk
URL:https://www.carersmanchester.org.uk/event/lifted-walking-group-10/2026-03-04/
LOCATION:Wythenshawe Park\, Manchester\, M23 0AB
END:VEVENT
BEGIN:VEVENT
DTSTART;TZID=Europe/Paris:20260304T140000
DTEND;TZID=Europe/Paris:20260304T153000
DTSTAMP:20260424T015701
CREATED:20251203T093803Z
LAST-MODIFIED:20260126T100139Z
UID:10004085-1772632800-1772638200@www.carersmanchester.org.uk
SUMMARY:Kick off with a Verse (Wednesday afternoons)
DESCRIPTION:To sign up or learn more\, please email karindenovellis@gmail.com
URL:https://www.carersmanchester.org.uk/event/kickoffverse/2026-03-04/
LOCATION:online
ORGANIZER;CN="Karin De Novellis":MAILTO:karindenovellis@gmail.com
END:VEVENT
BEGIN:VEVENT
DTSTART;TZID=Europe/Paris:20260304T190000
DTEND;TZID=Europe/Paris:20260304T203000
DTSTAMP:20260424T015701
CREATED:20250211T165514Z
LAST-MODIFIED:20250211T165514Z
UID:10003169-1772650800-1772656200@www.carersmanchester.org.uk
SUMMARY:Together dementia support: Zoom Dementia Carers Training 4 week course
DESCRIPTION:Contact beth@togetherdementiasupport.org
URL:https://www.carersmanchester.org.uk/event/together-dementia-support-zoom-dementia-carers-training-4-week-course/2026-03-04/
END:VEVENT
BEGIN:VEVENT
DTSTART;TZID=Europe/Paris:20260305T100000
DTEND;TZID=Europe/Paris:20260305T120000
DTSTAMP:20260424T015701
CREATED:20260303T105739Z
LAST-MODIFIED:20260303T111233Z
UID:10004624-1772704800-1772712000@www.carersmanchester.org.uk
SUMMARY:LMCP: Cost of living support and advice
DESCRIPTION:Do you look after a partner\, relative or friend due to their physical or mental illness\, frailty or addiction? LMCP invite you to their cost of living support and advice session at Longsight Library.\n\n\n\nFor more information email info@lmcp.co.uk or phone 0161 226 4632.
URL:https://www.carersmanchester.org.uk/event/lmcp-cost-of-living-support-and-advice/
LOCATION:Longsight Library\, Stockport Road\, Manchester\, M12 4NE
END:VEVENT
BEGIN:VEVENT
DTSTART;TZID=Europe/Paris:20260305T133000
DTEND;TZID=Europe/Paris:20260305T153000
DTSTAMP:20260424T015701
CREATED:20251009T140514Z
LAST-MODIFIED:20251009T141034Z
UID:10004007-1772717400-1772724600@www.carersmanchester.org.uk
SUMMARY:Recurring event - East Manchester carer support group
DESCRIPTION:For more information\, please contact: \n\nkaren@manchestercarersforum.org.uk\n07903685435
URL:https://www.carersmanchester.org.uk/event/east-support-group/2026-03-05/
LOCATION:Asda Eastlands\, The community room\, Ashton New Road\, M11 4DB
END:VEVENT
END:VCALENDAR