BEGIN:VCALENDAR
VERSION:2.0
PRODID:-//The Carers Manchester Contact Point - ECPv6.15.18//NONSGML v1.0//EN
CALSCALE:GREGORIAN
METHOD:PUBLISH
X-WR-CALNAME:The Carers Manchester Contact Point
X-ORIGINAL-URL:https://www.carersmanchester.org.uk
X-WR-CALDESC:Events for The Carers Manchester Contact Point
REFRESH-INTERVAL;VALUE=DURATION:PT1H
X-Robots-Tag:noindex
X-PUBLISHED-TTL:PT1H
BEGIN:VTIMEZONE
TZID:Europe/Paris
BEGIN:DAYLIGHT
TZOFFSETFROM:+0100
TZOFFSETTO:+0200
TZNAME:CEST
DTSTART:20250330T010000
END:DAYLIGHT
BEGIN:STANDARD
TZOFFSETFROM:+0200
TZOFFSETTO:+0100
TZNAME:CET
DTSTART:20251026T010000
END:STANDARD
BEGIN:DAYLIGHT
TZOFFSETFROM:+0100
TZOFFSETTO:+0200
TZNAME:CEST
DTSTART:20260329T010000
END:DAYLIGHT
BEGIN:STANDARD
TZOFFSETFROM:+0200
TZOFFSETTO:+0100
TZNAME:CET
DTSTART:20261025T010000
END:STANDARD
BEGIN:DAYLIGHT
TZOFFSETFROM:+0100
TZOFFSETTO:+0200
TZNAME:CEST
DTSTART:20270328T010000
END:DAYLIGHT
BEGIN:STANDARD
TZOFFSETFROM:+0200
TZOFFSETTO:+0100
TZNAME:CET
DTSTART:20271031T010000
END:STANDARD
END:VTIMEZONE
BEGIN:VEVENT
DTSTART;TZID=Europe/Paris:20260125T160000
DTEND;TZID=Europe/Paris:20260125T173000
DTSTAMP:20260423T222903
CREATED:20250904T140028Z
LAST-MODIFIED:20250904T140046Z
UID:10003991-1769356800-1769362200@www.carersmanchester.org.uk
SUMMARY:Free concert for carers
DESCRIPTION:Through our partnership with The Hallé\, we offer free concert tickets for carers at The Bridgewater Hall. We’re excited to announce that tickets are now available for the current season! \n  \n\n\n2025/26 concert dates and times\n\nThursday 2nd October\, 6pm\nSunday 12th October\, 4pm\nSunday 9th November\, 4pm\nSunday 30th November\, 4pm\nThursday 4th December\, 6pm\nSunday 25th January\, 4pm\nSunday 15th February\, 4pm\nThursday 5th March\, 6pm\nSunday 22nd March\, 4pm\nSunday 19th April\, 4pm\nSunday 17th May\, 4pm\nThursday 21st May\, 6pm\n\n\n\n\nKey info:\n\nThe deadline for requesting a ticket is 10 days before each concert.\nYou’re welcome to bring a friend or the person you care for.\nWe will do our best to accommodate any access needs. However\, please note we only have a limited number of aisle seats\, step-free seats and wheelchair spaces.\nPlease arrive early to collect your ticket\nFor more information\, or to request a ticket\, email info@carersmanchester.org.uk\nor call 0161 834 6069\, ext 1133. (Please leave a message if no one answers.)
URL:https://www.carersmanchester.org.uk/event/free-concert-for-carers-25jan/
LOCATION:Bridgewater Hall
END:VEVENT
BEGIN:VEVENT
DTSTART;TZID=Europe/Paris:20260126T110000
DTEND;TZID=Europe/Paris:20260126T140000
DTSTAMP:20260423T222903
CREATED:20241213T120553Z
LAST-MODIFIED:20250519T121242Z
UID:10001693-1769425200-1769436000@www.carersmanchester.org.uk
SUMMARY:Lifted: Carers Drop-in
DESCRIPTION:
URL:https://www.carersmanchester.org.uk/event/lifted-carers-drop-in-10/2026-01-26/
LOCATION:Dandelion Community Centre\, Oatlands Road\, Manchester\, M22 1AL
END:VEVENT
BEGIN:VEVENT
DTSTART;TZID=Europe/Paris:20260126T123000
DTEND;TZID=Europe/Paris:20260126T140000
DTSTAMP:20260423T222903
CREATED:20241213T121023Z
LAST-MODIFIED:20241216T113524Z
UID:10001951-1769430600-1769436000@www.carersmanchester.org.uk
SUMMARY:Lifted: Uplift Meal
DESCRIPTION:
URL:https://www.carersmanchester.org.uk/event/lifted-uplift-meal-10/2026-01-26/
LOCATION:Dandelion Community Centre\, Oatlands Road\, Manchester\, M22 1AL
END:VEVENT
BEGIN:VEVENT
DTSTART;TZID=Europe/Paris:20260128T110000
DTEND;TZID=Europe/Paris:20260128T130000
DTSTAMP:20260423T222903
CREATED:20250117T135335Z
LAST-MODIFIED:20250117T135442Z
UID:10002548-1769598000-1769605200@www.carersmanchester.org.uk
SUMMARY:Lifted: Walking Group
DESCRIPTION:Text from organiser: \nEvery Wednesday\, staff and carers and family who attend Lifted. Meet up for a lovely walk around Wythenshawe park. \nThe group meet up at the Cafe from there they set off as a group. Half way around the walk the group splits into two groups. One for those who want to do the 1 mile walk\, the other group for those who want to do a 2 or 3 mile walk. \nThe group meet back up at the cafe for a hot drink and a chat. \n  \nWe welcome all new walkers regardless of walking ability we cater for everyone! Still not sure why not read our blog about the walking group – Link \nLifted walking group – Every Wednesday at 11am – 1pm. Make sure to drop us a text or email to let us know you are coming.\nCall/text us on:07385568990 Or 07384784262 \nOr email us: info@liftedcarerscentre.org.uk
URL:https://www.carersmanchester.org.uk/event/lifted-walking-group-10/2026-01-28/
LOCATION:Wythenshawe Park\, Manchester\, M23 0AB
END:VEVENT
BEGIN:VEVENT
DTSTART;TZID=Europe/Paris:20260128T140000
DTEND;TZID=Europe/Paris:20260128T153000
DTSTAMP:20260423T222903
CREATED:20251203T093803Z
LAST-MODIFIED:20260126T100139Z
UID:10004080-1769608800-1769614200@www.carersmanchester.org.uk
SUMMARY:Kick off with a Verse (Wednesday afternoons)
DESCRIPTION:To sign up or learn more\, please email karindenovellis@gmail.com
URL:https://www.carersmanchester.org.uk/event/kickoffverse/2026-01-28/
LOCATION:online
ORGANIZER;CN="Karin De Novellis":MAILTO:karindenovellis@gmail.com
END:VEVENT
BEGIN:VEVENT
DTSTART;TZID=Europe/Paris:20260128T190000
DTEND;TZID=Europe/Paris:20260128T203000
DTSTAMP:20260423T222903
CREATED:20250211T165514Z
LAST-MODIFIED:20250211T165514Z
UID:10003164-1769626800-1769632200@www.carersmanchester.org.uk
SUMMARY:Together dementia support: Zoom Dementia Carers Training 4 week course
DESCRIPTION:Contact beth@togetherdementiasupport.org
URL:https://www.carersmanchester.org.uk/event/together-dementia-support-zoom-dementia-carers-training-4-week-course/2026-01-28/
END:VEVENT
BEGIN:VEVENT
DTSTART;TZID=Europe/Paris:20260129T190000
DTEND;TZID=Europe/Paris:20260129T203000
DTSTAMP:20260423T222903
CREATED:20251203T094125Z
LAST-MODIFIED:20260126T100038Z
UID:10004335-1769713200-1769718600@www.carersmanchester.org.uk
SUMMARY:Kick off with a Verse (Thursday evenings)
DESCRIPTION:To sign up or learn more\, please email karindenovellis@gmail.com
URL:https://www.carersmanchester.org.uk/event/kickoffversethursday/2026-01-29/
ORGANIZER;CN="Karin De Novellis":MAILTO:karindenovellis@gmail.com
END:VEVENT
BEGIN:VEVENT
DTSTART;TZID=Europe/Paris:20260202T100000
DTEND;TZID=Europe/Paris:20260202T120000
DTSTAMP:20260423T222903
CREATED:20260126T104521Z
LAST-MODIFIED:20260126T104521Z
UID:10004621-1770026400-1770033600@www.carersmanchester.org.uk
SUMMARY:LMCP: cost-of-living workshop
DESCRIPTION:
URL:https://www.carersmanchester.org.uk/event/lmcp-cost-of-living-workshop-3/
LOCATION:Longsight Library\, Stockport Road\, Manchester\, M12 4NE
END:VEVENT
BEGIN:VEVENT
DTSTART;TZID=Europe/Paris:20260202T110000
DTEND;TZID=Europe/Paris:20260202T140000
DTSTAMP:20260423T222903
CREATED:20241213T120553Z
LAST-MODIFIED:20250519T121242Z
UID:10001694-1770030000-1770040800@www.carersmanchester.org.uk
SUMMARY:Lifted: Carers Drop-in
DESCRIPTION:
URL:https://www.carersmanchester.org.uk/event/lifted-carers-drop-in-10/2026-02-02/
LOCATION:Dandelion Community Centre\, Oatlands Road\, Manchester\, M22 1AL
END:VEVENT
BEGIN:VEVENT
DTSTART;TZID=Europe/Paris:20260202T123000
DTEND;TZID=Europe/Paris:20260202T140000
DTSTAMP:20260423T222903
CREATED:20241213T121023Z
LAST-MODIFIED:20241216T113524Z
UID:10001952-1770035400-1770040800@www.carersmanchester.org.uk
SUMMARY:Lifted: Uplift Meal
DESCRIPTION:
URL:https://www.carersmanchester.org.uk/event/lifted-uplift-meal-10/2026-02-02/
LOCATION:Dandelion Community Centre\, Oatlands Road\, Manchester\, M22 1AL
END:VEVENT
BEGIN:VEVENT
DTSTART;TZID=Europe/Paris:20260202T130000
DTEND;TZID=Europe/Paris:20260202T150000
DTSTAMP:20260423T222903
CREATED:20260126T104300Z
LAST-MODIFIED:20260126T104301Z
UID:10004619-1770037200-1770044400@www.carersmanchester.org.uk
SUMMARY:LMCP: cost-of-living workshop
DESCRIPTION:
URL:https://www.carersmanchester.org.uk/event/lmcp-cost-of-living-workshop/
LOCATION:Chorlton Library\, Manchester Road\, M21 9PN
END:VEVENT
BEGIN:VEVENT
DTSTART;TZID=Europe/Paris:20260204T110000
DTEND;TZID=Europe/Paris:20260204T130000
DTSTAMP:20260423T222903
CREATED:20250117T135335Z
LAST-MODIFIED:20250117T135442Z
UID:10002549-1770202800-1770210000@www.carersmanchester.org.uk
SUMMARY:Lifted: Walking Group
DESCRIPTION:Text from organiser: \nEvery Wednesday\, staff and carers and family who attend Lifted. Meet up for a lovely walk around Wythenshawe park. \nThe group meet up at the Cafe from there they set off as a group. Half way around the walk the group splits into two groups. One for those who want to do the 1 mile walk\, the other group for those who want to do a 2 or 3 mile walk. \nThe group meet back up at the cafe for a hot drink and a chat. \n  \nWe welcome all new walkers regardless of walking ability we cater for everyone! Still not sure why not read our blog about the walking group – Link \nLifted walking group – Every Wednesday at 11am – 1pm. Make sure to drop us a text or email to let us know you are coming.\nCall/text us on:07385568990 Or 07384784262 \nOr email us: info@liftedcarerscentre.org.uk
URL:https://www.carersmanchester.org.uk/event/lifted-walking-group-10/2026-02-04/
LOCATION:Wythenshawe Park\, Manchester\, M23 0AB
END:VEVENT
BEGIN:VEVENT
DTSTART;TZID=Europe/Paris:20260204T140000
DTEND;TZID=Europe/Paris:20260204T153000
DTSTAMP:20260423T222903
CREATED:20251203T093803Z
LAST-MODIFIED:20260126T100139Z
UID:10004081-1770213600-1770219000@www.carersmanchester.org.uk
SUMMARY:Kick off with a Verse (Wednesday afternoons)
DESCRIPTION:To sign up or learn more\, please email karindenovellis@gmail.com
URL:https://www.carersmanchester.org.uk/event/kickoffverse/2026-02-04/
LOCATION:online
ORGANIZER;CN="Karin De Novellis":MAILTO:karindenovellis@gmail.com
END:VEVENT
BEGIN:VEVENT
DTSTART;TZID=Europe/Paris:20260204T190000
DTEND;TZID=Europe/Paris:20260204T203000
DTSTAMP:20260423T222903
CREATED:20250211T165514Z
LAST-MODIFIED:20250211T165514Z
UID:10003165-1770231600-1770237000@www.carersmanchester.org.uk
SUMMARY:Together dementia support: Zoom Dementia Carers Training 4 week course
DESCRIPTION:Contact beth@togetherdementiasupport.org
URL:https://www.carersmanchester.org.uk/event/together-dementia-support-zoom-dementia-carers-training-4-week-course/2026-02-04/
END:VEVENT
BEGIN:VEVENT
DTSTART;TZID=Europe/Paris:20260205T133000
DTEND;TZID=Europe/Paris:20260205T153000
DTSTAMP:20260423T222903
CREATED:20251009T140514Z
LAST-MODIFIED:20251009T141034Z
UID:10004006-1770298200-1770305400@www.carersmanchester.org.uk
SUMMARY:Recurring event - East Manchester carer support group
DESCRIPTION:For more information\, please contact: \n\nkaren@manchestercarersforum.org.uk\n07903685435
URL:https://www.carersmanchester.org.uk/event/east-support-group/2026-02-05/
LOCATION:Asda Eastlands\, The community room\, Ashton New Road\, M11 4DB
END:VEVENT
BEGIN:VEVENT
DTSTART;TZID=Europe/Paris:20260205T140000
DTEND;TZID=Europe/Paris:20260205T160000
DTSTAMP:20260423T222903
CREATED:20260122T164250Z
LAST-MODIFIED:20260122T164250Z
UID:10004600-1770300000-1770307200@www.carersmanchester.org.uk
SUMMARY:Arthritis UK: Managing Fatigue online session
DESCRIPTION:Text from organiser:\n\nDate: 5 February 2026\nTime: 2.00 PM to 4.00PM\nFrequency: Single Session\nEvent code: 46058 \nFatigue\, like pain\, is one of the most common and debilitating symptoms of arthritis. \nThis Information & Support Talk will help you understand what fatigue is and how it can affect you. We’ll explore the impact and frustration that comes with chronic exhaustion and discuss strategies to better manage these challenging periods. \nThis talk offers a space to connect and share ideas for putting information into action. \nRegister for your free place on the Managing Fatigue session
URL:https://www.carersmanchester.org.uk/event/arthritis-uk-managing-fatigue-online-session/
LOCATION:online
ORGANIZER;CN="Arthritis UK":MAILTO:enquiries@arthritis-uk.org
END:VEVENT
BEGIN:VEVENT
DTSTART;TZID=Europe/Paris:20260205T190000
DTEND;TZID=Europe/Paris:20260205T203000
DTSTAMP:20260423T222903
CREATED:20251203T094125Z
LAST-MODIFIED:20260126T100038Z
UID:10004336-1770318000-1770323400@www.carersmanchester.org.uk
SUMMARY:Kick off with a Verse (Thursday evenings)
DESCRIPTION:To sign up or learn more\, please email karindenovellis@gmail.com
URL:https://www.carersmanchester.org.uk/event/kickoffversethursday/2026-02-05/
ORGANIZER;CN="Karin De Novellis":MAILTO:karindenovellis@gmail.com
END:VEVENT
BEGIN:VEVENT
DTSTART;TZID=Europe/Paris:20260206T103000
DTEND;TZID=Europe/Paris:20260206T113000
DTSTAMP:20260423T222903
CREATED:20260122T164933Z
LAST-MODIFIED:20260122T164933Z
UID:10004602-1770373800-1770377400@www.carersmanchester.org.uk
SUMMARY:Arthritis UK: Introduction to Arthritis
DESCRIPTION:Date: 6 February 2026\nTime: 10.30 AM to 11.30 AM\nFrequency: Single Session\nEvent code: 46059 \nHow much do we really know about arthritis\, even when it’s something we live with every day? \nThis talk is designed for anyone who wants to better understand arthritis whether you’re newly diagnosed\, have been living with it for years\, or simply want to learn more. \nWe’ll cover the different types of arthritis and their treatments\, explore how arthritis impacts daily life including work and discuss what steps you can take to manage symptoms. We’ll also highlight the support available through Arthritis UK and the ways you can get involved. \nRegister for your free place on the Introduction To Arthritis session
URL:https://www.carersmanchester.org.uk/event/arthritis-uk-introduction-to-arthritis/
LOCATION:online
ORGANIZER;CN="Arthritis UK":MAILTO:enquiries@arthritis-uk.org
END:VEVENT
BEGIN:VEVENT
DTSTART;TZID=Europe/Paris:20260206T110000
DTEND;TZID=Europe/Paris:20260206T130000
DTSTAMP:20260423T222903
CREATED:20260122T164602Z
LAST-MODIFIED:20260122T164602Z
UID:10004601-1770375600-1770382800@www.carersmanchester.org.uk
SUMMARY:Arthritis UK: Managing Wellbeing - online session
DESCRIPTION:Text from organiser: \nDate: 6 February 2026\nTime: 11.00 AM to 1.00PM\nFrequency: Single Session\nEvent code: 46059 \nLiving with arthritis can be tough and often brings many emotional challenges. \nIn this Information & Support Talk\, our trainers will explore how our mental wellness affects our daily lives and how it intertwines with the challenges of living with a chronic condition. Through group discussions\, we’ll share insights and personal experiences on ways to better manage our mental health. \nBy the end of the session\, our goal is for you to leave with a clear plan of action or a list of practical strategies that can help you improve your mental wellness and its impact on your life. \nRegister for your free place on the Managing Mental Wellbeing session
URL:https://www.carersmanchester.org.uk/event/arthritis-uk-managing-wellbeing-online-session/
LOCATION:online
ORGANIZER;CN="Arthritis UK":MAILTO:enquiries@arthritis-uk.org
END:VEVENT
BEGIN:VEVENT
DTSTART;TZID=Europe/Paris:20260206T140000
DTEND;TZID=Europe/Paris:20260206T153000
DTSTAMP:20260423T222903
CREATED:20250618T155142Z
LAST-MODIFIED:20250618T155142Z
UID:10003925-1770386400-1770391800@www.carersmanchester.org.uk
SUMMARY:Recurring event - Manchester Carers Forum: Burnage Carers Peer Support Group
DESCRIPTION:Please contact the organiser prior to attending\, in case of last minute changes. \n\n1st Friday of every month\, 2-3.30pm\nThe Burnage Library\, Burnage Ln\, Manchester M19 1EW\nContact Daniel on 07415 436382 or daniel@manchestercarersforum.org.uk
URL:https://www.carersmanchester.org.uk/event/burnage-peer-support/2026-02-06/
LOCATION:Burnage Library\, Burnage Lane\, Manchester\, M19 1EW
END:VEVENT
BEGIN:VEVENT
DTSTART;TZID=Europe/Paris:20260209T100000
DTEND;TZID=Europe/Paris:20260209T113000
DTSTAMP:20260423T222903
CREATED:20260120T153739Z
LAST-MODIFIED:20260120T153739Z
UID:10004598-1770631200-1770636600@www.carersmanchester.org.uk
SUMMARY:Intergenerational Creative Hub
DESCRIPTION:To learn more or book your place\, please email abi@imm-music.com
URL:https://www.carersmanchester.org.uk/event/intergenerationalcreativehub/
LOCATION:Bridgewater Hall
ORGANIZER;CN="Intergenerational Music Making":MAILTO:info@imm-music.com
END:VEVENT
BEGIN:VEVENT
DTSTART;TZID=Europe/Paris:20260209T100000
DTEND;TZID=Europe/Paris:20260209T120000
DTSTAMP:20260423T222903
CREATED:20260126T104624Z
LAST-MODIFIED:20260126T104624Z
UID:10004622-1770631200-1770638400@www.carersmanchester.org.uk
SUMMARY:LMCP: cost-of-living workshop
DESCRIPTION:
URL:https://www.carersmanchester.org.uk/event/lmcp-cost-of-living-workshop-4/
LOCATION:Longsight Library\, Stockport Road\, Manchester\, M12 4NE
END:VEVENT
BEGIN:VEVENT
DTSTART;TZID=Europe/Paris:20260209T110000
DTEND;TZID=Europe/Paris:20260209T140000
DTSTAMP:20260423T222903
CREATED:20241213T120553Z
LAST-MODIFIED:20250519T121242Z
UID:10001695-1770634800-1770645600@www.carersmanchester.org.uk
SUMMARY:Lifted: Carers Drop-in
DESCRIPTION:
URL:https://www.carersmanchester.org.uk/event/lifted-carers-drop-in-10/2026-02-09/
LOCATION:Dandelion Community Centre\, Oatlands Road\, Manchester\, M22 1AL
END:VEVENT
BEGIN:VEVENT
DTSTART;TZID=Europe/Paris:20260209T123000
DTEND;TZID=Europe/Paris:20260209T140000
DTSTAMP:20260423T222903
CREATED:20241213T121023Z
LAST-MODIFIED:20241216T113524Z
UID:10001953-1770640200-1770645600@www.carersmanchester.org.uk
SUMMARY:Lifted: Uplift Meal
DESCRIPTION:
URL:https://www.carersmanchester.org.uk/event/lifted-uplift-meal-10/2026-02-09/
LOCATION:Dandelion Community Centre\, Oatlands Road\, Manchester\, M22 1AL
END:VEVENT
BEGIN:VEVENT
DTSTART;TZID=Europe/Paris:20260209T130000
DTEND;TZID=Europe/Paris:20260209T150000
DTSTAMP:20260423T222903
CREATED:20260126T104359Z
LAST-MODIFIED:20260126T104359Z
UID:10004620-1770642000-1770649200@www.carersmanchester.org.uk
SUMMARY:LMCP: cost-of-living workshop
DESCRIPTION:
URL:https://www.carersmanchester.org.uk/event/lmcp-cost-of-living-workshop-2/
LOCATION:Chorlton Library\, Manchester Road\, M21 9PN
END:VEVENT
BEGIN:VEVENT
DTSTART;TZID=Europe/Paris:20260211T103000
DTEND;TZID=Europe/Paris:20260211T120000
DTSTAMP:20260423T222903
CREATED:20251229T131432Z
LAST-MODIFIED:20251229T131432Z
UID:10004590-1770805800-1770811200@www.carersmanchester.org.uk
SUMMARY:Free training: first aid for children and babies
DESCRIPTION:
URL:https://www.carersmanchester.org.uk/event/firstaid/
LOCATION:African and Caribbean Care Group\, Claremont Resource Centre\, Hulme\, Manchester\, M15 5FS
ORGANIZER;CN="Carers Manchester Central":MAILTO:CMC@accg.org.uk
END:VEVENT
BEGIN:VEVENT
DTSTART;TZID=Europe/Paris:20260211T110000
DTEND;TZID=Europe/Paris:20260211T130000
DTSTAMP:20260423T222903
CREATED:20250117T135335Z
LAST-MODIFIED:20250117T135442Z
UID:10002550-1770807600-1770814800@www.carersmanchester.org.uk
SUMMARY:Lifted: Walking Group
DESCRIPTION:Text from organiser: \nEvery Wednesday\, staff and carers and family who attend Lifted. Meet up for a lovely walk around Wythenshawe park. \nThe group meet up at the Cafe from there they set off as a group. Half way around the walk the group splits into two groups. One for those who want to do the 1 mile walk\, the other group for those who want to do a 2 or 3 mile walk. \nThe group meet back up at the cafe for a hot drink and a chat. \n  \nWe welcome all new walkers regardless of walking ability we cater for everyone! Still not sure why not read our blog about the walking group – Link \nLifted walking group – Every Wednesday at 11am – 1pm. Make sure to drop us a text or email to let us know you are coming.\nCall/text us on:07385568990 Or 07384784262 \nOr email us: info@liftedcarerscentre.org.uk
URL:https://www.carersmanchester.org.uk/event/lifted-walking-group-10/2026-02-11/
LOCATION:Wythenshawe Park\, Manchester\, M23 0AB
END:VEVENT
BEGIN:VEVENT
DTSTART;TZID=Europe/Paris:20260211T120000
DTEND;TZID=Europe/Paris:20260211T143000
DTSTAMP:20260423T222903
CREATED:20251229T131612Z
LAST-MODIFIED:20251229T131848Z
UID:10004591-1770811200-1770820200@www.carersmanchester.org.uk
SUMMARY:Free training: mental health awareness
DESCRIPTION:
URL:https://www.carersmanchester.org.uk/event/mentalhealthawareness/
LOCATION:African and Caribbean Care Group\, Claremont Resource Centre\, Hulme\, Manchester\, M15 5FS
END:VEVENT
BEGIN:VEVENT
DTSTART;TZID=Europe/Paris:20260211T140000
DTEND;TZID=Europe/Paris:20260211T153000
DTSTAMP:20260423T222903
CREATED:20251203T093803Z
LAST-MODIFIED:20260126T100139Z
UID:10004082-1770818400-1770823800@www.carersmanchester.org.uk
SUMMARY:Kick off with a Verse (Wednesday afternoons)
DESCRIPTION:To sign up or learn more\, please email karindenovellis@gmail.com
URL:https://www.carersmanchester.org.uk/event/kickoffverse/2026-02-11/
LOCATION:online
ORGANIZER;CN="Karin De Novellis":MAILTO:karindenovellis@gmail.com
END:VEVENT
BEGIN:VEVENT
DTSTART;TZID=Europe/Paris:20260211T190000
DTEND;TZID=Europe/Paris:20260211T203000
DTSTAMP:20260423T222903
CREATED:20250211T165514Z
LAST-MODIFIED:20250211T165514Z
UID:10003166-1770836400-1770841800@www.carersmanchester.org.uk
SUMMARY:Together dementia support: Zoom Dementia Carers Training 4 week course
DESCRIPTION:Contact beth@togetherdementiasupport.org
URL:https://www.carersmanchester.org.uk/event/together-dementia-support-zoom-dementia-carers-training-4-week-course/2026-02-11/
END:VEVENT
END:VCALENDAR