BEGIN:VCALENDAR
VERSION:2.0
PRODID:-//The Carers Manchester Contact Point - ECPv6.15.18//NONSGML v1.0//EN
CALSCALE:GREGORIAN
METHOD:PUBLISH
X-WR-CALNAME:The Carers Manchester Contact Point
X-ORIGINAL-URL:https://www.carersmanchester.org.uk
X-WR-CALDESC:Events for The Carers Manchester Contact Point
REFRESH-INTERVAL;VALUE=DURATION:PT1H
X-Robots-Tag:noindex
X-PUBLISHED-TTL:PT1H
BEGIN:VTIMEZONE
TZID:Europe/Paris
BEGIN:DAYLIGHT
TZOFFSETFROM:+0100
TZOFFSETTO:+0200
TZNAME:CEST
DTSTART:20240331T010000
END:DAYLIGHT
BEGIN:STANDARD
TZOFFSETFROM:+0200
TZOFFSETTO:+0100
TZNAME:CET
DTSTART:20241027T010000
END:STANDARD
BEGIN:DAYLIGHT
TZOFFSETFROM:+0100
TZOFFSETTO:+0200
TZNAME:CEST
DTSTART:20250330T010000
END:DAYLIGHT
BEGIN:STANDARD
TZOFFSETFROM:+0200
TZOFFSETTO:+0100
TZNAME:CET
DTSTART:20251026T010000
END:STANDARD
BEGIN:DAYLIGHT
TZOFFSETFROM:+0100
TZOFFSETTO:+0200
TZNAME:CEST
DTSTART:20260329T010000
END:DAYLIGHT
BEGIN:STANDARD
TZOFFSETFROM:+0200
TZOFFSETTO:+0100
TZNAME:CET
DTSTART:20261025T010000
END:STANDARD
BEGIN:DAYLIGHT
TZOFFSETFROM:+0100
TZOFFSETTO:+0200
TZNAME:CEST
DTSTART:20270328T010000
END:DAYLIGHT
BEGIN:STANDARD
TZOFFSETFROM:+0200
TZOFFSETTO:+0100
TZNAME:CET
DTSTART:20271031T010000
END:STANDARD
END:VTIMEZONE
BEGIN:VEVENT
DTSTART;TZID=Europe/Paris:20251210T100000
DTEND;TZID=Europe/Paris:20251210T120000
DTSTAMP:20260423T161837
CREATED:20251126T140124Z
LAST-MODIFIED:20251126T140647Z
UID:10004076-1765360800-1765368000@www.carersmanchester.org.uk
SUMMARY:SEND Local Offer Drop In
DESCRIPTION:This free drop-in event is for parents/carers and children and young people 0-25 years with SEND in the Manchester City Council area. It’s an opportunity to speak with SEND services and groups\, and access support and advice. \nFor more information about Manchester Local Offer\, click here.
URL:https://www.carersmanchester.org.uk/event/send-local-offer-drop-in-6/
LOCATION:Woodhouse Park Lifestyle Centre\, Portway\, Wythenshawe\, Manchester\, M22 1QW
END:VEVENT
BEGIN:VEVENT
DTSTART;TZID=Europe/Paris:20251210T103000
DTEND;TZID=Europe/Paris:20251210T120000
DTSTAMP:20260423T161837
CREATED:20250403T103051Z
LAST-MODIFIED:20250403T103051Z
UID:10003275-1765362600-1765368000@www.carersmanchester.org.uk
SUMMARY:Move and Live Well with Parkinson's class- North Manchester
DESCRIPTION:Led by experienced dance artist Jody\, this relaxed and fun session is for anyone living with Parkinson’s and their support network. Sessions can be taken seated or standing and adapted for anybody. \nSessions will begin sitting with gentle movements focusing on mobility and body awareness. Using a wide range of music\, sessions will develop physical strength\, spacial awareness\, balance and motor skills. \nSessions are £3\, first session free. There will be refreshments provided and social time included. Partners/carers are encouraged to join. Bring water\, comfortable loose clothing and supportive shoes. \nThere is a small car park at the church\, as well as on street parking. The venue is accessible by a ramp and there are accessible facilities. \nNo need to book\, just run up. For more info email manchester@livewellanddance.org.uk
URL:https://www.carersmanchester.org.uk/event/move-and-live-well-with-parkinsons-class-north-manchester/2025-12-10/
LOCATION:Crumpsall Methodist Church\, Lansdowne Road\, Manchester\, M8 5ST
END:VEVENT
BEGIN:VEVENT
DTSTART;TZID=Europe/Paris:20251210T110000
DTEND;TZID=Europe/Paris:20251210T123000
DTSTAMP:20260423T161837
CREATED:20251210T141426Z
LAST-MODIFIED:20251210T141813Z
UID:10004589-1765364400-1765369800@www.carersmanchester.org.uk
SUMMARY:Carers coffee morning
DESCRIPTION:Daniel from Manchester Carers Forum is hosting a carers’ coffee morning at the Whitworth Gallery cafe. \nPlease contact Daniel if you would like to attend on 07415 436382 / daniel@manchestercarersforum.org.uk
URL:https://www.carersmanchester.org.uk/event/carers-coffee-morning-2/
LOCATION:The Whitworth Art Gallery\, The University of Manchester\, Oxford Road\, Manchester\, M15 6ER
END:VEVENT
BEGIN:VEVENT
DTSTART;TZID=Europe/Paris:20251210T110000
DTEND;TZID=Europe/Paris:20251210T130000
DTSTAMP:20260423T161837
CREATED:20250117T135335Z
LAST-MODIFIED:20250117T135442Z
UID:10002541-1765364400-1765371600@www.carersmanchester.org.uk
SUMMARY:Lifted: Walking Group
DESCRIPTION:Text from organiser: \nEvery Wednesday\, staff and carers and family who attend Lifted. Meet up for a lovely walk around Wythenshawe park. \nThe group meet up at the Cafe from there they set off as a group. Half way around the walk the group splits into two groups. One for those who want to do the 1 mile walk\, the other group for those who want to do a 2 or 3 mile walk. \nThe group meet back up at the cafe for a hot drink and a chat. \n  \nWe welcome all new walkers regardless of walking ability we cater for everyone! Still not sure why not read our blog about the walking group – Link \nLifted walking group – Every Wednesday at 11am – 1pm. Make sure to drop us a text or email to let us know you are coming.\nCall/text us on:07385568990 Or 07384784262 \nOr email us: info@liftedcarerscentre.org.uk
URL:https://www.carersmanchester.org.uk/event/lifted-walking-group-10/2025-12-10/
LOCATION:Wythenshawe Park\, Manchester\, M23 0AB
END:VEVENT
BEGIN:VEVENT
DTSTART;TZID=Europe/Paris:20251210T190000
DTEND;TZID=Europe/Paris:20251210T203000
DTSTAMP:20260423T161837
CREATED:20250211T165514Z
LAST-MODIFIED:20250211T165514Z
UID:10003157-1765393200-1765398600@www.carersmanchester.org.uk
SUMMARY:Together dementia support: Zoom Dementia Carers Training 4 week course
DESCRIPTION:Contact beth@togetherdementiasupport.org
URL:https://www.carersmanchester.org.uk/event/together-dementia-support-zoom-dementia-carers-training-4-week-course/2025-12-10/
END:VEVENT
BEGIN:VEVENT
DTSTART;TZID=Europe/Paris:20251211T110000
DTEND;TZID=Europe/Paris:20251211T130000
DTSTAMP:20260423T161837
CREATED:20251124T121706Z
LAST-MODIFIED:20251124T133649Z
UID:10004073-1765450800-1765458000@www.carersmanchester.org.uk
SUMMARY:Carers festive walk
DESCRIPTION:If you are a carer in the Manchester City Council area\, please contact Daniel to book your place: \n\nPhone: 07415436382\nEmail: daniel@manchestercarersforum.org.uk
URL:https://www.carersmanchester.org.uk/event/carers-festive-walk/
END:VEVENT
BEGIN:VEVENT
DTSTART;TZID=Europe/Paris:20251215T110000
DTEND;TZID=Europe/Paris:20251215T140000
DTSTAMP:20260423T161837
CREATED:20241213T120553Z
LAST-MODIFIED:20250519T121242Z
UID:10001687-1765796400-1765807200@www.carersmanchester.org.uk
SUMMARY:Lifted: Carers Drop-in
DESCRIPTION:
URL:https://www.carersmanchester.org.uk/event/lifted-carers-drop-in-10/2025-12-15/
LOCATION:Dandelion Community Centre\, Oatlands Road\, Manchester\, M22 1AL
END:VEVENT
BEGIN:VEVENT
DTSTART;TZID=Europe/Paris:20251215T120000
DTEND;TZID=Europe/Paris:20251215T150000
DTSTAMP:20260423T161837
CREATED:20251203T113836Z
LAST-MODIFIED:20251203T114442Z
UID:10004588-1765800000-1765810800@www.carersmanchester.org.uk
SUMMARY:Lifted End of Year Party
DESCRIPTION:Please note\, this event is for parent carers who have a child or adult with a learning disability and/or autism. \nTo book your space please contact Kate on 07538589345 or kate@liftedmcr.org.uk with the following info: \n\nYour name\nHow many spaces you need\nAny dietary requirements
URL:https://www.carersmanchester.org.uk/event/liftedparty/
LOCATION:Dandelion Community Centre\, Oatlands Road\, Manchester\, M22 1AL
END:VEVENT
BEGIN:VEVENT
DTSTART;TZID=Europe/Paris:20251215T123000
DTEND;TZID=Europe/Paris:20251215T140000
DTSTAMP:20260423T161837
CREATED:20241213T121023Z
LAST-MODIFIED:20241216T113524Z
UID:10001945-1765801800-1765807200@www.carersmanchester.org.uk
SUMMARY:Lifted: Uplift Meal
DESCRIPTION:
URL:https://www.carersmanchester.org.uk/event/lifted-uplift-meal-10/2025-12-15/
LOCATION:Dandelion Community Centre\, Oatlands Road\, Manchester\, M22 1AL
END:VEVENT
BEGIN:VEVENT
DTSTART;TZID=Europe/Paris:20251217T103000
DTEND;TZID=Europe/Paris:20251217T120000
DTSTAMP:20260423T161837
CREATED:20250403T103051Z
LAST-MODIFIED:20250403T103051Z
UID:10003276-1765967400-1765972800@www.carersmanchester.org.uk
SUMMARY:Move and Live Well with Parkinson's class- North Manchester
DESCRIPTION:Led by experienced dance artist Jody\, this relaxed and fun session is for anyone living with Parkinson’s and their support network. Sessions can be taken seated or standing and adapted for anybody. \nSessions will begin sitting with gentle movements focusing on mobility and body awareness. Using a wide range of music\, sessions will develop physical strength\, spacial awareness\, balance and motor skills. \nSessions are £3\, first session free. There will be refreshments provided and social time included. Partners/carers are encouraged to join. Bring water\, comfortable loose clothing and supportive shoes. \nThere is a small car park at the church\, as well as on street parking. The venue is accessible by a ramp and there are accessible facilities. \nNo need to book\, just run up. For more info email manchester@livewellanddance.org.uk
URL:https://www.carersmanchester.org.uk/event/move-and-live-well-with-parkinsons-class-north-manchester/2025-12-17/
LOCATION:Crumpsall Methodist Church\, Lansdowne Road\, Manchester\, M8 5ST
END:VEVENT
BEGIN:VEVENT
DTSTART;TZID=Europe/Paris:20251217T110000
DTEND;TZID=Europe/Paris:20251217T130000
DTSTAMP:20260423T161837
CREATED:20250117T135335Z
LAST-MODIFIED:20250117T135442Z
UID:10002542-1765969200-1765976400@www.carersmanchester.org.uk
SUMMARY:Lifted: Walking Group
DESCRIPTION:Text from organiser: \nEvery Wednesday\, staff and carers and family who attend Lifted. Meet up for a lovely walk around Wythenshawe park. \nThe group meet up at the Cafe from there they set off as a group. Half way around the walk the group splits into two groups. One for those who want to do the 1 mile walk\, the other group for those who want to do a 2 or 3 mile walk. \nThe group meet back up at the cafe for a hot drink and a chat. \n  \nWe welcome all new walkers regardless of walking ability we cater for everyone! Still not sure why not read our blog about the walking group – Link \nLifted walking group – Every Wednesday at 11am – 1pm. Make sure to drop us a text or email to let us know you are coming.\nCall/text us on:07385568990 Or 07384784262 \nOr email us: info@liftedcarerscentre.org.uk
URL:https://www.carersmanchester.org.uk/event/lifted-walking-group-10/2025-12-17/
LOCATION:Wythenshawe Park\, Manchester\, M23 0AB
END:VEVENT
BEGIN:VEVENT
DTSTART;TZID=Europe/Paris:20251217T133000
DTEND;TZID=Europe/Paris:20251217T153000
DTSTAMP:20260423T161837
CREATED:20250618T154559Z
LAST-MODIFIED:20250618T154559Z
UID:10003854-1765978200-1765985400@www.carersmanchester.org.uk
SUMMARY:Manchester Carers Forum: Cheetham and Crumpsall support group
DESCRIPTION:3rd Wednesday of every month\, 12.30-2.30pm\nUkrainian Cultural Centre\, 31 Smedley Lane\, Cheetham Hill M8 8XB\n\nPlease contact Karen prior to attending in case of last-minute changes: \n\n07903 685435\nor karen@manchestercarersforum.org.uk\n\n  \n 
URL:https://www.carersmanchester.org.uk/event/manchester-carers-forum-cheetham-and-crumpsall-support-group-4/2025-12-17/
LOCATION:Ukrainian Cultural Centre\, 31 Smedley Lane\, Cheetham Hill\,\, Manchester\, M8 8XB
END:VEVENT
BEGIN:VEVENT
DTSTART;TZID=Europe/Paris:20251217T190000
DTEND;TZID=Europe/Paris:20251217T203000
DTSTAMP:20260423T161837
CREATED:20250211T165514Z
LAST-MODIFIED:20250211T165514Z
UID:10003158-1765998000-1766003400@www.carersmanchester.org.uk
SUMMARY:Together dementia support: Zoom Dementia Carers Training 4 week course
DESCRIPTION:Contact beth@togetherdementiasupport.org
URL:https://www.carersmanchester.org.uk/event/together-dementia-support-zoom-dementia-carers-training-4-week-course/2025-12-17/
END:VEVENT
BEGIN:VEVENT
DTSTART;TZID=Europe/Paris:20251222T110000
DTEND;TZID=Europe/Paris:20251222T140000
DTSTAMP:20260423T161837
CREATED:20241213T120553Z
LAST-MODIFIED:20250519T121242Z
UID:10001688-1766401200-1766412000@www.carersmanchester.org.uk
SUMMARY:Lifted: Carers Drop-in
DESCRIPTION:
URL:https://www.carersmanchester.org.uk/event/lifted-carers-drop-in-10/2025-12-22/
LOCATION:Dandelion Community Centre\, Oatlands Road\, Manchester\, M22 1AL
END:VEVENT
BEGIN:VEVENT
DTSTART;TZID=Europe/Paris:20251222T123000
DTEND;TZID=Europe/Paris:20251222T140000
DTSTAMP:20260423T161837
CREATED:20241213T121023Z
LAST-MODIFIED:20241216T113524Z
UID:10001946-1766406600-1766412000@www.carersmanchester.org.uk
SUMMARY:Lifted: Uplift Meal
DESCRIPTION:
URL:https://www.carersmanchester.org.uk/event/lifted-uplift-meal-10/2025-12-22/
LOCATION:Dandelion Community Centre\, Oatlands Road\, Manchester\, M22 1AL
END:VEVENT
BEGIN:VEVENT
DTSTART;TZID=Europe/Paris:20251224T103000
DTEND;TZID=Europe/Paris:20251224T120000
DTSTAMP:20260423T161837
CREATED:20250403T103051Z
LAST-MODIFIED:20250403T103051Z
UID:10003277-1766572200-1766577600@www.carersmanchester.org.uk
SUMMARY:Move and Live Well with Parkinson's class- North Manchester
DESCRIPTION:Led by experienced dance artist Jody\, this relaxed and fun session is for anyone living with Parkinson’s and their support network. Sessions can be taken seated or standing and adapted for anybody. \nSessions will begin sitting with gentle movements focusing on mobility and body awareness. Using a wide range of music\, sessions will develop physical strength\, spacial awareness\, balance and motor skills. \nSessions are £3\, first session free. There will be refreshments provided and social time included. Partners/carers are encouraged to join. Bring water\, comfortable loose clothing and supportive shoes. \nThere is a small car park at the church\, as well as on street parking. The venue is accessible by a ramp and there are accessible facilities. \nNo need to book\, just run up. For more info email manchester@livewellanddance.org.uk
URL:https://www.carersmanchester.org.uk/event/move-and-live-well-with-parkinsons-class-north-manchester/2025-12-24/
LOCATION:Crumpsall Methodist Church\, Lansdowne Road\, Manchester\, M8 5ST
END:VEVENT
BEGIN:VEVENT
DTSTART;TZID=Europe/Paris:20251224T110000
DTEND;TZID=Europe/Paris:20251224T130000
DTSTAMP:20260423T161837
CREATED:20250117T135335Z
LAST-MODIFIED:20250117T135442Z
UID:10002543-1766574000-1766581200@www.carersmanchester.org.uk
SUMMARY:Lifted: Walking Group
DESCRIPTION:Text from organiser: \nEvery Wednesday\, staff and carers and family who attend Lifted. Meet up for a lovely walk around Wythenshawe park. \nThe group meet up at the Cafe from there they set off as a group. Half way around the walk the group splits into two groups. One for those who want to do the 1 mile walk\, the other group for those who want to do a 2 or 3 mile walk. \nThe group meet back up at the cafe for a hot drink and a chat. \n  \nWe welcome all new walkers regardless of walking ability we cater for everyone! Still not sure why not read our blog about the walking group – Link \nLifted walking group – Every Wednesday at 11am – 1pm. Make sure to drop us a text or email to let us know you are coming.\nCall/text us on:07385568990 Or 07384784262 \nOr email us: info@liftedcarerscentre.org.uk
URL:https://www.carersmanchester.org.uk/event/lifted-walking-group-10/2025-12-24/
LOCATION:Wythenshawe Park\, Manchester\, M23 0AB
END:VEVENT
BEGIN:VEVENT
DTSTART;TZID=Europe/Paris:20251224T190000
DTEND;TZID=Europe/Paris:20251224T203000
DTSTAMP:20260423T161837
CREATED:20250211T165514Z
LAST-MODIFIED:20250211T165514Z
UID:10003159-1766602800-1766608200@www.carersmanchester.org.uk
SUMMARY:Together dementia support: Zoom Dementia Carers Training 4 week course
DESCRIPTION:Contact beth@togetherdementiasupport.org
URL:https://www.carersmanchester.org.uk/event/together-dementia-support-zoom-dementia-carers-training-4-week-course/2025-12-24/
END:VEVENT
BEGIN:VEVENT
DTSTART;TZID=Europe/Paris:20251225T133000
DTEND;TZID=Europe/Paris:20251225T160000
DTSTAMP:20260423T161837
CREATED:20251202T100022Z
LAST-MODIFIED:20251202T101047Z
UID:10004077-1766669400-1766678400@www.carersmanchester.org.uk
SUMMARY:Rainbow Surprise: Christmas Party
DESCRIPTION:To book a place please call 07515110208 or email bookings@rainbowsurprise.com
URL:https://www.carersmanchester.org.uk/event/rainbow-surprise-christmas-party/
LOCATION:Crumpsall Community Hall\, Cleveland Road\, Crumpsall\, M8 4QU
END:VEVENT
BEGIN:VEVENT
DTSTART;TZID=Europe/Paris:20251226T103000
DTEND;TZID=Europe/Paris:20251226T123000
DTSTAMP:20260423T161837
CREATED:20250618T153827Z
LAST-MODIFIED:20260307T144346Z
UID:10003724-1766745000-1766752200@www.carersmanchester.org.uk
SUMMARY:Recurring event - Manchester Carers Forum: Blackley Carers Peer Support
DESCRIPTION:Friday 27th March\, 10.30am-12.30pm (Last Friday of the month)\nThe Avenue Library Learning Centre\, 9 Victoria Ave East\, Blackley\, M9 6HW\nContact – Karen on 07903 685435\n\nkaren@manchestercarersforum.org.uk \n*Please contact the organiser prior to attending in case of last minute changes in the month.*
URL:https://www.carersmanchester.org.uk/event/blackley-peer-support/2025-12-26/
LOCATION:The Avenue Library and Learning Centre\, 9 Victoria Avenue East\, Manchester\, M9 6HW
END:VEVENT
BEGIN:VEVENT
DTSTART;TZID=Europe/Paris:20251229T110000
DTEND;TZID=Europe/Paris:20251229T140000
DTSTAMP:20260423T161837
CREATED:20241213T120553Z
LAST-MODIFIED:20250519T121242Z
UID:10001689-1767006000-1767016800@www.carersmanchester.org.uk
SUMMARY:Lifted: Carers Drop-in
DESCRIPTION:
URL:https://www.carersmanchester.org.uk/event/lifted-carers-drop-in-10/2025-12-29/
LOCATION:Dandelion Community Centre\, Oatlands Road\, Manchester\, M22 1AL
END:VEVENT
BEGIN:VEVENT
DTSTART;TZID=Europe/Paris:20251229T123000
DTEND;TZID=Europe/Paris:20251229T140000
DTSTAMP:20260423T161837
CREATED:20241213T121023Z
LAST-MODIFIED:20241216T113524Z
UID:10001947-1767011400-1767016800@www.carersmanchester.org.uk
SUMMARY:Lifted: Uplift Meal
DESCRIPTION:
URL:https://www.carersmanchester.org.uk/event/lifted-uplift-meal-10/2025-12-29/
LOCATION:Dandelion Community Centre\, Oatlands Road\, Manchester\, M22 1AL
END:VEVENT
BEGIN:VEVENT
DTSTART;TZID=Europe/Paris:20251231T103000
DTEND;TZID=Europe/Paris:20251231T120000
DTSTAMP:20260423T161837
CREATED:20250403T103051Z
LAST-MODIFIED:20250403T103051Z
UID:10003278-1767177000-1767182400@www.carersmanchester.org.uk
SUMMARY:Move and Live Well with Parkinson's class- North Manchester
DESCRIPTION:Led by experienced dance artist Jody\, this relaxed and fun session is for anyone living with Parkinson’s and their support network. Sessions can be taken seated or standing and adapted for anybody. \nSessions will begin sitting with gentle movements focusing on mobility and body awareness. Using a wide range of music\, sessions will develop physical strength\, spacial awareness\, balance and motor skills. \nSessions are £3\, first session free. There will be refreshments provided and social time included. Partners/carers are encouraged to join. Bring water\, comfortable loose clothing and supportive shoes. \nThere is a small car park at the church\, as well as on street parking. The venue is accessible by a ramp and there are accessible facilities. \nNo need to book\, just run up. For more info email manchester@livewellanddance.org.uk
URL:https://www.carersmanchester.org.uk/event/move-and-live-well-with-parkinsons-class-north-manchester/2025-12-31/
LOCATION:Crumpsall Methodist Church\, Lansdowne Road\, Manchester\, M8 5ST
END:VEVENT
BEGIN:VEVENT
DTSTART;TZID=Europe/Paris:20251231T110000
DTEND;TZID=Europe/Paris:20251231T130000
DTSTAMP:20260423T161837
CREATED:20250117T135335Z
LAST-MODIFIED:20250117T135442Z
UID:10002544-1767178800-1767186000@www.carersmanchester.org.uk
SUMMARY:Lifted: Walking Group
DESCRIPTION:Text from organiser: \nEvery Wednesday\, staff and carers and family who attend Lifted. Meet up for a lovely walk around Wythenshawe park. \nThe group meet up at the Cafe from there they set off as a group. Half way around the walk the group splits into two groups. One for those who want to do the 1 mile walk\, the other group for those who want to do a 2 or 3 mile walk. \nThe group meet back up at the cafe for a hot drink and a chat. \n  \nWe welcome all new walkers regardless of walking ability we cater for everyone! Still not sure why not read our blog about the walking group – Link \nLifted walking group – Every Wednesday at 11am – 1pm. Make sure to drop us a text or email to let us know you are coming.\nCall/text us on:07385568990 Or 07384784262 \nOr email us: info@liftedcarerscentre.org.uk
URL:https://www.carersmanchester.org.uk/event/lifted-walking-group-10/2025-12-31/
LOCATION:Wythenshawe Park\, Manchester\, M23 0AB
END:VEVENT
BEGIN:VEVENT
DTSTART;TZID=Europe/Paris:20251231T190000
DTEND;TZID=Europe/Paris:20251231T203000
DTSTAMP:20260423T161837
CREATED:20250211T165514Z
LAST-MODIFIED:20250211T165514Z
UID:10003160-1767207600-1767213000@www.carersmanchester.org.uk
SUMMARY:Together dementia support: Zoom Dementia Carers Training 4 week course
DESCRIPTION:Contact beth@togetherdementiasupport.org
URL:https://www.carersmanchester.org.uk/event/together-dementia-support-zoom-dementia-carers-training-4-week-course/2025-12-31/
END:VEVENT
BEGIN:VEVENT
DTSTART;TZID=Europe/Paris:20260101T133000
DTEND;TZID=Europe/Paris:20260101T153000
DTSTAMP:20260423T161837
CREATED:20251009T140514Z
LAST-MODIFIED:20251009T141034Z
UID:10004005-1767274200-1767281400@www.carersmanchester.org.uk
SUMMARY:Recurring event - East Manchester carer support group
DESCRIPTION:For more information\, please contact: \n\nkaren@manchestercarersforum.org.uk\n07903685435
URL:https://www.carersmanchester.org.uk/event/east-support-group/2026-01-01/
LOCATION:Asda Eastlands\, The community room\, Ashton New Road\, M11 4DB
END:VEVENT
BEGIN:VEVENT
DTSTART;TZID=Europe/Paris:20260102T140000
DTEND;TZID=Europe/Paris:20260102T153000
DTSTAMP:20260423T161837
CREATED:20250618T155142Z
LAST-MODIFIED:20250618T155142Z
UID:10003924-1767362400-1767367800@www.carersmanchester.org.uk
SUMMARY:Recurring event - Manchester Carers Forum: Burnage Carers Peer Support Group
DESCRIPTION:Please contact the organiser prior to attending\, in case of last minute changes. \n\n1st Friday of every month\, 2-3.30pm\nThe Burnage Library\, Burnage Ln\, Manchester M19 1EW\nContact Daniel on 07415 436382 or daniel@manchestercarersforum.org.uk
URL:https://www.carersmanchester.org.uk/event/burnage-peer-support/2026-01-02/
LOCATION:Burnage Library\, Burnage Lane\, Manchester\, M19 1EW
END:VEVENT
BEGIN:VEVENT
DTSTART;TZID=Europe/Paris:20260105T110000
DTEND;TZID=Europe/Paris:20260105T140000
DTSTAMP:20260423T161837
CREATED:20241213T120553Z
LAST-MODIFIED:20250519T121242Z
UID:10001690-1767610800-1767621600@www.carersmanchester.org.uk
SUMMARY:Lifted: Carers Drop-in
DESCRIPTION:
URL:https://www.carersmanchester.org.uk/event/lifted-carers-drop-in-10/2026-01-05/
LOCATION:Dandelion Community Centre\, Oatlands Road\, Manchester\, M22 1AL
END:VEVENT
BEGIN:VEVENT
DTSTART;TZID=Europe/Paris:20260105T123000
DTEND;TZID=Europe/Paris:20260105T140000
DTSTAMP:20260423T161837
CREATED:20241213T121023Z
LAST-MODIFIED:20241216T113524Z
UID:10001948-1767616200-1767621600@www.carersmanchester.org.uk
SUMMARY:Lifted: Uplift Meal
DESCRIPTION:
URL:https://www.carersmanchester.org.uk/event/lifted-uplift-meal-10/2026-01-05/
LOCATION:Dandelion Community Centre\, Oatlands Road\, Manchester\, M22 1AL
END:VEVENT
BEGIN:VEVENT
DTSTART;TZID=Europe/Paris:20260107T110000
DTEND;TZID=Europe/Paris:20260107T130000
DTSTAMP:20260423T161837
CREATED:20250117T135335Z
LAST-MODIFIED:20250117T135442Z
UID:10002545-1767783600-1767790800@www.carersmanchester.org.uk
SUMMARY:Lifted: Walking Group
DESCRIPTION:Text from organiser: \nEvery Wednesday\, staff and carers and family who attend Lifted. Meet up for a lovely walk around Wythenshawe park. \nThe group meet up at the Cafe from there they set off as a group. Half way around the walk the group splits into two groups. One for those who want to do the 1 mile walk\, the other group for those who want to do a 2 or 3 mile walk. \nThe group meet back up at the cafe for a hot drink and a chat. \n  \nWe welcome all new walkers regardless of walking ability we cater for everyone! Still not sure why not read our blog about the walking group – Link \nLifted walking group – Every Wednesday at 11am – 1pm. Make sure to drop us a text or email to let us know you are coming.\nCall/text us on:07385568990 Or 07384784262 \nOr email us: info@liftedcarerscentre.org.uk
URL:https://www.carersmanchester.org.uk/event/lifted-walking-group-10/2026-01-07/
LOCATION:Wythenshawe Park\, Manchester\, M23 0AB
END:VEVENT
END:VCALENDAR