BEGIN:VCALENDAR
VERSION:2.0
PRODID:-//The Carers Manchester Contact Point - ECPv6.15.18//NONSGML v1.0//EN
CALSCALE:GREGORIAN
METHOD:PUBLISH
X-WR-CALNAME:The Carers Manchester Contact Point
X-ORIGINAL-URL:https://www.carersmanchester.org.uk
X-WR-CALDESC:Events for The Carers Manchester Contact Point
REFRESH-INTERVAL;VALUE=DURATION:PT1H
X-Robots-Tag:noindex
X-PUBLISHED-TTL:PT1H
BEGIN:VTIMEZONE
TZID:Europe/Paris
BEGIN:DAYLIGHT
TZOFFSETFROM:+0100
TZOFFSETTO:+0200
TZNAME:CEST
DTSTART:20240331T010000
END:DAYLIGHT
BEGIN:STANDARD
TZOFFSETFROM:+0200
TZOFFSETTO:+0100
TZNAME:CET
DTSTART:20241027T010000
END:STANDARD
BEGIN:DAYLIGHT
TZOFFSETFROM:+0100
TZOFFSETTO:+0200
TZNAME:CEST
DTSTART:20250330T010000
END:DAYLIGHT
BEGIN:STANDARD
TZOFFSETFROM:+0200
TZOFFSETTO:+0100
TZNAME:CET
DTSTART:20251026T010000
END:STANDARD
BEGIN:DAYLIGHT
TZOFFSETFROM:+0100
TZOFFSETTO:+0200
TZNAME:CEST
DTSTART:20260329T010000
END:DAYLIGHT
BEGIN:STANDARD
TZOFFSETFROM:+0200
TZOFFSETTO:+0100
TZNAME:CET
DTSTART:20261025T010000
END:STANDARD
END:VTIMEZONE
BEGIN:VEVENT
DTSTART;TZID=Europe/Paris:20251119T190000
DTEND;TZID=Europe/Paris:20251119T203000
DTSTAMP:20260423T130938
CREATED:20250211T165514Z
LAST-MODIFIED:20250211T165514Z
UID:10003154-1763578800-1763584200@www.carersmanchester.org.uk
SUMMARY:Together dementia support: Zoom Dementia Carers Training 4 week course
DESCRIPTION:Contact beth@togetherdementiasupport.org
URL:https://www.carersmanchester.org.uk/event/together-dementia-support-zoom-dementia-carers-training-4-week-course/2025-11-19/
END:VEVENT
BEGIN:VEVENT
DTSTART;TZID=Europe/Paris:20251120T110000
DTEND;TZID=Europe/Paris:20251120T130000
DTSTAMP:20260423T130938
CREATED:20251006T133115Z
LAST-MODIFIED:20251006T133115Z
UID:10004001-1763636400-1763643600@www.carersmanchester.org.uk
SUMMARY:Carers Rights Day: North Manchester
DESCRIPTION:Wondering how welfare reforms will impact you? Need advice around Power of Attorney for your loved one? Not sure how to get a Carers Assessment? Don’t know if you count as a ‘carer’? Carers Manchester and our locality partners are hosting four events to answer all these questions and more! The events will all follow the same format\, so you can attend whichever one suits you. \n  \nCarers Rights Day: North Manchester event \nWHEN: Thursday 20th November\, 11am-1pm \nWHERE: Guidance Hub\, Cheetham Hill\, M8 9AB\n \nREQUEST MORE INFO: hannah@manchestercarersforum.org.uk or 07970174774 \n  \nThe event will include… \n\nFree refreshments\nA presentation and opportunity for 1-2-1 support from Carers Manchester Contact Point support workers\nA presentation and opportunity for 1-2-1 legal advice on carers issue from solicitor Shane Flannery\n1-2-1 benefits advice from Carers Manchester Contact Point welfare and benefits advisors\nA presentation and opportunity for 1-2-1 advice on accessing Carers Assessments\, from the City Council Carers Assessment team\n\n 
URL:https://www.carersmanchester.org.uk/event/crd-north/
LOCATION:The Guidance Hub\, 389 Waterloo Road\, Manchester\, M8 8EP
END:VEVENT
BEGIN:VEVENT
DTSTART;TZID=Europe/Paris:20251120T180000
DTEND;TZID=Europe/Paris:20251120T193000
DTSTAMP:20260423T130938
CREATED:20251006T134742Z
LAST-MODIFIED:20251006T140610Z
UID:10004002-1763661600-1763667000@www.carersmanchester.org.uk
SUMMARY:Carers Rights Day: free webinar!
DESCRIPTION:Wondering how welfare reforms will impact you? Need advice around Power of Attorney for your loved one? Not sure how to get a Carers Assessment? Don’t know if you count as a ‘carer’? This Carers Rights Day\, we’re hosting a webinar to answer all these questions and more!  \n  \nWHEN: Thursday 20th November\, 6-7.30pm \nWHERE: Online (a link will be sent to you after registering)\n \nREQUEST MORE INFO: info@carersmanchester.org.uk or 0161 834 6069 [ext. 1133]  \n  \nThe event will include… \n\nA presentation and opportunity for 1-2-1 support from Carers Manchester Contact Point support workers\nA presentation and opportunity for 1-2-1 legal advice on carers issue from solicitor Shane Flannery\n1-2-1 benefits advice from Carers Manchester Contact Point welfare and benefits advisors\n\n  \nPrefer in-person events? We’re running similar events in North\, South and Central Manchester! Check our Carers Rights Day post for more info. \n 
URL:https://www.carersmanchester.org.uk/event/crd-webinar/
LOCATION:online
END:VEVENT
BEGIN:VEVENT
DTSTART;TZID=Europe/Paris:20251124T110000
DTEND;TZID=Europe/Paris:20251124T140000
DTSTAMP:20260423T130938
CREATED:20241213T120553Z
LAST-MODIFIED:20250519T121242Z
UID:10001684-1763982000-1763992800@www.carersmanchester.org.uk
SUMMARY:Lifted: Carers Drop-in
DESCRIPTION:
URL:https://www.carersmanchester.org.uk/event/lifted-carers-drop-in-10/2025-11-24/
LOCATION:Dandelion Community Centre\, Oatlands Road\, Manchester\, M22 1AL
END:VEVENT
BEGIN:VEVENT
DTSTART;TZID=Europe/Paris:20251124T123000
DTEND;TZID=Europe/Paris:20251124T140000
DTSTAMP:20260423T130938
CREATED:20241213T121023Z
LAST-MODIFIED:20241216T113524Z
UID:10001942-1763987400-1763992800@www.carersmanchester.org.uk
SUMMARY:Lifted: Uplift Meal
DESCRIPTION:
URL:https://www.carersmanchester.org.uk/event/lifted-uplift-meal-10/2025-11-24/
LOCATION:Dandelion Community Centre\, Oatlands Road\, Manchester\, M22 1AL
END:VEVENT
BEGIN:VEVENT
DTSTART;TZID=Europe/Paris:20251126T103000
DTEND;TZID=Europe/Paris:20251126T120000
DTSTAMP:20260423T130938
CREATED:20250403T103051Z
LAST-MODIFIED:20250403T103051Z
UID:10003273-1764153000-1764158400@www.carersmanchester.org.uk
SUMMARY:Move and Live Well with Parkinson's class- North Manchester
DESCRIPTION:Led by experienced dance artist Jody\, this relaxed and fun session is for anyone living with Parkinson’s and their support network. Sessions can be taken seated or standing and adapted for anybody. \nSessions will begin sitting with gentle movements focusing on mobility and body awareness. Using a wide range of music\, sessions will develop physical strength\, spacial awareness\, balance and motor skills. \nSessions are £3\, first session free. There will be refreshments provided and social time included. Partners/carers are encouraged to join. Bring water\, comfortable loose clothing and supportive shoes. \nThere is a small car park at the church\, as well as on street parking. The venue is accessible by a ramp and there are accessible facilities. \nNo need to book\, just run up. For more info email manchester@livewellanddance.org.uk
URL:https://www.carersmanchester.org.uk/event/move-and-live-well-with-parkinsons-class-north-manchester/2025-11-26/
LOCATION:Crumpsall Methodist Church\, Lansdowne Road\, Manchester\, M8 5ST
END:VEVENT
BEGIN:VEVENT
DTSTART;TZID=Europe/Paris:20251126T110000
DTEND;TZID=Europe/Paris:20251126T130000
DTSTAMP:20260423T130938
CREATED:20250117T135335Z
LAST-MODIFIED:20250117T135442Z
UID:10002539-1764154800-1764162000@www.carersmanchester.org.uk
SUMMARY:Lifted: Walking Group
DESCRIPTION:Text from organiser: \nEvery Wednesday\, staff and carers and family who attend Lifted. Meet up for a lovely walk around Wythenshawe park. \nThe group meet up at the Cafe from there they set off as a group. Half way around the walk the group splits into two groups. One for those who want to do the 1 mile walk\, the other group for those who want to do a 2 or 3 mile walk. \nThe group meet back up at the cafe for a hot drink and a chat. \n  \nWe welcome all new walkers regardless of walking ability we cater for everyone! Still not sure why not read our blog about the walking group – Link \nLifted walking group – Every Wednesday at 11am – 1pm. Make sure to drop us a text or email to let us know you are coming.\nCall/text us on:07385568990 Or 07384784262 \nOr email us: info@liftedcarerscentre.org.uk
URL:https://www.carersmanchester.org.uk/event/lifted-walking-group-10/2025-11-26/
LOCATION:Wythenshawe Park\, Manchester\, M23 0AB
END:VEVENT
BEGIN:VEVENT
DTSTART;TZID=Europe/Paris:20251126T190000
DTEND;TZID=Europe/Paris:20251126T203000
DTSTAMP:20260423T130938
CREATED:20250211T165514Z
LAST-MODIFIED:20250211T165514Z
UID:10003155-1764183600-1764189000@www.carersmanchester.org.uk
SUMMARY:Together dementia support: Zoom Dementia Carers Training 4 week course
DESCRIPTION:Contact beth@togetherdementiasupport.org
URL:https://www.carersmanchester.org.uk/event/together-dementia-support-zoom-dementia-carers-training-4-week-course/2025-11-26/
END:VEVENT
BEGIN:VEVENT
DTSTART;TZID=Europe/Paris:20251128T103000
DTEND;TZID=Europe/Paris:20251128T123000
DTSTAMP:20260423T130938
CREATED:20250618T153827Z
LAST-MODIFIED:20260307T144346Z
UID:10003723-1764325800-1764333000@www.carersmanchester.org.uk
SUMMARY:Recurring event - Manchester Carers Forum: Blackley Carers Peer Support
DESCRIPTION:Friday 27th March\, 10.30am-12.30pm (Last Friday of the month)\nThe Avenue Library Learning Centre\, 9 Victoria Ave East\, Blackley\, M9 6HW\nContact – Karen on 07903 685435\n\nkaren@manchestercarersforum.org.uk \n*Please contact the organiser prior to attending in case of last minute changes in the month.*
URL:https://www.carersmanchester.org.uk/event/blackley-peer-support/2025-11-28/
LOCATION:The Avenue Library and Learning Centre\, 9 Victoria Avenue East\, Manchester\, M9 6HW
END:VEVENT
BEGIN:VEVENT
DTSTART;TZID=Europe/Paris:20251130T160000
DTEND;TZID=Europe/Paris:20251130T173000
DTSTAMP:20260423T130938
CREATED:20250904T135847Z
LAST-MODIFIED:20250904T140117Z
UID:10003989-1764518400-1764523800@www.carersmanchester.org.uk
SUMMARY:Free concert for carers
DESCRIPTION:Through our partnership with The Hallé\, we offer free concert tickets for carers at The Bridgewater Hall. We’re excited to announce that tickets are now available for the current season! \n  \n\n\n2025/26 concert dates and times\n\nThursday 2nd October\, 6pm\nSunday 12th October\, 4pm\nSunday 9th November\, 4pm\nSunday 30th November\, 4pm\nThursday 4th December\, 6pm\nSunday 25th January\, 4pm\nSunday 15th February\, 4pm\nThursday 5th March\, 6pm\nSunday 22nd March\, 4pm\nSunday 19th April\, 4pm\nSunday 17th May\, 4pm\nThursday 21st May\, 6pm\n\n\n\n\nKey info:\n\nThe deadline for requesting a ticket is 10 days before each concert.\nYou’re welcome to bring a friend or the person you care for.\nWe will do our best to accommodate any access needs. However\, please note we only have a limited number of aisle seats\, step-free seats and wheelchair spaces.\nPlease arrive early to collect your ticket\nFor more information\, or to request a ticket\, email info@carersmanchester.org.uk\nor call 0161 834 6069\, ext 1133. (Please leave a message if no one answers.)
URL:https://www.carersmanchester.org.uk/event/free-concert-for-carers-30nov/
LOCATION:Bridgewater Hall
END:VEVENT
BEGIN:VEVENT
DTSTART;TZID=Europe/Paris:20251201T100000
DTEND;TZID=Europe/Paris:20251201T120000
DTSTAMP:20260423T130938
CREATED:20251126T135855Z
LAST-MODIFIED:20251126T135856Z
UID:10004075-1764583200-1764590400@www.carersmanchester.org.uk
SUMMARY:Greater Manchester Bereavement Service event
DESCRIPTION:Eventbrite link
URL:https://www.carersmanchester.org.uk/event/greater-manchester-bereavement-service-event/
LOCATION:House of Books & Friends\, 81 King St\, Manchester\, M2 4AH
END:VEVENT
BEGIN:VEVENT
DTSTART;TZID=Europe/Paris:20251201T100000
DTEND;TZID=Europe/Paris:20251201T160000
DTSTAMP:20260423T130938
CREATED:20251126T135454Z
LAST-MODIFIED:20251126T135454Z
UID:10004074-1764583200-1764604800@www.carersmanchester.org.uk
SUMMARY:Giving Voice to Grief
DESCRIPTION:For more information and to sign up\, please visit https://manchestercommunitycentral.org/civicrm/event/info?id=8995&reset=1
URL:https://www.carersmanchester.org.uk/event/giving-voice-to-grief/
LOCATION:St Thomas Centre\, Ardwick\, M12 6FZ
ORGANIZER;CN="Greater Manchester Older People's Network":MAILTO:gmopn@macc.org.uk
END:VEVENT
BEGIN:VEVENT
DTSTART;TZID=Europe/Paris:20251201T110000
DTEND;TZID=Europe/Paris:20251201T140000
DTSTAMP:20260423T130938
CREATED:20241213T120553Z
LAST-MODIFIED:20250519T121242Z
UID:10001685-1764586800-1764597600@www.carersmanchester.org.uk
SUMMARY:Lifted: Carers Drop-in
DESCRIPTION:
URL:https://www.carersmanchester.org.uk/event/lifted-carers-drop-in-10/2025-12-01/
LOCATION:Dandelion Community Centre\, Oatlands Road\, Manchester\, M22 1AL
END:VEVENT
BEGIN:VEVENT
DTSTART;TZID=Europe/Paris:20251201T123000
DTEND;TZID=Europe/Paris:20251201T140000
DTSTAMP:20260423T130938
CREATED:20241213T121023Z
LAST-MODIFIED:20241216T113524Z
UID:10001943-1764592200-1764597600@www.carersmanchester.org.uk
SUMMARY:Lifted: Uplift Meal
DESCRIPTION:
URL:https://www.carersmanchester.org.uk/event/lifted-uplift-meal-10/2025-12-01/
LOCATION:Dandelion Community Centre\, Oatlands Road\, Manchester\, M22 1AL
END:VEVENT
BEGIN:VEVENT
DTSTART;TZID=Europe/Paris:20251203T103000
DTEND;TZID=Europe/Paris:20251203T120000
DTSTAMP:20260423T130938
CREATED:20250403T103051Z
LAST-MODIFIED:20250403T103051Z
UID:10003274-1764757800-1764763200@www.carersmanchester.org.uk
SUMMARY:Move and Live Well with Parkinson's class- North Manchester
DESCRIPTION:Led by experienced dance artist Jody\, this relaxed and fun session is for anyone living with Parkinson’s and their support network. Sessions can be taken seated or standing and adapted for anybody. \nSessions will begin sitting with gentle movements focusing on mobility and body awareness. Using a wide range of music\, sessions will develop physical strength\, spacial awareness\, balance and motor skills. \nSessions are £3\, first session free. There will be refreshments provided and social time included. Partners/carers are encouraged to join. Bring water\, comfortable loose clothing and supportive shoes. \nThere is a small car park at the church\, as well as on street parking. The venue is accessible by a ramp and there are accessible facilities. \nNo need to book\, just run up. For more info email manchester@livewellanddance.org.uk
URL:https://www.carersmanchester.org.uk/event/move-and-live-well-with-parkinsons-class-north-manchester/2025-12-03/
LOCATION:Crumpsall Methodist Church\, Lansdowne Road\, Manchester\, M8 5ST
END:VEVENT
BEGIN:VEVENT
DTSTART;TZID=Europe/Paris:20251203T110000
DTEND;TZID=Europe/Paris:20251203T130000
DTSTAMP:20260423T130938
CREATED:20250117T135335Z
LAST-MODIFIED:20250117T135442Z
UID:10002540-1764759600-1764766800@www.carersmanchester.org.uk
SUMMARY:Lifted: Walking Group
DESCRIPTION:Text from organiser: \nEvery Wednesday\, staff and carers and family who attend Lifted. Meet up for a lovely walk around Wythenshawe park. \nThe group meet up at the Cafe from there they set off as a group. Half way around the walk the group splits into two groups. One for those who want to do the 1 mile walk\, the other group for those who want to do a 2 or 3 mile walk. \nThe group meet back up at the cafe for a hot drink and a chat. \n  \nWe welcome all new walkers regardless of walking ability we cater for everyone! Still not sure why not read our blog about the walking group – Link \nLifted walking group – Every Wednesday at 11am – 1pm. Make sure to drop us a text or email to let us know you are coming.\nCall/text us on:07385568990 Or 07384784262 \nOr email us: info@liftedcarerscentre.org.uk
URL:https://www.carersmanchester.org.uk/event/lifted-walking-group-10/2025-12-03/
LOCATION:Wythenshawe Park\, Manchester\, M23 0AB
END:VEVENT
BEGIN:VEVENT
DTSTART;TZID=Europe/Paris:20251203T190000
DTEND;TZID=Europe/Paris:20251203T203000
DTSTAMP:20260423T130938
CREATED:20250211T165514Z
LAST-MODIFIED:20250211T165514Z
UID:10003156-1764788400-1764793800@www.carersmanchester.org.uk
SUMMARY:Together dementia support: Zoom Dementia Carers Training 4 week course
DESCRIPTION:Contact beth@togetherdementiasupport.org
URL:https://www.carersmanchester.org.uk/event/together-dementia-support-zoom-dementia-carers-training-4-week-course/2025-12-03/
END:VEVENT
BEGIN:VEVENT
DTSTART;TZID=Europe/Paris:20251204T133000
DTEND;TZID=Europe/Paris:20251204T153000
DTSTAMP:20260423T130938
CREATED:20251009T140514Z
LAST-MODIFIED:20251009T141034Z
UID:10004004-1764855000-1764862200@www.carersmanchester.org.uk
SUMMARY:Recurring event - East Manchester carer support group
DESCRIPTION:For more information\, please contact: \n\nkaren@manchestercarersforum.org.uk\n07903685435
URL:https://www.carersmanchester.org.uk/event/east-support-group/2025-12-04/
LOCATION:Asda Eastlands\, The community room\, Ashton New Road\, M11 4DB
END:VEVENT
BEGIN:VEVENT
DTSTART;TZID=Europe/Paris:20251204T180000
DTEND;TZID=Europe/Paris:20251204T193000
DTSTAMP:20260423T130938
CREATED:20250904T135939Z
LAST-MODIFIED:20250904T135939Z
UID:10003990-1764871200-1764876600@www.carersmanchester.org.uk
SUMMARY:Free concert for carers
DESCRIPTION:Through our partnership with The Hallé\, we offer free concerts for carers at The Bridgewater Hall. We’re excited to announce that tickets are now available for the current season! \n  \n\n\n2025/26 concert dates and times\n\nThursday 2nd October\, 6pm\nSunday 12th October\, 4pm\nSunday 9th November\, 4pm\nSunday 30th November\, 4pm\nThursday 4th December\, 6pm\nSunday 25th January\, 4pm\nSunday 15th February\, 4pm\nThursday 5th March\, 6pm\nSunday 22nd March\, 4pm\nSunday 19th April\, 4pm\nSunday 17th May\, 4pm\nThursday 21st May\, 6pm\n\n\n\n\nKey info:\n\nThe deadline for requesting a ticket is 10 days before each concert.\nYou’re welcome to bring a friend or the person you care for.\nWe will do our best to accommodate any access needs. However\, please note we only have a limited number of aisle seats\, step-free seats and wheelchair spaces.\nPlease arrive early to collect your ticket\nFor more information\, or to request a ticket\, email info@carersmanchester.org.uk\nor call 0161 834 6069\, ext 1133. (Please leave a message if no one answers.)
URL:https://www.carersmanchester.org.uk/event/free-concert-for-carers-4dec/
LOCATION:Bridgewater Hall
END:VEVENT
BEGIN:VEVENT
DTSTART;TZID=Europe/Paris:20251205T140000
DTEND;TZID=Europe/Paris:20251205T153000
DTSTAMP:20260423T130938
CREATED:20250618T155142Z
LAST-MODIFIED:20250618T155142Z
UID:10003923-1764943200-1764948600@www.carersmanchester.org.uk
SUMMARY:Recurring event - Manchester Carers Forum: Burnage Carers Peer Support Group
DESCRIPTION:Please contact the organiser prior to attending\, in case of last minute changes. \n\n1st Friday of every month\, 2-3.30pm\nThe Burnage Library\, Burnage Ln\, Manchester M19 1EW\nContact Daniel on 07415 436382 or daniel@manchestercarersforum.org.uk
URL:https://www.carersmanchester.org.uk/event/burnage-peer-support/2025-12-05/
LOCATION:Burnage Library\, Burnage Lane\, Manchester\, M19 1EW
END:VEVENT
BEGIN:VEVENT
DTSTART;TZID=Europe/Paris:20251208T110000
DTEND;TZID=Europe/Paris:20251208T130000
DTSTAMP:20260423T130938
CREATED:20250403T102554Z
LAST-MODIFIED:20250403T102554Z
UID:10003239-1765191600-1765198800@www.carersmanchester.org.uk
SUMMARY:Manchester Parkinson's Cafe
DESCRIPTION:Drop in cafe hosted by Parkinson’s UK volunteers. Meet other people with Parkinson’s\, socialise\, share information and experiences. Friends and family welcome. \nThis runs on the second Monday of the month from 11am to 1pm. \nThe ASDA community room is at the back of the store and is fully accessible. \n1. Dates for 2025: \n\n13 January\n10 February\n10 March\n14 April\n12 May\n9 June\n14 July\n11 August\n8 September\n13 October\n10 November\n9 December\n\n\n\n2. Primary contact \n\nHelen Sturman\n07768 834 115\nhsturman@parkinsons.org.uk\n\n\n\n3. Location \n\n\nASDA Eastlands Community Room\nASDA Eastlands\, Sport City\nManchester\nM11 4BD
URL:https://www.carersmanchester.org.uk/event/manchester-parkinsons-cafe-7/2025-12-08/
LOCATION:Asda Eastlands\, The community room\, Ashton New Road\, M11 4DB
END:VEVENT
BEGIN:VEVENT
DTSTART;TZID=Europe/Paris:20251208T110000
DTEND;TZID=Europe/Paris:20251208T140000
DTSTAMP:20260423T130938
CREATED:20241213T120553Z
LAST-MODIFIED:20250519T121242Z
UID:10001686-1765191600-1765202400@www.carersmanchester.org.uk
SUMMARY:Lifted: Carers Drop-in
DESCRIPTION:
URL:https://www.carersmanchester.org.uk/event/lifted-carers-drop-in-10/2025-12-08/
LOCATION:Dandelion Community Centre\, Oatlands Road\, Manchester\, M22 1AL
END:VEVENT
BEGIN:VEVENT
DTSTART;TZID=Europe/Paris:20251208T120000
DTEND;TZID=Europe/Paris:20251208T140000
DTSTAMP:20260423T130938
CREATED:20250403T103741Z
LAST-MODIFIED:20250403T103741Z
UID:10003287-1765195200-1765202400@www.carersmanchester.org.uk
SUMMARY:South Manchester Parkinson's Support Group
DESCRIPTION:We are a social and support group for people with Parkinson’s and their partners or carers who live in South Manchester and\nsurrounding areas. We meet once a month\, on the second Monday of the month\, at Didsbury Good Neighbours in Didsbury Park. People start gathering for the meeting at 12pm which typically lasts an hour or two. You can just turn up and will be welcomed. \nDonations from visitors and members to help with our running costs and provision of refreshments\, are very welcome. Typical donations are £6 pp. Several members also opt for shared lunch which costs £4 pp (those that want lunch will be asked in advance) Alternatively you can bring your own lunch. \nThere is sometimes a guest speaker offering information about a topic of interest to the group. The group also organises social gatherings and outings\, where you can get to know other people facing the same challenges as yourself. We are affiliated to Parkinson’s UK and many in our group are members of that but you can attend our meetings without being a member. \nFor more information about Parkinson’s UK please see website:- https://www.parkinsons.org.uk/get-involved/become-member \nNeed help with transport? Ring and Ride provides accessible\, low cost transport to disabled people and older people with walking difficulties for journeys of up to 6 miles. Phone Ring and Ride on 0161 200 6011. \n\n\nPrimary contact\n\nAmanda Ashworth\n0344 225 9846\naashworth@parkinsons.org.uk
URL:https://www.carersmanchester.org.uk/event/south-manchester-parkinsons-support-group/2025-12-08/
LOCATION:Didsbury Good Neighbours\, Didsbury Neighbourhood Centre\, Didsbury\, M20 6WH\, United Kingdom
END:VEVENT
BEGIN:VEVENT
DTSTART;TZID=Europe/Paris:20251208T123000
DTEND;TZID=Europe/Paris:20251208T140000
DTSTAMP:20260423T130938
CREATED:20241213T121023Z
LAST-MODIFIED:20241216T113524Z
UID:10001944-1765197000-1765202400@www.carersmanchester.org.uk
SUMMARY:Lifted: Uplift Meal
DESCRIPTION:
URL:https://www.carersmanchester.org.uk/event/lifted-uplift-meal-10/2025-12-08/
LOCATION:Dandelion Community Centre\, Oatlands Road\, Manchester\, M22 1AL
END:VEVENT
BEGIN:VEVENT
DTSTART;TZID=Europe/Paris:20251210T100000
DTEND;TZID=Europe/Paris:20251210T120000
DTSTAMP:20260423T130938
CREATED:20251126T140124Z
LAST-MODIFIED:20251126T140647Z
UID:10004076-1765360800-1765368000@www.carersmanchester.org.uk
SUMMARY:SEND Local Offer Drop In
DESCRIPTION:This free drop-in event is for parents/carers and children and young people 0-25 years with SEND in the Manchester City Council area. It’s an opportunity to speak with SEND services and groups\, and access support and advice. \nFor more information about Manchester Local Offer\, click here.
URL:https://www.carersmanchester.org.uk/event/send-local-offer-drop-in-6/
LOCATION:Woodhouse Park Lifestyle Centre\, Portway\, Wythenshawe\, Manchester\, M22 1QW
END:VEVENT
BEGIN:VEVENT
DTSTART;TZID=Europe/Paris:20251210T103000
DTEND;TZID=Europe/Paris:20251210T120000
DTSTAMP:20260423T130938
CREATED:20250403T103051Z
LAST-MODIFIED:20250403T103051Z
UID:10003275-1765362600-1765368000@www.carersmanchester.org.uk
SUMMARY:Move and Live Well with Parkinson's class- North Manchester
DESCRIPTION:Led by experienced dance artist Jody\, this relaxed and fun session is for anyone living with Parkinson’s and their support network. Sessions can be taken seated or standing and adapted for anybody. \nSessions will begin sitting with gentle movements focusing on mobility and body awareness. Using a wide range of music\, sessions will develop physical strength\, spacial awareness\, balance and motor skills. \nSessions are £3\, first session free. There will be refreshments provided and social time included. Partners/carers are encouraged to join. Bring water\, comfortable loose clothing and supportive shoes. \nThere is a small car park at the church\, as well as on street parking. The venue is accessible by a ramp and there are accessible facilities. \nNo need to book\, just run up. For more info email manchester@livewellanddance.org.uk
URL:https://www.carersmanchester.org.uk/event/move-and-live-well-with-parkinsons-class-north-manchester/2025-12-10/
LOCATION:Crumpsall Methodist Church\, Lansdowne Road\, Manchester\, M8 5ST
END:VEVENT
BEGIN:VEVENT
DTSTART;TZID=Europe/Paris:20251210T110000
DTEND;TZID=Europe/Paris:20251210T123000
DTSTAMP:20260423T130938
CREATED:20251210T141426Z
LAST-MODIFIED:20251210T141813Z
UID:10004589-1765364400-1765369800@www.carersmanchester.org.uk
SUMMARY:Carers coffee morning
DESCRIPTION:Daniel from Manchester Carers Forum is hosting a carers’ coffee morning at the Whitworth Gallery cafe. \nPlease contact Daniel if you would like to attend on 07415 436382 / daniel@manchestercarersforum.org.uk
URL:https://www.carersmanchester.org.uk/event/carers-coffee-morning-2/
LOCATION:The Whitworth Art Gallery\, The University of Manchester\, Oxford Road\, Manchester\, M15 6ER
END:VEVENT
BEGIN:VEVENT
DTSTART;TZID=Europe/Paris:20251210T110000
DTEND;TZID=Europe/Paris:20251210T130000
DTSTAMP:20260423T130938
CREATED:20250117T135335Z
LAST-MODIFIED:20250117T135442Z
UID:10002541-1765364400-1765371600@www.carersmanchester.org.uk
SUMMARY:Lifted: Walking Group
DESCRIPTION:Text from organiser: \nEvery Wednesday\, staff and carers and family who attend Lifted. Meet up for a lovely walk around Wythenshawe park. \nThe group meet up at the Cafe from there they set off as a group. Half way around the walk the group splits into two groups. One for those who want to do the 1 mile walk\, the other group for those who want to do a 2 or 3 mile walk. \nThe group meet back up at the cafe for a hot drink and a chat. \n  \nWe welcome all new walkers regardless of walking ability we cater for everyone! Still not sure why not read our blog about the walking group – Link \nLifted walking group – Every Wednesday at 11am – 1pm. Make sure to drop us a text or email to let us know you are coming.\nCall/text us on:07385568990 Or 07384784262 \nOr email us: info@liftedcarerscentre.org.uk
URL:https://www.carersmanchester.org.uk/event/lifted-walking-group-10/2025-12-10/
LOCATION:Wythenshawe Park\, Manchester\, M23 0AB
END:VEVENT
BEGIN:VEVENT
DTSTART;TZID=Europe/Paris:20251210T190000
DTEND;TZID=Europe/Paris:20251210T203000
DTSTAMP:20260423T130938
CREATED:20250211T165514Z
LAST-MODIFIED:20250211T165514Z
UID:10003157-1765393200-1765398600@www.carersmanchester.org.uk
SUMMARY:Together dementia support: Zoom Dementia Carers Training 4 week course
DESCRIPTION:Contact beth@togetherdementiasupport.org
URL:https://www.carersmanchester.org.uk/event/together-dementia-support-zoom-dementia-carers-training-4-week-course/2025-12-10/
END:VEVENT
BEGIN:VEVENT
DTSTART;TZID=Europe/Paris:20251211T110000
DTEND;TZID=Europe/Paris:20251211T130000
DTSTAMP:20260423T130938
CREATED:20251124T121706Z
LAST-MODIFIED:20251124T133649Z
UID:10004073-1765450800-1765458000@www.carersmanchester.org.uk
SUMMARY:Carers festive walk
DESCRIPTION:If you are a carer in the Manchester City Council area\, please contact Daniel to book your place: \n\nPhone: 07415436382\nEmail: daniel@manchestercarersforum.org.uk
URL:https://www.carersmanchester.org.uk/event/carers-festive-walk/
END:VEVENT
END:VCALENDAR