BEGIN:VCALENDAR
VERSION:2.0
PRODID:-//The Carers Manchester Contact Point - ECPv6.15.18//NONSGML v1.0//EN
CALSCALE:GREGORIAN
METHOD:PUBLISH
X-ORIGINAL-URL:https://www.carersmanchester.org.uk
X-WR-CALDESC:Events for The Carers Manchester Contact Point
REFRESH-INTERVAL;VALUE=DURATION:PT1H
X-Robots-Tag:noindex
X-PUBLISHED-TTL:PT1H
BEGIN:VTIMEZONE
TZID:Europe/Paris
BEGIN:DAYLIGHT
TZOFFSETFROM:+0100
TZOFFSETTO:+0200
TZNAME:CEST
DTSTART:20250330T010000
END:DAYLIGHT
BEGIN:STANDARD
TZOFFSETFROM:+0200
TZOFFSETTO:+0100
TZNAME:CET
DTSTART:20251026T010000
END:STANDARD
BEGIN:DAYLIGHT
TZOFFSETFROM:+0100
TZOFFSETTO:+0200
TZNAME:CEST
DTSTART:20260329T010000
END:DAYLIGHT
BEGIN:STANDARD
TZOFFSETFROM:+0200
TZOFFSETTO:+0100
TZNAME:CET
DTSTART:20261025T010000
END:STANDARD
BEGIN:DAYLIGHT
TZOFFSETFROM:+0100
TZOFFSETTO:+0200
TZNAME:CEST
DTSTART:20270328T010000
END:DAYLIGHT
BEGIN:STANDARD
TZOFFSETFROM:+0200
TZOFFSETTO:+0100
TZNAME:CET
DTSTART:20271031T010000
END:STANDARD
END:VTIMEZONE
BEGIN:VEVENT
DTSTART;TZID=Europe/Paris:20260511T123000
DTEND;TZID=Europe/Paris:20260511T140000
DTSTAMP:20260425T124040
CREATED:20241213T121023Z
LAST-MODIFIED:20241216T113524Z
UID:10001966-1778502600-1778508000@www.carersmanchester.org.uk
SUMMARY:Lifted: Uplift Meal
DESCRIPTION:
URL:https://www.carersmanchester.org.uk/event/lifted-uplift-meal-10/2026-05-11/
LOCATION:Dandelion Community Centre\, Oatlands Road\, Manchester\, M22 1AL
END:VEVENT
BEGIN:VEVENT
DTSTART;TZID=Europe/Paris:20260512T130000
DTEND;TZID=Europe/Paris:20260512T144500
DTSTAMP:20260425T124040
CREATED:20260307T143226Z
LAST-MODIFIED:20260307T143226Z
UID:10004695-1778590800-1778597100@www.carersmanchester.org.uk
SUMMARY:Manchester Carers Forum: Wythenshawe Carers Peer Support Group
DESCRIPTION:Tuesday 10th March\, 1pm – 2.45pm (2nd Tuesday of every month)\nDandelion Community\, Oatlands Road\, Wythenshawe\, M22 1AH\nContact – Daniel on 07415436382\n\ndaniel@manchestercarersforum.org.uk  \n*Please contact the organiser prior to attending in case of last minute changes in the month.*
URL:https://www.carersmanchester.org.uk/event/manchester-carers-forum-wythenshawe-carers-peer-support-group-2/2026-05-12/
LOCATION:Dandelion Community Centre\, Oatlands Road\, Manchester\, M22 1AL
END:VEVENT
BEGIN:VEVENT
DTSTART;TZID=Europe/Paris:20260513T140000
DTEND;TZID=Europe/Paris:20260513T153000
DTSTAMP:20260425T124040
CREATED:20251203T093803Z
LAST-MODIFIED:20260126T100139Z
UID:10004095-1778680800-1778686200@www.carersmanchester.org.uk
SUMMARY:Kick off with a Verse (Wednesday afternoons)
DESCRIPTION:To sign up or learn more\, please email karindenovellis@gmail.com
URL:https://www.carersmanchester.org.uk/event/kickoffverse/2026-05-13/
LOCATION:online
ORGANIZER;CN="Karin De Novellis":MAILTO:karindenovellis@gmail.com
END:VEVENT
BEGIN:VEVENT
DTSTART;TZID=Europe/Paris:20260514T190000
DTEND;TZID=Europe/Paris:20260514T203000
DTSTAMP:20260425T124040
CREATED:20251203T094125Z
LAST-MODIFIED:20260126T100038Z
UID:10004350-1778785200-1778790600@www.carersmanchester.org.uk
SUMMARY:Kick off with a Verse (Thursday evenings)
DESCRIPTION:To sign up or learn more\, please email karindenovellis@gmail.com
URL:https://www.carersmanchester.org.uk/event/kickoffversethursday/2026-05-14/
ORGANIZER;CN="Karin De Novellis":MAILTO:karindenovellis@gmail.com
END:VEVENT
BEGIN:VEVENT
DTSTART;TZID=Europe/Paris:20260517T160000
DTEND;TZID=Europe/Paris:20260517T170000
DTSTAMP:20260425T124040
CREATED:20260304T143249Z
LAST-MODIFIED:20260304T143249Z
UID:10004630-1779033600-1779037200@www.carersmanchester.org.uk
SUMMARY:Free Hallé concert tickets for carers
DESCRIPTION:Through our partnership with The Hallé\, we offer free concert tickets for carers at The Bridgewater Hall. We’re excited to announce that tickets are now available for the current season! \n  \n\n\n2026 concert dates and times\n\nSunday 24th January\, 4pm\nSunday 15th February\, 4pm\nThursday 5th March\, 6pm\nSunday 22nd March\, 4pm\nSunday 19th April\, 4pm\nSunday 17th May\, 4pm\nThursday 21st May\, 6pm\n\n\n\n\nKey info:\n\nThe deadline for requesting a ticket is 10 days before each concert.\nYou’re welcome to bring a friend or the person you care for.\nWe will do our best to accommodate any access needs. However\, please note we only have a limited number of aisle seats\, step-free seats and wheelchair spaces.\nPlease arrive early to collect your ticket\nFor more information\, or to request a ticket\, email info@carersmanchester.org.uk\nor call 0161 834 6069\, ext 1133. (Please leave a message if no one answers.)\n\n  \nWhen you get in touch\, please specify the dates of the concerts you would like to attend; whether you require one or two tickets; and whether you have any access requirements.
URL:https://www.carersmanchester.org.uk/event/halle-1705/
LOCATION:Bridgewater Hall
END:VEVENT
BEGIN:VEVENT
DTSTART;TZID=Europe/Paris:20260518T110000
DTEND;TZID=Europe/Paris:20260518T140000
DTSTAMP:20260425T124041
CREATED:20241213T120553Z
LAST-MODIFIED:20250519T121242Z
UID:10001709-1779102000-1779112800@www.carersmanchester.org.uk
SUMMARY:Lifted: Carers Drop-in
DESCRIPTION:
URL:https://www.carersmanchester.org.uk/event/lifted-carers-drop-in-10/2026-05-18/
LOCATION:Dandelion Community Centre\, Oatlands Road\, Manchester\, M22 1AL
END:VEVENT
BEGIN:VEVENT
DTSTART;TZID=Europe/Paris:20260518T123000
DTEND;TZID=Europe/Paris:20260518T140000
DTSTAMP:20260425T124041
CREATED:20241213T121023Z
LAST-MODIFIED:20241216T113524Z
UID:10001967-1779107400-1779112800@www.carersmanchester.org.uk
SUMMARY:Lifted: Uplift Meal
DESCRIPTION:
URL:https://www.carersmanchester.org.uk/event/lifted-uplift-meal-10/2026-05-18/
LOCATION:Dandelion Community Centre\, Oatlands Road\, Manchester\, M22 1AL
END:VEVENT
BEGIN:VEVENT
DTSTART;TZID=Europe/Paris:20260520T133000
DTEND;TZID=Europe/Paris:20260520T153000
DTSTAMP:20260425T124041
CREATED:20250618T154559Z
LAST-MODIFIED:20250618T154559Z
UID:10003859-1779283800-1779291000@www.carersmanchester.org.uk
SUMMARY:Manchester Carers Forum: Cheetham and Crumpsall support group
DESCRIPTION:3rd Wednesday of every month\, 12.30-2.30pm\nUkrainian Cultural Centre\, 31 Smedley Lane\, Cheetham Hill M8 8XB\n\nPlease contact Karen prior to attending in case of last-minute changes: \n\n07903 685435\nor karen@manchestercarersforum.org.uk\n\n  \n 
URL:https://www.carersmanchester.org.uk/event/manchester-carers-forum-cheetham-and-crumpsall-support-group-4/2026-05-20/
LOCATION:Ukrainian Cultural Centre\, 31 Smedley Lane\, Cheetham Hill\,\, Manchester\, M8 8XB
END:VEVENT
BEGIN:VEVENT
DTSTART;TZID=Europe/Paris:20260520T140000
DTEND;TZID=Europe/Paris:20260520T153000
DTSTAMP:20260425T124041
CREATED:20251203T093803Z
LAST-MODIFIED:20260126T100139Z
UID:10004096-1779285600-1779291000@www.carersmanchester.org.uk
SUMMARY:Kick off with a Verse (Wednesday afternoons)
DESCRIPTION:To sign up or learn more\, please email karindenovellis@gmail.com
URL:https://www.carersmanchester.org.uk/event/kickoffverse/2026-05-20/
LOCATION:online
ORGANIZER;CN="Karin De Novellis":MAILTO:karindenovellis@gmail.com
END:VEVENT
BEGIN:VEVENT
DTSTART;TZID=Europe/Paris:20260521T123000
DTEND;TZID=Europe/Paris:20260521T143000
DTSTAMP:20260425T124041
CREATED:20260307T144000Z
LAST-MODIFIED:20260307T144025Z
UID:10004725-1779366600-1779373800@www.carersmanchester.org.uk
SUMMARY:Manchester Carers Forum: Cheetham Hill Carers Peer Support Group
DESCRIPTION:Wednesday 19th March\, 12.30-2.30pm (3rd Wednesday of the month)\nUkrainian Club 31 Smedley Lane\, Cheetham Hill M8 8XB\nContact – Karen on 07903 685435\n\nkaren@manchestercarersforum.org.uk \n  \n*Please contact the organiser prior to attending in case of last minute changes in the month.*
URL:https://www.carersmanchester.org.uk/event/manchester-carers-forum-cheetham-hill-carers-peer-support-group/2026-05-21/
LOCATION:Ukrainian Club\, 31 Smedley Lane\, Cheetham Hill\, M8 8XB
END:VEVENT
BEGIN:VEVENT
DTSTART;TZID=Europe/Paris:20260521T190000
DTEND;TZID=Europe/Paris:20260521T203000
DTSTAMP:20260425T124041
CREATED:20251203T094125Z
LAST-MODIFIED:20260126T100038Z
UID:10004351-1779390000-1779395400@www.carersmanchester.org.uk
SUMMARY:Kick off with a Verse (Thursday evenings)
DESCRIPTION:To sign up or learn more\, please email karindenovellis@gmail.com
URL:https://www.carersmanchester.org.uk/event/kickoffversethursday/2026-05-21/
ORGANIZER;CN="Karin De Novellis":MAILTO:karindenovellis@gmail.com
END:VEVENT
BEGIN:VEVENT
DTSTART;TZID=Europe/Paris:20260522T103000
DTEND;TZID=Europe/Paris:20260522T123000
DTSTAMP:20260425T124041
CREATED:20250618T153827Z
LAST-MODIFIED:20260307T144346Z
UID:10004757-1779445800-1779453000@www.carersmanchester.org.uk
SUMMARY:Recurring event - Manchester Carers Forum: Blackley Carers Peer Support
DESCRIPTION:Friday 27th March\, 10.30am-12.30pm (Last Friday of the month)\nThe Avenue Library Learning Centre\, 9 Victoria Ave East\, Blackley\, M9 6HW\nContact – Karen on 07903 685435\n\nkaren@manchestercarersforum.org.uk \n*Please contact the organiser prior to attending in case of last minute changes in the month.*
URL:https://www.carersmanchester.org.uk/event/blackley-peer-support/2026-05-22/
LOCATION:The Avenue Library and Learning Centre\, 9 Victoria Avenue East\, Manchester\, M9 6HW
END:VEVENT
BEGIN:VEVENT
DTSTART;TZID=Europe/Paris:20260525T110000
DTEND;TZID=Europe/Paris:20260525T140000
DTSTAMP:20260425T124041
CREATED:20241213T120553Z
LAST-MODIFIED:20250519T121242Z
UID:10001710-1779706800-1779717600@www.carersmanchester.org.uk
SUMMARY:Lifted: Carers Drop-in
DESCRIPTION:
URL:https://www.carersmanchester.org.uk/event/lifted-carers-drop-in-10/2026-05-25/
LOCATION:Dandelion Community Centre\, Oatlands Road\, Manchester\, M22 1AL
END:VEVENT
BEGIN:VEVENT
DTSTART;TZID=Europe/Paris:20260525T123000
DTEND;TZID=Europe/Paris:20260525T140000
DTSTAMP:20260425T124041
CREATED:20241213T121023Z
LAST-MODIFIED:20241216T113524Z
UID:10001968-1779712200-1779717600@www.carersmanchester.org.uk
SUMMARY:Lifted: Uplift Meal
DESCRIPTION:
URL:https://www.carersmanchester.org.uk/event/lifted-uplift-meal-10/2026-05-25/
LOCATION:Dandelion Community Centre\, Oatlands Road\, Manchester\, M22 1AL
END:VEVENT
BEGIN:VEVENT
DTSTART;TZID=Europe/Paris:20260527T140000
DTEND;TZID=Europe/Paris:20260527T153000
DTSTAMP:20260425T124041
CREATED:20251203T093803Z
LAST-MODIFIED:20260126T100139Z
UID:10004097-1779890400-1779895800@www.carersmanchester.org.uk
SUMMARY:Kick off with a Verse (Wednesday afternoons)
DESCRIPTION:To sign up or learn more\, please email karindenovellis@gmail.com
URL:https://www.carersmanchester.org.uk/event/kickoffverse/2026-05-27/
LOCATION:online
ORGANIZER;CN="Karin De Novellis":MAILTO:karindenovellis@gmail.com
END:VEVENT
BEGIN:VEVENT
DTSTART;TZID=Europe/Paris:20260528T190000
DTEND;TZID=Europe/Paris:20260528T203000
DTSTAMP:20260425T124041
CREATED:20251203T094125Z
LAST-MODIFIED:20260126T100038Z
UID:10004352-1779994800-1780000200@www.carersmanchester.org.uk
SUMMARY:Kick off with a Verse (Thursday evenings)
DESCRIPTION:To sign up or learn more\, please email karindenovellis@gmail.com
URL:https://www.carersmanchester.org.uk/event/kickoffversethursday/2026-05-28/
ORGANIZER;CN="Karin De Novellis":MAILTO:karindenovellis@gmail.com
END:VEVENT
BEGIN:VEVENT
DTSTART;TZID=Europe/Paris:20260601T110000
DTEND;TZID=Europe/Paris:20260601T140000
DTSTAMP:20260425T124041
CREATED:20241213T120553Z
LAST-MODIFIED:20250519T121242Z
UID:10001711-1780311600-1780322400@www.carersmanchester.org.uk
SUMMARY:Lifted: Carers Drop-in
DESCRIPTION:
URL:https://www.carersmanchester.org.uk/event/lifted-carers-drop-in-10/2026-06-01/
LOCATION:Dandelion Community Centre\, Oatlands Road\, Manchester\, M22 1AL
END:VEVENT
BEGIN:VEVENT
DTSTART;TZID=Europe/Paris:20260601T123000
DTEND;TZID=Europe/Paris:20260601T140000
DTSTAMP:20260425T124041
CREATED:20241213T121023Z
LAST-MODIFIED:20241216T113524Z
UID:10001969-1780317000-1780322400@www.carersmanchester.org.uk
SUMMARY:Lifted: Uplift Meal
DESCRIPTION:
URL:https://www.carersmanchester.org.uk/event/lifted-uplift-meal-10/2026-06-01/
LOCATION:Dandelion Community Centre\, Oatlands Road\, Manchester\, M22 1AL
END:VEVENT
BEGIN:VEVENT
DTSTART;TZID=Europe/Paris:20260603T140000
DTEND;TZID=Europe/Paris:20260603T153000
DTSTAMP:20260425T124041
CREATED:20251203T093803Z
LAST-MODIFIED:20260126T100139Z
UID:10004098-1780495200-1780500600@www.carersmanchester.org.uk
SUMMARY:Kick off with a Verse (Wednesday afternoons)
DESCRIPTION:To sign up or learn more\, please email karindenovellis@gmail.com
URL:https://www.carersmanchester.org.uk/event/kickoffverse/2026-06-03/
LOCATION:online
ORGANIZER;CN="Karin De Novellis":MAILTO:karindenovellis@gmail.com
END:VEVENT
BEGIN:VEVENT
DTSTART;TZID=Europe/Paris:20260604T133000
DTEND;TZID=Europe/Paris:20260604T153000
DTSTAMP:20260425T124041
CREATED:20251009T140514Z
LAST-MODIFIED:20251009T141034Z
UID:10004010-1780579800-1780587000@www.carersmanchester.org.uk
SUMMARY:Recurring event - East Manchester carer support group
DESCRIPTION:For more information\, please contact: \n\nkaren@manchestercarersforum.org.uk\n07903685435
URL:https://www.carersmanchester.org.uk/event/east-support-group/2026-06-04/
LOCATION:Asda Eastlands\, The community room\, Ashton New Road\, M11 4DB
END:VEVENT
BEGIN:VEVENT
DTSTART;TZID=Europe/Paris:20260604T140000
DTEND;TZID=Europe/Paris:20260604T153000
DTSTAMP:20260425T124041
CREATED:20260307T142307Z
LAST-MODIFIED:20260307T142307Z
UID:10004636-1780581600-1780587000@www.carersmanchester.org.uk
SUMMARY:East Manchester Peer Support Group
DESCRIPTION:Thursday 5th March\, 2.00pm – 3.30pm (1st Thursday of every month)\nAsda Eastlands\, The community room\, Ashton New Road M11 4DB\nContact – Karen on 07903 685435\n\nkaren@manchestercarersforum.org.uk \n  \n\n\n\n\n\n\n\n\n*Please contact the organiser prior to attending in case of last minute changes in the month.*
URL:https://www.carersmanchester.org.uk/event/east-manchester-peer-support-group/2026-06-04/
LOCATION:Asda Eastlands\, The community room\, Ashton New Road\, M11 4DB
END:VEVENT
BEGIN:VEVENT
DTSTART;TZID=Europe/Paris:20260604T190000
DTEND;TZID=Europe/Paris:20260604T203000
DTSTAMP:20260425T124041
CREATED:20251203T094125Z
LAST-MODIFIED:20260126T100038Z
UID:10004353-1780599600-1780605000@www.carersmanchester.org.uk
SUMMARY:Kick off with a Verse (Thursday evenings)
DESCRIPTION:To sign up or learn more\, please email karindenovellis@gmail.com
URL:https://www.carersmanchester.org.uk/event/kickoffversethursday/2026-06-04/
ORGANIZER;CN="Karin De Novellis":MAILTO:karindenovellis@gmail.com
END:VEVENT
BEGIN:VEVENT
DTSTART;TZID=Europe/Paris:20260605T140000
DTEND;TZID=Europe/Paris:20260605T153000
DTSTAMP:20260425T124041
CREATED:20250618T155142Z
LAST-MODIFIED:20250618T155142Z
UID:10003929-1780668000-1780673400@www.carersmanchester.org.uk
SUMMARY:Recurring event - Manchester Carers Forum: Burnage Carers Peer Support Group
DESCRIPTION:Please contact the organiser prior to attending\, in case of last minute changes. \n\n1st Friday of every month\, 2-3.30pm\nThe Burnage Library\, Burnage Ln\, Manchester M19 1EW\nContact Daniel on 07415 436382 or daniel@manchestercarersforum.org.uk
URL:https://www.carersmanchester.org.uk/event/burnage-peer-support/2026-06-05/
LOCATION:Burnage Library\, Burnage Lane\, Manchester\, M19 1EW
END:VEVENT
BEGIN:VEVENT
DTSTART;TZID=Europe/Paris:20260605T140000
DTEND;TZID=Europe/Paris:20260605T153000
DTSTAMP:20260425T124041
CREATED:20260307T142813Z
LAST-MODIFIED:20260307T142813Z
UID:10004666-1780668000-1780673400@www.carersmanchester.org.uk
SUMMARY:Manchester Carers Forum: Burnage Carers Peer Support Group
DESCRIPTION:Friday 6th March\, 2.00pm – 3.30pm (1st Friday of every month)\nThe Burnage Library\, Burnage Lane\, Manchester M19 1EW\nContact – Daniel on 07415 436382\n\ndaniel@manchestercarersforum.org.uk \n*Please contact the organiser prior to attending in case of last minute changes in the month.*
URL:https://www.carersmanchester.org.uk/event/manchester-carers-forum-burnage-carers-peer-support-group-3/2026-06-05/
LOCATION:The Burnage Library\, Burnage Lane\, Manchester\, M19 1EW
END:VEVENT
BEGIN:VEVENT
DTSTART;TZID=Europe/Paris:20260608T110000
DTEND;TZID=Europe/Paris:20260608T140000
DTSTAMP:20260425T124041
CREATED:20241213T120553Z
LAST-MODIFIED:20250519T121242Z
UID:10001712-1780916400-1780927200@www.carersmanchester.org.uk
SUMMARY:Lifted: Carers Drop-in
DESCRIPTION:
URL:https://www.carersmanchester.org.uk/event/lifted-carers-drop-in-10/2026-06-08/
LOCATION:Dandelion Community Centre\, Oatlands Road\, Manchester\, M22 1AL
END:VEVENT
BEGIN:VEVENT
DTSTART;TZID=Europe/Paris:20260608T123000
DTEND;TZID=Europe/Paris:20260608T140000
DTSTAMP:20260425T124041
CREATED:20241213T121023Z
LAST-MODIFIED:20241216T113524Z
UID:10001970-1780921800-1780927200@www.carersmanchester.org.uk
SUMMARY:Lifted: Uplift Meal
DESCRIPTION:
URL:https://www.carersmanchester.org.uk/event/lifted-uplift-meal-10/2026-06-08/
LOCATION:Dandelion Community Centre\, Oatlands Road\, Manchester\, M22 1AL
END:VEVENT
BEGIN:VEVENT
DTSTART;TZID=Europe/Paris:20260609T130000
DTEND;TZID=Europe/Paris:20260609T144500
DTSTAMP:20260425T124041
CREATED:20260307T143226Z
LAST-MODIFIED:20260307T143226Z
UID:10004696-1781010000-1781016300@www.carersmanchester.org.uk
SUMMARY:Manchester Carers Forum: Wythenshawe Carers Peer Support Group
DESCRIPTION:Tuesday 10th March\, 1pm – 2.45pm (2nd Tuesday of every month)\nDandelion Community\, Oatlands Road\, Wythenshawe\, M22 1AH\nContact – Daniel on 07415436382\n\ndaniel@manchestercarersforum.org.uk  \n*Please contact the organiser prior to attending in case of last minute changes in the month.*
URL:https://www.carersmanchester.org.uk/event/manchester-carers-forum-wythenshawe-carers-peer-support-group-2/2026-06-09/
LOCATION:Dandelion Community Centre\, Oatlands Road\, Manchester\, M22 1AL
END:VEVENT
BEGIN:VEVENT
DTSTART;TZID=Europe/Paris:20260610T140000
DTEND;TZID=Europe/Paris:20260610T153000
DTSTAMP:20260425T124041
CREATED:20251203T093803Z
LAST-MODIFIED:20260126T100139Z
UID:10004099-1781100000-1781105400@www.carersmanchester.org.uk
SUMMARY:Kick off with a Verse (Wednesday afternoons)
DESCRIPTION:To sign up or learn more\, please email karindenovellis@gmail.com
URL:https://www.carersmanchester.org.uk/event/kickoffverse/2026-06-10/
LOCATION:online
ORGANIZER;CN="Karin De Novellis":MAILTO:karindenovellis@gmail.com
END:VEVENT
BEGIN:VEVENT
DTSTART;TZID=Europe/Paris:20260611T190000
DTEND;TZID=Europe/Paris:20260611T203000
DTSTAMP:20260425T124041
CREATED:20251203T094125Z
LAST-MODIFIED:20260126T100038Z
UID:10004354-1781204400-1781209800@www.carersmanchester.org.uk
SUMMARY:Kick off with a Verse (Thursday evenings)
DESCRIPTION:To sign up or learn more\, please email karindenovellis@gmail.com
URL:https://www.carersmanchester.org.uk/event/kickoffversethursday/2026-06-11/
ORGANIZER;CN="Karin De Novellis":MAILTO:karindenovellis@gmail.com
END:VEVENT
BEGIN:VEVENT
DTSTART;TZID=Europe/Paris:20260615T110000
DTEND;TZID=Europe/Paris:20260615T140000
DTSTAMP:20260425T124041
CREATED:20241213T120553Z
LAST-MODIFIED:20250519T121242Z
UID:10001713-1781521200-1781532000@www.carersmanchester.org.uk
SUMMARY:Lifted: Carers Drop-in
DESCRIPTION:
URL:https://www.carersmanchester.org.uk/event/lifted-carers-drop-in-10/2026-06-15/
LOCATION:Dandelion Community Centre\, Oatlands Road\, Manchester\, M22 1AL
END:VEVENT
END:VCALENDAR