BEGIN:VCALENDAR
VERSION:2.0
PRODID:-//The Carers Manchester Contact Point - ECPv6.15.18//NONSGML v1.0//EN
CALSCALE:GREGORIAN
METHOD:PUBLISH
X-WR-CALNAME:The Carers Manchester Contact Point
X-ORIGINAL-URL:https://www.carersmanchester.org.uk
X-WR-CALDESC:Events for The Carers Manchester Contact Point
REFRESH-INTERVAL;VALUE=DURATION:PT1H
X-Robots-Tag:noindex
X-PUBLISHED-TTL:PT1H
BEGIN:VTIMEZONE
TZID:Europe/Paris
BEGIN:DAYLIGHT
TZOFFSETFROM:+0100
TZOFFSETTO:+0200
TZNAME:CEST
DTSTART:20250330T010000
END:DAYLIGHT
BEGIN:STANDARD
TZOFFSETFROM:+0200
TZOFFSETTO:+0100
TZNAME:CET
DTSTART:20251026T010000
END:STANDARD
BEGIN:DAYLIGHT
TZOFFSETFROM:+0100
TZOFFSETTO:+0200
TZNAME:CEST
DTSTART:20260329T010000
END:DAYLIGHT
BEGIN:STANDARD
TZOFFSETFROM:+0200
TZOFFSETTO:+0100
TZNAME:CET
DTSTART:20261025T010000
END:STANDARD
BEGIN:DAYLIGHT
TZOFFSETFROM:+0100
TZOFFSETTO:+0200
TZNAME:CEST
DTSTART:20270328T010000
END:DAYLIGHT
BEGIN:STANDARD
TZOFFSETFROM:+0200
TZOFFSETTO:+0100
TZNAME:CET
DTSTART:20271031T010000
END:STANDARD
BEGIN:DAYLIGHT
TZOFFSETFROM:+0100
TZOFFSETTO:+0200
TZNAME:CEST
DTSTART:20280326T010000
END:DAYLIGHT
BEGIN:STANDARD
TZOFFSETFROM:+0200
TZOFFSETTO:+0100
TZNAME:CET
DTSTART:20281029T010000
END:STANDARD
END:VTIMEZONE
BEGIN:VEVENT
DTSTART;TZID=Europe/Paris:20261221T123000
DTEND;TZID=Europe/Paris:20261221T140000
DTSTAMP:20260423T100141
CREATED:20241213T121023Z
LAST-MODIFIED:20241216T113524Z
UID:10001998-1797856200-1797861600@www.carersmanchester.org.uk
SUMMARY:Lifted: Uplift Meal
DESCRIPTION:
URL:https://www.carersmanchester.org.uk/event/lifted-uplift-meal-10/2026-12-21/
LOCATION:Dandelion Community Centre\, Oatlands Road\, Manchester\, M22 1AL
END:VEVENT
BEGIN:VEVENT
DTSTART;TZID=Europe/Paris:20261223T140000
DTEND;TZID=Europe/Paris:20261223T153000
DTSTAMP:20260423T100141
CREATED:20251203T093803Z
LAST-MODIFIED:20260126T100139Z
UID:10004127-1798034400-1798039800@www.carersmanchester.org.uk
SUMMARY:Kick off with a Verse (Wednesday afternoons)
DESCRIPTION:To sign up or learn more\, please email karindenovellis@gmail.com
URL:https://www.carersmanchester.org.uk/event/kickoffverse/2026-12-23/
LOCATION:online
ORGANIZER;CN="Karin De Novellis":MAILTO:karindenovellis@gmail.com
END:VEVENT
BEGIN:VEVENT
DTSTART;TZID=Europe/Paris:20261224T190000
DTEND;TZID=Europe/Paris:20261224T203000
DTSTAMP:20260423T100141
CREATED:20251203T094125Z
LAST-MODIFIED:20260126T100038Z
UID:10004382-1798138800-1798144200@www.carersmanchester.org.uk
SUMMARY:Kick off with a Verse (Thursday evenings)
DESCRIPTION:To sign up or learn more\, please email karindenovellis@gmail.com
URL:https://www.carersmanchester.org.uk/event/kickoffversethursday/2026-12-24/
ORGANIZER;CN="Karin De Novellis":MAILTO:karindenovellis@gmail.com
END:VEVENT
BEGIN:VEVENT
DTSTART;TZID=Europe/Paris:20261225T103000
DTEND;TZID=Europe/Paris:20261225T123000
DTSTAMP:20260423T100141
CREATED:20250618T153827Z
LAST-MODIFIED:20260307T144346Z
UID:10003736-1798194600-1798201800@www.carersmanchester.org.uk
SUMMARY:Recurring event - Manchester Carers Forum: Blackley Carers Peer Support
DESCRIPTION:Friday 27th March\, 10.30am-12.30pm (Last Friday of the month)\nThe Avenue Library Learning Centre\, 9 Victoria Ave East\, Blackley\, M9 6HW\nContact – Karen on 07903 685435\n\nkaren@manchestercarersforum.org.uk \n*Please contact the organiser prior to attending in case of last minute changes in the month.*
URL:https://www.carersmanchester.org.uk/event/blackley-peer-support/2026-12-25/
LOCATION:The Avenue Library and Learning Centre\, 9 Victoria Avenue East\, Manchester\, M9 6HW
END:VEVENT
BEGIN:VEVENT
DTSTART;TZID=Europe/Paris:20261228T110000
DTEND;TZID=Europe/Paris:20261228T140000
DTSTAMP:20260423T100141
CREATED:20241213T120553Z
LAST-MODIFIED:20250519T121242Z
UID:10001741-1798455600-1798466400@www.carersmanchester.org.uk
SUMMARY:Lifted: Carers Drop-in
DESCRIPTION:
URL:https://www.carersmanchester.org.uk/event/lifted-carers-drop-in-10/2026-12-28/
LOCATION:Dandelion Community Centre\, Oatlands Road\, Manchester\, M22 1AL
END:VEVENT
BEGIN:VEVENT
DTSTART;TZID=Europe/Paris:20261228T123000
DTEND;TZID=Europe/Paris:20261228T140000
DTSTAMP:20260423T100141
CREATED:20241213T121023Z
LAST-MODIFIED:20241216T113524Z
UID:10001999-1798461000-1798466400@www.carersmanchester.org.uk
SUMMARY:Lifted: Uplift Meal
DESCRIPTION:
URL:https://www.carersmanchester.org.uk/event/lifted-uplift-meal-10/2026-12-28/
LOCATION:Dandelion Community Centre\, Oatlands Road\, Manchester\, M22 1AL
END:VEVENT
BEGIN:VEVENT
DTSTART;TZID=Europe/Paris:20261230T140000
DTEND;TZID=Europe/Paris:20261230T153000
DTSTAMP:20260423T100141
CREATED:20251203T093803Z
LAST-MODIFIED:20260126T100139Z
UID:10004128-1798639200-1798644600@www.carersmanchester.org.uk
SUMMARY:Kick off with a Verse (Wednesday afternoons)
DESCRIPTION:To sign up or learn more\, please email karindenovellis@gmail.com
URL:https://www.carersmanchester.org.uk/event/kickoffverse/2026-12-30/
LOCATION:online
ORGANIZER;CN="Karin De Novellis":MAILTO:karindenovellis@gmail.com
END:VEVENT
BEGIN:VEVENT
DTSTART;TZID=Europe/Paris:20261231T190000
DTEND;TZID=Europe/Paris:20261231T203000
DTSTAMP:20260423T100141
CREATED:20251203T094125Z
LAST-MODIFIED:20260126T100038Z
UID:10004383-1798743600-1798749000@www.carersmanchester.org.uk
SUMMARY:Kick off with a Verse (Thursday evenings)
DESCRIPTION:To sign up or learn more\, please email karindenovellis@gmail.com
URL:https://www.carersmanchester.org.uk/event/kickoffversethursday/2026-12-31/
ORGANIZER;CN="Karin De Novellis":MAILTO:karindenovellis@gmail.com
END:VEVENT
BEGIN:VEVENT
DTSTART;TZID=Europe/Paris:20270101T140000
DTEND;TZID=Europe/Paris:20270101T153000
DTSTAMP:20260423T100141
CREATED:20250618T155142Z
LAST-MODIFIED:20250618T155142Z
UID:10003936-1798812000-1798817400@www.carersmanchester.org.uk
SUMMARY:Recurring event - Manchester Carers Forum: Burnage Carers Peer Support Group
DESCRIPTION:Please contact the organiser prior to attending\, in case of last minute changes. \n\n1st Friday of every month\, 2-3.30pm\nThe Burnage Library\, Burnage Ln\, Manchester M19 1EW\nContact Daniel on 07415 436382 or daniel@manchestercarersforum.org.uk
URL:https://www.carersmanchester.org.uk/event/burnage-peer-support/2027-01-01/
LOCATION:Burnage Library\, Burnage Lane\, Manchester\, M19 1EW
END:VEVENT
BEGIN:VEVENT
DTSTART;TZID=Europe/Paris:20270101T140000
DTEND;TZID=Europe/Paris:20270101T153000
DTSTAMP:20260423T100141
CREATED:20260307T142813Z
LAST-MODIFIED:20260307T142813Z
UID:10004673-1798812000-1798817400@www.carersmanchester.org.uk
SUMMARY:Manchester Carers Forum: Burnage Carers Peer Support Group
DESCRIPTION:Friday 6th March\, 2.00pm – 3.30pm (1st Friday of every month)\nThe Burnage Library\, Burnage Lane\, Manchester M19 1EW\nContact – Daniel on 07415 436382\n\ndaniel@manchestercarersforum.org.uk \n*Please contact the organiser prior to attending in case of last minute changes in the month.*
URL:https://www.carersmanchester.org.uk/event/manchester-carers-forum-burnage-carers-peer-support-group-3/2027-01-01/
LOCATION:The Burnage Library\, Burnage Lane\, Manchester\, M19 1EW
END:VEVENT
BEGIN:VEVENT
DTSTART;TZID=Europe/Paris:20270104T110000
DTEND;TZID=Europe/Paris:20270104T140000
DTSTAMP:20260423T100141
CREATED:20241213T120553Z
LAST-MODIFIED:20250519T121242Z
UID:10001742-1799060400-1799071200@www.carersmanchester.org.uk
SUMMARY:Lifted: Carers Drop-in
DESCRIPTION:
URL:https://www.carersmanchester.org.uk/event/lifted-carers-drop-in-10/2027-01-04/
LOCATION:Dandelion Community Centre\, Oatlands Road\, Manchester\, M22 1AL
END:VEVENT
BEGIN:VEVENT
DTSTART;TZID=Europe/Paris:20270104T123000
DTEND;TZID=Europe/Paris:20270104T140000
DTSTAMP:20260423T100141
CREATED:20241213T121023Z
LAST-MODIFIED:20241216T113524Z
UID:10002000-1799065800-1799071200@www.carersmanchester.org.uk
SUMMARY:Lifted: Uplift Meal
DESCRIPTION:
URL:https://www.carersmanchester.org.uk/event/lifted-uplift-meal-10/2027-01-04/
LOCATION:Dandelion Community Centre\, Oatlands Road\, Manchester\, M22 1AL
END:VEVENT
BEGIN:VEVENT
DTSTART;TZID=Europe/Paris:20270106T140000
DTEND;TZID=Europe/Paris:20270106T153000
DTSTAMP:20260423T100141
CREATED:20251203T093803Z
LAST-MODIFIED:20260126T100139Z
UID:10004129-1799244000-1799249400@www.carersmanchester.org.uk
SUMMARY:Kick off with a Verse (Wednesday afternoons)
DESCRIPTION:To sign up or learn more\, please email karindenovellis@gmail.com
URL:https://www.carersmanchester.org.uk/event/kickoffverse/2027-01-06/
LOCATION:online
ORGANIZER;CN="Karin De Novellis":MAILTO:karindenovellis@gmail.com
END:VEVENT
BEGIN:VEVENT
DTSTART;TZID=Europe/Paris:20270107T133000
DTEND;TZID=Europe/Paris:20270107T153000
DTSTAMP:20260423T100141
CREATED:20251009T140514Z
LAST-MODIFIED:20251009T141034Z
UID:10004017-1799328600-1799335800@www.carersmanchester.org.uk
SUMMARY:Recurring event - East Manchester carer support group
DESCRIPTION:For more information\, please contact: \n\nkaren@manchestercarersforum.org.uk\n07903685435
URL:https://www.carersmanchester.org.uk/event/east-support-group/2027-01-07/
LOCATION:Asda Eastlands\, The community room\, Ashton New Road\, M11 4DB
END:VEVENT
BEGIN:VEVENT
DTSTART;TZID=Europe/Paris:20270107T140000
DTEND;TZID=Europe/Paris:20270107T153000
DTSTAMP:20260423T100141
CREATED:20260307T142307Z
LAST-MODIFIED:20260307T142307Z
UID:10004643-1799330400-1799335800@www.carersmanchester.org.uk
SUMMARY:East Manchester Peer Support Group
DESCRIPTION:Thursday 5th March\, 2.00pm – 3.30pm (1st Thursday of every month)\nAsda Eastlands\, The community room\, Ashton New Road M11 4DB\nContact – Karen on 07903 685435\n\nkaren@manchestercarersforum.org.uk \n  \n\n\n\n\n\n\n\n\n*Please contact the organiser prior to attending in case of last minute changes in the month.*
URL:https://www.carersmanchester.org.uk/event/east-manchester-peer-support-group/2027-01-07/
LOCATION:Asda Eastlands\, The community room\, Ashton New Road\, M11 4DB
END:VEVENT
BEGIN:VEVENT
DTSTART;TZID=Europe/Paris:20270107T190000
DTEND;TZID=Europe/Paris:20270107T203000
DTSTAMP:20260423T100141
CREATED:20251203T094125Z
LAST-MODIFIED:20260126T100038Z
UID:10004384-1799348400-1799353800@www.carersmanchester.org.uk
SUMMARY:Kick off with a Verse (Thursday evenings)
DESCRIPTION:To sign up or learn more\, please email karindenovellis@gmail.com
URL:https://www.carersmanchester.org.uk/event/kickoffversethursday/2027-01-07/
ORGANIZER;CN="Karin De Novellis":MAILTO:karindenovellis@gmail.com
END:VEVENT
BEGIN:VEVENT
DTSTART;TZID=Europe/Paris:20270111T110000
DTEND;TZID=Europe/Paris:20270111T140000
DTSTAMP:20260423T100141
CREATED:20241213T120553Z
LAST-MODIFIED:20250519T121242Z
UID:10001743-1799665200-1799676000@www.carersmanchester.org.uk
SUMMARY:Lifted: Carers Drop-in
DESCRIPTION:
URL:https://www.carersmanchester.org.uk/event/lifted-carers-drop-in-10/2027-01-11/
LOCATION:Dandelion Community Centre\, Oatlands Road\, Manchester\, M22 1AL
END:VEVENT
BEGIN:VEVENT
DTSTART;TZID=Europe/Paris:20270111T123000
DTEND;TZID=Europe/Paris:20270111T140000
DTSTAMP:20260423T100141
CREATED:20241213T121023Z
LAST-MODIFIED:20241216T113524Z
UID:10002001-1799670600-1799676000@www.carersmanchester.org.uk
SUMMARY:Lifted: Uplift Meal
DESCRIPTION:
URL:https://www.carersmanchester.org.uk/event/lifted-uplift-meal-10/2027-01-11/
LOCATION:Dandelion Community Centre\, Oatlands Road\, Manchester\, M22 1AL
END:VEVENT
BEGIN:VEVENT
DTSTART;TZID=Europe/Paris:20270112T130000
DTEND;TZID=Europe/Paris:20270112T144500
DTSTAMP:20260423T100141
CREATED:20260307T143226Z
LAST-MODIFIED:20260307T143226Z
UID:10004703-1799758800-1799765100@www.carersmanchester.org.uk
SUMMARY:Manchester Carers Forum: Wythenshawe Carers Peer Support Group
DESCRIPTION:Tuesday 10th March\, 1pm – 2.45pm (2nd Tuesday of every month)\nDandelion Community\, Oatlands Road\, Wythenshawe\, M22 1AH\nContact – Daniel on 07415436382\n\ndaniel@manchestercarersforum.org.uk  \n*Please contact the organiser prior to attending in case of last minute changes in the month.*
URL:https://www.carersmanchester.org.uk/event/manchester-carers-forum-wythenshawe-carers-peer-support-group-2/2027-01-12/
LOCATION:Dandelion Community Centre\, Oatlands Road\, Manchester\, M22 1AL
END:VEVENT
BEGIN:VEVENT
DTSTART;TZID=Europe/Paris:20270113T140000
DTEND;TZID=Europe/Paris:20270113T153000
DTSTAMP:20260423T100141
CREATED:20251203T093803Z
LAST-MODIFIED:20260126T100139Z
UID:10004130-1799848800-1799854200@www.carersmanchester.org.uk
SUMMARY:Kick off with a Verse (Wednesday afternoons)
DESCRIPTION:To sign up or learn more\, please email karindenovellis@gmail.com
URL:https://www.carersmanchester.org.uk/event/kickoffverse/2027-01-13/
LOCATION:online
ORGANIZER;CN="Karin De Novellis":MAILTO:karindenovellis@gmail.com
END:VEVENT
BEGIN:VEVENT
DTSTART;TZID=Europe/Paris:20270114T190000
DTEND;TZID=Europe/Paris:20270114T203000
DTSTAMP:20260423T100141
CREATED:20251203T094125Z
LAST-MODIFIED:20260126T100038Z
UID:10004385-1799953200-1799958600@www.carersmanchester.org.uk
SUMMARY:Kick off with a Verse (Thursday evenings)
DESCRIPTION:To sign up or learn more\, please email karindenovellis@gmail.com
URL:https://www.carersmanchester.org.uk/event/kickoffversethursday/2027-01-14/
ORGANIZER;CN="Karin De Novellis":MAILTO:karindenovellis@gmail.com
END:VEVENT
BEGIN:VEVENT
DTSTART;TZID=Europe/Paris:20270118T110000
DTEND;TZID=Europe/Paris:20270118T140000
DTSTAMP:20260423T100141
CREATED:20241213T120553Z
LAST-MODIFIED:20250519T121242Z
UID:10001744-1800270000-1800280800@www.carersmanchester.org.uk
SUMMARY:Lifted: Carers Drop-in
DESCRIPTION:
URL:https://www.carersmanchester.org.uk/event/lifted-carers-drop-in-10/2027-01-18/
LOCATION:Dandelion Community Centre\, Oatlands Road\, Manchester\, M22 1AL
END:VEVENT
BEGIN:VEVENT
DTSTART;TZID=Europe/Paris:20270118T123000
DTEND;TZID=Europe/Paris:20270118T140000
DTSTAMP:20260423T100141
CREATED:20241213T121023Z
LAST-MODIFIED:20241216T113524Z
UID:10002002-1800275400-1800280800@www.carersmanchester.org.uk
SUMMARY:Lifted: Uplift Meal
DESCRIPTION:
URL:https://www.carersmanchester.org.uk/event/lifted-uplift-meal-10/2027-01-18/
LOCATION:Dandelion Community Centre\, Oatlands Road\, Manchester\, M22 1AL
END:VEVENT
BEGIN:VEVENT
DTSTART;TZID=Europe/Paris:20270120T133000
DTEND;TZID=Europe/Paris:20270120T153000
DTSTAMP:20260423T100141
CREATED:20250618T154559Z
LAST-MODIFIED:20250618T154559Z
UID:10003867-1800451800-1800459000@www.carersmanchester.org.uk
SUMMARY:Manchester Carers Forum: Cheetham and Crumpsall support group
DESCRIPTION:3rd Wednesday of every month\, 12.30-2.30pm\nUkrainian Cultural Centre\, 31 Smedley Lane\, Cheetham Hill M8 8XB\n\nPlease contact Karen prior to attending in case of last-minute changes: \n\n07903 685435\nor karen@manchestercarersforum.org.uk\n\n  \n 
URL:https://www.carersmanchester.org.uk/event/manchester-carers-forum-cheetham-and-crumpsall-support-group-4/2027-01-20/
LOCATION:Ukrainian Cultural Centre\, 31 Smedley Lane\, Cheetham Hill\,\, Manchester\, M8 8XB
END:VEVENT
BEGIN:VEVENT
DTSTART;TZID=Europe/Paris:20270120T140000
DTEND;TZID=Europe/Paris:20270120T153000
DTSTAMP:20260423T100141
CREATED:20251203T093803Z
LAST-MODIFIED:20260126T100139Z
UID:10004131-1800453600-1800459000@www.carersmanchester.org.uk
SUMMARY:Kick off with a Verse (Wednesday afternoons)
DESCRIPTION:To sign up or learn more\, please email karindenovellis@gmail.com
URL:https://www.carersmanchester.org.uk/event/kickoffverse/2027-01-20/
LOCATION:online
ORGANIZER;CN="Karin De Novellis":MAILTO:karindenovellis@gmail.com
END:VEVENT
BEGIN:VEVENT
DTSTART;TZID=Europe/Paris:20270121T123000
DTEND;TZID=Europe/Paris:20270121T143000
DTSTAMP:20260423T100141
CREATED:20260307T144000Z
LAST-MODIFIED:20260307T144025Z
UID:10004733-1800534600-1800541800@www.carersmanchester.org.uk
SUMMARY:Manchester Carers Forum: Cheetham Hill Carers Peer Support Group
DESCRIPTION:Wednesday 19th March\, 12.30-2.30pm (3rd Wednesday of the month)\nUkrainian Club 31 Smedley Lane\, Cheetham Hill M8 8XB\nContact – Karen on 07903 685435\n\nkaren@manchestercarersforum.org.uk \n  \n*Please contact the organiser prior to attending in case of last minute changes in the month.*
URL:https://www.carersmanchester.org.uk/event/manchester-carers-forum-cheetham-hill-carers-peer-support-group/2027-01-21/
LOCATION:Ukrainian Club\, 31 Smedley Lane\, Cheetham Hill\, M8 8XB
END:VEVENT
BEGIN:VEVENT
DTSTART;TZID=Europe/Paris:20270121T190000
DTEND;TZID=Europe/Paris:20270121T203000
DTSTAMP:20260423T100141
CREATED:20251203T094125Z
LAST-MODIFIED:20260126T100038Z
UID:10004386-1800558000-1800563400@www.carersmanchester.org.uk
SUMMARY:Kick off with a Verse (Thursday evenings)
DESCRIPTION:To sign up or learn more\, please email karindenovellis@gmail.com
URL:https://www.carersmanchester.org.uk/event/kickoffversethursday/2027-01-21/
ORGANIZER;CN="Karin De Novellis":MAILTO:karindenovellis@gmail.com
END:VEVENT
BEGIN:VEVENT
DTSTART;TZID=Europe/Paris:20270122T103000
DTEND;TZID=Europe/Paris:20270122T123000
DTSTAMP:20260423T100141
CREATED:20250618T153827Z
LAST-MODIFIED:20260307T144346Z
UID:10004760-1800613800-1800621000@www.carersmanchester.org.uk
SUMMARY:Recurring event - Manchester Carers Forum: Blackley Carers Peer Support
DESCRIPTION:Friday 27th March\, 10.30am-12.30pm (Last Friday of the month)\nThe Avenue Library Learning Centre\, 9 Victoria Ave East\, Blackley\, M9 6HW\nContact – Karen on 07903 685435\n\nkaren@manchestercarersforum.org.uk \n*Please contact the organiser prior to attending in case of last minute changes in the month.*
URL:https://www.carersmanchester.org.uk/event/blackley-peer-support/2027-01-22/
LOCATION:The Avenue Library and Learning Centre\, 9 Victoria Avenue East\, Manchester\, M9 6HW
END:VEVENT
BEGIN:VEVENT
DTSTART;TZID=Europe/Paris:20270125T110000
DTEND;TZID=Europe/Paris:20270125T140000
DTSTAMP:20260423T100141
CREATED:20241213T120553Z
LAST-MODIFIED:20250519T121242Z
UID:10001745-1800874800-1800885600@www.carersmanchester.org.uk
SUMMARY:Lifted: Carers Drop-in
DESCRIPTION:
URL:https://www.carersmanchester.org.uk/event/lifted-carers-drop-in-10/2027-01-25/
LOCATION:Dandelion Community Centre\, Oatlands Road\, Manchester\, M22 1AL
END:VEVENT
BEGIN:VEVENT
DTSTART;TZID=Europe/Paris:20270125T123000
DTEND;TZID=Europe/Paris:20270125T140000
DTSTAMP:20260423T100141
CREATED:20241213T121023Z
LAST-MODIFIED:20241216T113524Z
UID:10002003-1800880200-1800885600@www.carersmanchester.org.uk
SUMMARY:Lifted: Uplift Meal
DESCRIPTION:
URL:https://www.carersmanchester.org.uk/event/lifted-uplift-meal-10/2027-01-25/
LOCATION:Dandelion Community Centre\, Oatlands Road\, Manchester\, M22 1AL
END:VEVENT
END:VCALENDAR