BEGIN:VCALENDAR
VERSION:2.0
PRODID:-//The Carers Manchester Contact Point - ECPv6.15.18//NONSGML v1.0//EN
CALSCALE:GREGORIAN
METHOD:PUBLISH
X-ORIGINAL-URL:https://www.carersmanchester.org.uk
X-WR-CALDESC:Events for The Carers Manchester Contact Point
REFRESH-INTERVAL;VALUE=DURATION:PT1H
X-Robots-Tag:noindex
X-PUBLISHED-TTL:PT1H
BEGIN:VTIMEZONE
TZID:Europe/Paris
BEGIN:DAYLIGHT
TZOFFSETFROM:+0100
TZOFFSETTO:+0200
TZNAME:CEST
DTSTART:20240331T010000
END:DAYLIGHT
BEGIN:STANDARD
TZOFFSETFROM:+0200
TZOFFSETTO:+0100
TZNAME:CET
DTSTART:20241027T010000
END:STANDARD
BEGIN:DAYLIGHT
TZOFFSETFROM:+0100
TZOFFSETTO:+0200
TZNAME:CEST
DTSTART:20250330T010000
END:DAYLIGHT
BEGIN:STANDARD
TZOFFSETFROM:+0200
TZOFFSETTO:+0100
TZNAME:CET
DTSTART:20251026T010000
END:STANDARD
BEGIN:DAYLIGHT
TZOFFSETFROM:+0100
TZOFFSETTO:+0200
TZNAME:CEST
DTSTART:20260329T010000
END:DAYLIGHT
BEGIN:STANDARD
TZOFFSETFROM:+0200
TZOFFSETTO:+0100
TZNAME:CET
DTSTART:20261025T010000
END:STANDARD
END:VTIMEZONE
BEGIN:VEVENT
DTSTART;TZID=Europe/Paris:20250915T131500
DTEND;TZID=Europe/Paris:20250915T151500
DTSTAMP:20260423T025836
CREATED:20241219T164940Z
LAST-MODIFIED:20250213T113204Z
UID:10003202-1757942100-1757949300@www.carersmanchester.org.uk
SUMMARY:Lived Experience Panel: Monthly meeting
DESCRIPTION:Monthly meeting of the Carers Manchester Lived Experience Panel. \nMeeting location will be confirmed with panel members by email. Every second meeting will usually be held as an online meeting. \n  \nThis event is for current members of the Carers Manchester Lived Experience Panel. If you are interested in joining the panel\, you can find more information on our website. \n 
URL:https://www.carersmanchester.org.uk/event/lived-experience-panel-monthly-meeting-3/2025-09-15/
END:VEVENT
BEGIN:VEVENT
DTSTART;TZID=Europe/Paris:20250917T103000
DTEND;TZID=Europe/Paris:20250917T120000
DTSTAMP:20260423T025836
CREATED:20250403T103051Z
LAST-MODIFIED:20250403T103051Z
UID:10003263-1758105000-1758110400@www.carersmanchester.org.uk
SUMMARY:Move and Live Well with Parkinson's class- North Manchester
DESCRIPTION:Led by experienced dance artist Jody\, this relaxed and fun session is for anyone living with Parkinson’s and their support network. Sessions can be taken seated or standing and adapted for anybody. \nSessions will begin sitting with gentle movements focusing on mobility and body awareness. Using a wide range of music\, sessions will develop physical strength\, spacial awareness\, balance and motor skills. \nSessions are £3\, first session free. There will be refreshments provided and social time included. Partners/carers are encouraged to join. Bring water\, comfortable loose clothing and supportive shoes. \nThere is a small car park at the church\, as well as on street parking. The venue is accessible by a ramp and there are accessible facilities. \nNo need to book\, just run up. For more info email manchester@livewellanddance.org.uk
URL:https://www.carersmanchester.org.uk/event/move-and-live-well-with-parkinsons-class-north-manchester/2025-09-17/
LOCATION:Crumpsall Methodist Church\, Lansdowne Road\, Manchester\, M8 5ST
END:VEVENT
BEGIN:VEVENT
DTSTART;TZID=Europe/Paris:20250917T110000
DTEND;TZID=Europe/Paris:20250917T130000
DTSTAMP:20260423T025836
CREATED:20250117T135335Z
LAST-MODIFIED:20250117T135442Z
UID:10002529-1758106800-1758114000@www.carersmanchester.org.uk
SUMMARY:Lifted: Walking Group
DESCRIPTION:Text from organiser: \nEvery Wednesday\, staff and carers and family who attend Lifted. Meet up for a lovely walk around Wythenshawe park. \nThe group meet up at the Cafe from there they set off as a group. Half way around the walk the group splits into two groups. One for those who want to do the 1 mile walk\, the other group for those who want to do a 2 or 3 mile walk. \nThe group meet back up at the cafe for a hot drink and a chat. \n  \nWe welcome all new walkers regardless of walking ability we cater for everyone! Still not sure why not read our blog about the walking group – Link \nLifted walking group – Every Wednesday at 11am – 1pm. Make sure to drop us a text or email to let us know you are coming.\nCall/text us on:07385568990 Or 07384784262 \nOr email us: info@liftedcarerscentre.org.uk
URL:https://www.carersmanchester.org.uk/event/lifted-walking-group-10/2025-09-17/
LOCATION:Wythenshawe Park\, Manchester\, M23 0AB
END:VEVENT
BEGIN:VEVENT
DTSTART;TZID=Europe/Paris:20250917T133000
DTEND;TZID=Europe/Paris:20250917T153000
DTSTAMP:20260423T025836
CREATED:20250618T154559Z
LAST-MODIFIED:20250618T154559Z
UID:10003851-1758115800-1758123000@www.carersmanchester.org.uk
SUMMARY:Manchester Carers Forum: Cheetham and Crumpsall support group
DESCRIPTION:3rd Wednesday of every month\, 12.30-2.30pm\nUkrainian Cultural Centre\, 31 Smedley Lane\, Cheetham Hill M8 8XB\n\nPlease contact Karen prior to attending in case of last-minute changes: \n\n07903 685435\nor karen@manchestercarersforum.org.uk\n\n  \n 
URL:https://www.carersmanchester.org.uk/event/manchester-carers-forum-cheetham-and-crumpsall-support-group-4/2025-09-17/
LOCATION:Ukrainian Cultural Centre\, 31 Smedley Lane\, Cheetham Hill\,\, Manchester\, M8 8XB
END:VEVENT
BEGIN:VEVENT
DTSTART;TZID=Europe/Paris:20250917T150000
DTEND;TZID=Europe/Paris:20250917T170000
DTSTAMP:20260423T025836
CREATED:20250723T154157Z
LAST-MODIFIED:20250820T140222Z
UID:10003982-1758121200-1758128400@www.carersmanchester.org.uk
SUMMARY:Mindfulness-based Cognitive Therapy: free 8-week course
DESCRIPTION:Gaddum are running a free 8-week mindfulness-based cognitive therapy (MBCT) course for Manchester residents.\nMBCT combines elements of mindfulness practice and cognitive behavioral therapy to help individuals develop greater awareness and acceptance of their thoughts\, emotions\, and experiences. MBCT is particularly good at preventing relapse of episodes of low mood/depression\, for those of us who are currently well or have received prior therapy. MBCT is more recently recommended by the National Institute for Health and Care Excellence for people with mild-moderate and recurrent depression\, and can also be very helpful for people who want to manage stress more effectively. \nThe course will be run by an experienced therapist and qualified Mindfulness teacher and there will be about 10-15 participants. This may be daunting for some\, but you will not be required to share your history with other participants\, as the course focuses upon developing skills and reflection upon mindfulness practices. \nTo learn more and sign up\, visit the Gaddum Eventbrite\, email therapy@gaddum.org.uk\, or call 0161 834 6069.
URL:https://www.carersmanchester.org.uk/event/mindfulness-based-cognitive-therapy-free-8-week-course/
LOCATION:Greenfish Resource Centre\, 46 - 50 Oldham Street\, Manchester\, M4 2LE\, United Kingdom
END:VEVENT
BEGIN:VEVENT
DTSTART;TZID=Europe/Paris:20250917T190000
DTEND;TZID=Europe/Paris:20250917T203000
DTSTAMP:20260423T025836
CREATED:20250211T165514Z
LAST-MODIFIED:20250211T165514Z
UID:10003145-1758135600-1758141000@www.carersmanchester.org.uk
SUMMARY:Together dementia support: Zoom Dementia Carers Training 4 week course
DESCRIPTION:Contact beth@togetherdementiasupport.org
URL:https://www.carersmanchester.org.uk/event/together-dementia-support-zoom-dementia-carers-training-4-week-course/2025-09-17/
END:VEVENT
BEGIN:VEVENT
DTSTART;TZID=Europe/Paris:20250922T110000
DTEND;TZID=Europe/Paris:20250922T140000
DTSTAMP:20260423T025836
CREATED:20241213T120553Z
LAST-MODIFIED:20250519T121242Z
UID:10001675-1758538800-1758549600@www.carersmanchester.org.uk
SUMMARY:Lifted: Carers Drop-in
DESCRIPTION:
URL:https://www.carersmanchester.org.uk/event/lifted-carers-drop-in-10/2025-09-22/
LOCATION:Dandelion Community Centre\, Oatlands Road\, Manchester\, M22 1AL
END:VEVENT
BEGIN:VEVENT
DTSTART;TZID=Europe/Paris:20250922T123000
DTEND;TZID=Europe/Paris:20250922T140000
DTSTAMP:20260423T025836
CREATED:20241213T121023Z
LAST-MODIFIED:20241216T113524Z
UID:10001933-1758544200-1758549600@www.carersmanchester.org.uk
SUMMARY:Lifted: Uplift Meal
DESCRIPTION:
URL:https://www.carersmanchester.org.uk/event/lifted-uplift-meal-10/2025-09-22/
LOCATION:Dandelion Community Centre\, Oatlands Road\, Manchester\, M22 1AL
END:VEVENT
BEGIN:VEVENT
DTSTART;TZID=Europe/Paris:20250924T103000
DTEND;TZID=Europe/Paris:20250924T120000
DTSTAMP:20260423T025836
CREATED:20250403T103051Z
LAST-MODIFIED:20250403T103051Z
UID:10003264-1758709800-1758715200@www.carersmanchester.org.uk
SUMMARY:Move and Live Well with Parkinson's class- North Manchester
DESCRIPTION:Led by experienced dance artist Jody\, this relaxed and fun session is for anyone living with Parkinson’s and their support network. Sessions can be taken seated or standing and adapted for anybody. \nSessions will begin sitting with gentle movements focusing on mobility and body awareness. Using a wide range of music\, sessions will develop physical strength\, spacial awareness\, balance and motor skills. \nSessions are £3\, first session free. There will be refreshments provided and social time included. Partners/carers are encouraged to join. Bring water\, comfortable loose clothing and supportive shoes. \nThere is a small car park at the church\, as well as on street parking. The venue is accessible by a ramp and there are accessible facilities. \nNo need to book\, just run up. For more info email manchester@livewellanddance.org.uk
URL:https://www.carersmanchester.org.uk/event/move-and-live-well-with-parkinsons-class-north-manchester/2025-09-24/
LOCATION:Crumpsall Methodist Church\, Lansdowne Road\, Manchester\, M8 5ST
END:VEVENT
BEGIN:VEVENT
DTSTART;TZID=Europe/Paris:20250924T110000
DTEND;TZID=Europe/Paris:20250924T130000
DTSTAMP:20260423T025836
CREATED:20250117T135335Z
LAST-MODIFIED:20250117T135442Z
UID:10002530-1758711600-1758718800@www.carersmanchester.org.uk
SUMMARY:Lifted: Walking Group
DESCRIPTION:Text from organiser: \nEvery Wednesday\, staff and carers and family who attend Lifted. Meet up for a lovely walk around Wythenshawe park. \nThe group meet up at the Cafe from there they set off as a group. Half way around the walk the group splits into two groups. One for those who want to do the 1 mile walk\, the other group for those who want to do a 2 or 3 mile walk. \nThe group meet back up at the cafe for a hot drink and a chat. \n  \nWe welcome all new walkers regardless of walking ability we cater for everyone! Still not sure why not read our blog about the walking group – Link \nLifted walking group – Every Wednesday at 11am – 1pm. Make sure to drop us a text or email to let us know you are coming.\nCall/text us on:07385568990 Or 07384784262 \nOr email us: info@liftedcarerscentre.org.uk
URL:https://www.carersmanchester.org.uk/event/lifted-walking-group-10/2025-09-24/
LOCATION:Wythenshawe Park\, Manchester\, M23 0AB
END:VEVENT
BEGIN:VEVENT
DTSTART;TZID=Europe/Paris:20250924T190000
DTEND;TZID=Europe/Paris:20250924T203000
DTSTAMP:20260423T025836
CREATED:20250211T165514Z
LAST-MODIFIED:20250211T165514Z
UID:10003146-1758740400-1758745800@www.carersmanchester.org.uk
SUMMARY:Together dementia support: Zoom Dementia Carers Training 4 week course
DESCRIPTION:Contact beth@togetherdementiasupport.org
URL:https://www.carersmanchester.org.uk/event/together-dementia-support-zoom-dementia-carers-training-4-week-course/2025-09-24/
END:VEVENT
BEGIN:VEVENT
DTSTART;TZID=Europe/Paris:20250925T120000
DTEND;TZID=Europe/Paris:20250925T140000
DTSTAMP:20260423T025836
CREATED:20250924T101320Z
LAST-MODIFIED:20250924T101320Z
UID:10003997-1758801600-1758808800@www.carersmanchester.org.uk
SUMMARY:Health Futures event at Blackley Community Hub
DESCRIPTION:
URL:https://www.carersmanchester.org.uk/event/health-futures-event-at-blackley-community-hub/
LOCATION:Blackley Community Hub\, St Paul C or E Church\, Victoria Avenue\, Manchester\, M9 0RA
END:VEVENT
BEGIN:VEVENT
DTSTART;TZID=Europe/Paris:20250925T140000
DTEND;TZID=Europe/Paris:20250925T160000
DTSTAMP:20260423T025836
CREATED:20250910T122911Z
LAST-MODIFIED:20250910T123055Z
UID:10003992-1758808800-1758816000@www.carersmanchester.org.uk
SUMMARY:Adult Carers Strategy focus group @ No. 93\, Harpurhey
DESCRIPTION:Do you look after a partner\, relative or friend due to their physical or mental illness\, frailty or addiction? Do you or the person you care for live in the Manchester City Council area? \n\n\nHelp shape Manchester’s Adult Carers Strategy by sharing your experience and views at this focus group. \nTo sign up\, please email info@carersmanchester.org.uk or phone 0161 834 6069 [ext. 1133]. (Please leave a message if you don’t get through.) \nPlease note\, this focus group is first-come-first-served\, with 20 places available.
URL:https://www.carersmanchester.org.uk/event/adult-carers-strategy-focus-group/
LOCATION:No\, 93 Wellbeing Centre\, 93 Church Lane\, Manchester\, M9 5BG
END:VEVENT
BEGIN:VEVENT
DTSTART;TZID=Europe/Paris:20250926T103000
DTEND;TZID=Europe/Paris:20250926T123000
DTSTAMP:20260423T025836
CREATED:20250618T153827Z
LAST-MODIFIED:20260307T144346Z
UID:10003721-1758882600-1758889800@www.carersmanchester.org.uk
SUMMARY:Recurring event - Manchester Carers Forum: Blackley Carers Peer Support
DESCRIPTION:Friday 27th March\, 10.30am-12.30pm (Last Friday of the month)\nThe Avenue Library Learning Centre\, 9 Victoria Ave East\, Blackley\, M9 6HW\nContact – Karen on 07903 685435\n\nkaren@manchestercarersforum.org.uk \n*Please contact the organiser prior to attending in case of last minute changes in the month.*
URL:https://www.carersmanchester.org.uk/event/blackley-peer-support/2025-09-26/
LOCATION:The Avenue Library and Learning Centre\, 9 Victoria Avenue East\, Manchester\, M9 6HW
END:VEVENT
BEGIN:VEVENT
DTSTART;TZID=Europe/Paris:20250929T110000
DTEND;TZID=Europe/Paris:20250929T140000
DTSTAMP:20260423T025836
CREATED:20241213T120553Z
LAST-MODIFIED:20250519T121242Z
UID:10001676-1759143600-1759154400@www.carersmanchester.org.uk
SUMMARY:Lifted: Carers Drop-in
DESCRIPTION:
URL:https://www.carersmanchester.org.uk/event/lifted-carers-drop-in-10/2025-09-29/
LOCATION:Dandelion Community Centre\, Oatlands Road\, Manchester\, M22 1AL
END:VEVENT
BEGIN:VEVENT
DTSTART;TZID=Europe/Paris:20250929T110000
DTEND;TZID=Europe/Paris:20250929T150000
DTSTAMP:20260423T025836
CREATED:20250919T130438Z
LAST-MODIFIED:20250919T130505Z
UID:10003996-1759143600-1759158000@www.carersmanchester.org.uk
SUMMARY:Culture Monday: International Day of Older Persons
DESCRIPTION:Text from organiser: \nManchester Museum opens its doors for a special event aimed at people aged 50 and over on this Age Friendly Culture Monday. \nNot open to the public on Mondays\, this is a unique opportunity to enjoy the Museum galleries at a quiet time and to get closer to its collections. \nIn this event\, we are celebrating the UN International Day of Older Persons and Chung Yeung Festival\, a Chinese celebration that promotes the nation’s virtues of respecting\, caring\, and supporting the elderly. \nOn the day\, we are offering attendees the opportunity of participating in a Tea Ceremony\, Chinese Calligraphy tasters and singing for wellbeing sessions. Also\, you will find out more about Chung Yeung festival and how the Chinese community pays respect to its elders. \nSeveral ‘conversation corners’ hosted by elders from different communities will be set up and the event will finish with a performance by the Bridgewater Hall Intergenerational Choir. \nSchedule for the day: \n11:00 -11:15 arrival and welcome \n11:20-12:20 1st Tea ceremony (Cantonese / Mandarin session) (pre-booked in Eventbrite) \n11:15-12:30 calligraphy tasters\, conversation corners \n12:30-1:00 break \n1:00-1:15 singing workshop \n1:00-2:30 calligraphy tasters\, conversation corners \n1:15-2:15 2nd Tea ceremony (English session) (pre-booked in Eventbrite) \n2:30-3:00 Breath champion choir performance \n3:00 finish \nTea and coffee will be provided. \nWe recommend you to bring your packed lunches as the Museum Cafe is closed on Mondays. \nPlease note that the Museum shop will be also closed. \nThis event can be booked via Eventbrite\, by emailing maria.ramosacevedo@manchester.ac.uk (English) / or by calling 07818 578 474. \nIf you would like to use Chinese\, you can email hazel.ng@manchester.ac.uk (Chinese/ English) or by calling 07789 122 996.
URL:https://www.carersmanchester.org.uk/event/culture-monday-international-day-of-older-persons/
LOCATION:Manchester Museum\, The University of Manchester\, Oxford Road\, Manchester\, M13 9PL
END:VEVENT
BEGIN:VEVENT
DTSTART;TZID=Europe/Paris:20250929T123000
DTEND;TZID=Europe/Paris:20250929T140000
DTSTAMP:20260423T025836
CREATED:20241213T121023Z
LAST-MODIFIED:20241216T113524Z
UID:10001934-1759149000-1759154400@www.carersmanchester.org.uk
SUMMARY:Lifted: Uplift Meal
DESCRIPTION:
URL:https://www.carersmanchester.org.uk/event/lifted-uplift-meal-10/2025-09-29/
LOCATION:Dandelion Community Centre\, Oatlands Road\, Manchester\, M22 1AL
END:VEVENT
BEGIN:VEVENT
DTSTART;TZID=Europe/Paris:20250930T133000
DTEND;TZID=Europe/Paris:20250930T153000
DTSTAMP:20260423T025836
CREATED:20250910T123615Z
LAST-MODIFIED:20250910T123638Z
UID:10003995-1759239000-1759246200@www.carersmanchester.org.uk
SUMMARY:Adult Carers Strategy focus group @ Withington Library
DESCRIPTION:Do you look after a partner\, relative or friend due to their physical or mental illness\, frailty or addiction? Do you or the person you care for live in the Manchester City Council area? \n\n\nHelp shape Manchester’s Adult Carers Strategy by sharing your experience and views at this focus group. \nTo sign up\, please email info@carersmanchester.org.uk or phone 0161 834 6069 [ext. 1133]. (Please leave a message if you don’t get through.) \nPlease note\, this focus group is first-come-first-served\, with 20 places available.
URL:https://www.carersmanchester.org.uk/event/adult-carers-strategy-focus-group-withington-library-2/
LOCATION:Withington library\, 410 Wilmslow Rd\, Manchester\, M20 3BD
END:VEVENT
BEGIN:VEVENT
DTSTART;TZID=Europe/Paris:20251001T103000
DTEND;TZID=Europe/Paris:20251001T120000
DTSTAMP:20260423T025836
CREATED:20250403T103051Z
LAST-MODIFIED:20250403T103051Z
UID:10003265-1759314600-1759320000@www.carersmanchester.org.uk
SUMMARY:Move and Live Well with Parkinson's class- North Manchester
DESCRIPTION:Led by experienced dance artist Jody\, this relaxed and fun session is for anyone living with Parkinson’s and their support network. Sessions can be taken seated or standing and adapted for anybody. \nSessions will begin sitting with gentle movements focusing on mobility and body awareness. Using a wide range of music\, sessions will develop physical strength\, spacial awareness\, balance and motor skills. \nSessions are £3\, first session free. There will be refreshments provided and social time included. Partners/carers are encouraged to join. Bring water\, comfortable loose clothing and supportive shoes. \nThere is a small car park at the church\, as well as on street parking. The venue is accessible by a ramp and there are accessible facilities. \nNo need to book\, just run up. For more info email manchester@livewellanddance.org.uk
URL:https://www.carersmanchester.org.uk/event/move-and-live-well-with-parkinsons-class-north-manchester/2025-10-01/
LOCATION:Crumpsall Methodist Church\, Lansdowne Road\, Manchester\, M8 5ST
END:VEVENT
BEGIN:VEVENT
DTSTART;TZID=Europe/Paris:20251001T110000
DTEND;TZID=Europe/Paris:20251001T130000
DTSTAMP:20260423T025836
CREATED:20250117T135335Z
LAST-MODIFIED:20250117T135442Z
UID:10002531-1759316400-1759323600@www.carersmanchester.org.uk
SUMMARY:Lifted: Walking Group
DESCRIPTION:Text from organiser: \nEvery Wednesday\, staff and carers and family who attend Lifted. Meet up for a lovely walk around Wythenshawe park. \nThe group meet up at the Cafe from there they set off as a group. Half way around the walk the group splits into two groups. One for those who want to do the 1 mile walk\, the other group for those who want to do a 2 or 3 mile walk. \nThe group meet back up at the cafe for a hot drink and a chat. \n  \nWe welcome all new walkers regardless of walking ability we cater for everyone! Still not sure why not read our blog about the walking group – Link \nLifted walking group – Every Wednesday at 11am – 1pm. Make sure to drop us a text or email to let us know you are coming.\nCall/text us on:07385568990 Or 07384784262 \nOr email us: info@liftedcarerscentre.org.uk
URL:https://www.carersmanchester.org.uk/event/lifted-walking-group-10/2025-10-01/
LOCATION:Wythenshawe Park\, Manchester\, M23 0AB
END:VEVENT
BEGIN:VEVENT
DTSTART;TZID=Europe/Paris:20251001T190000
DTEND;TZID=Europe/Paris:20251001T203000
DTSTAMP:20260423T025836
CREATED:20250211T165514Z
LAST-MODIFIED:20250211T165514Z
UID:10003147-1759345200-1759350600@www.carersmanchester.org.uk
SUMMARY:Together dementia support: Zoom Dementia Carers Training 4 week course
DESCRIPTION:Contact beth@togetherdementiasupport.org
URL:https://www.carersmanchester.org.uk/event/together-dementia-support-zoom-dementia-carers-training-4-week-course/2025-10-01/
END:VEVENT
BEGIN:VEVENT
DTSTART;TZID=Europe/Paris:20251002T100000
DTEND;TZID=Europe/Paris:20251002T120000
DTSTAMP:20260423T025836
CREATED:20250910T123532Z
LAST-MODIFIED:20250910T123716Z
UID:10003994-1759399200-1759406400@www.carersmanchester.org.uk
SUMMARY:Adult Carers Strategy focus group @ Windrush Millennium Centre\, Moss Side
DESCRIPTION:Do you look after a partner\, relative or friend due to their physical or mental illness\, frailty or addiction? Do you or the person you care for live in the Manchester City Council area? \n\n\nHelp shape Manchester’s Adult Carers Strategy by sharing your experience and views at this focus group. \nTo sign up\, please email info@carersmanchester.org.uk or phone 0161 834 6069 [ext. 1133]. (Please leave a message if you don’t get through.) \nPlease note\, this focus group is first-come-first-served\, with 20 places available.
URL:https://www.carersmanchester.org.uk/event/adult-carers-strategy-focus-group-windrush-millennium-centre-moss-side/
LOCATION:Windrush Millennium Centre\, Alexandra Road\, M16 7WD
END:VEVENT
BEGIN:VEVENT
DTSTART;TZID=Europe/Paris:20251002T180000
DTEND;TZID=Europe/Paris:20251002T193000
DTSTAMP:20260423T025836
CREATED:20250904T135429Z
LAST-MODIFIED:20250904T141035Z
UID:10003986-1759428000-1759433400@www.carersmanchester.org.uk
SUMMARY:Free concert for carers
DESCRIPTION:Through our partnership with The Hallé\, we offer free concert tickets for carers at The Bridgewater Hall. We’re excited to announce that tickets are now available for the current season! \n  \n\n\n2025/26 concert dates and times\n\nThursday 2nd October\, 6pm\nSunday 12th October\, 4pm\nSunday 9th November\, 4pm\nSunday 30th November\, 4pm\nThursday 4th December\, 6pm\nSunday 25th January\, 4pm\nSunday 15th February\, 4pm\nThursday 5th March\, 6pm\nSunday 22nd March\, 4pm\nSunday 19th April\, 4pm\nSunday 17th May\, 4pm\nThursday 21st May\, 6pm\n\n\n\n\nKey info:\n\nThe deadline for requesting a ticket is 10 days before each concert.\nYou’re welcome to bring a friend or the person you care for.\nWe will do our best to accommodate any access needs. However\, please note we only have a limited number of aisle seats\, step-free seats and wheelchair spaces.\nPlease arrive early to collect your ticket\nFor more information\, or to request a ticket\, email info@carersmanchester.org.uk\nor call 0161 834 6069\, ext 1133. (Please leave a message if no one answers.)
URL:https://www.carersmanchester.org.uk/event/free-concert-for-carers-2oct/
LOCATION:Bridgewater Hall
END:VEVENT
BEGIN:VEVENT
DTSTART;TZID=Europe/Paris:20251003T140000
DTEND;TZID=Europe/Paris:20251003T153000
DTSTAMP:20260423T025836
CREATED:20250618T155142Z
LAST-MODIFIED:20250618T155142Z
UID:10003921-1759500000-1759505400@www.carersmanchester.org.uk
SUMMARY:Recurring event - Manchester Carers Forum: Burnage Carers Peer Support Group
DESCRIPTION:Please contact the organiser prior to attending\, in case of last minute changes. \n\n1st Friday of every month\, 2-3.30pm\nThe Burnage Library\, Burnage Ln\, Manchester M19 1EW\nContact Daniel on 07415 436382 or daniel@manchestercarersforum.org.uk
URL:https://www.carersmanchester.org.uk/event/burnage-peer-support/2025-10-03/
LOCATION:Burnage Library\, Burnage Lane\, Manchester\, M19 1EW
END:VEVENT
BEGIN:VEVENT
DTSTART;TZID=Europe/Paris:20251006T110000
DTEND;TZID=Europe/Paris:20251006T140000
DTSTAMP:20260423T025836
CREATED:20241213T120553Z
LAST-MODIFIED:20250519T121242Z
UID:10001677-1759748400-1759759200@www.carersmanchester.org.uk
SUMMARY:Lifted: Carers Drop-in
DESCRIPTION:
URL:https://www.carersmanchester.org.uk/event/lifted-carers-drop-in-10/2025-10-06/
LOCATION:Dandelion Community Centre\, Oatlands Road\, Manchester\, M22 1AL
END:VEVENT
BEGIN:VEVENT
DTSTART;TZID=Europe/Paris:20251006T123000
DTEND;TZID=Europe/Paris:20251006T140000
DTSTAMP:20260423T025836
CREATED:20241213T121023Z
LAST-MODIFIED:20241216T113524Z
UID:10001935-1759753800-1759759200@www.carersmanchester.org.uk
SUMMARY:Lifted: Uplift Meal
DESCRIPTION:
URL:https://www.carersmanchester.org.uk/event/lifted-uplift-meal-10/2025-10-06/
LOCATION:Dandelion Community Centre\, Oatlands Road\, Manchester\, M22 1AL
END:VEVENT
BEGIN:VEVENT
DTSTART;TZID=Europe/Paris:20251007T180000
DTEND;TZID=Europe/Paris:20251007T200000
DTSTAMP:20260423T025836
CREATED:20250910T123131Z
LAST-MODIFIED:20250910T124333Z
UID:10003993-1759860000-1759867200@www.carersmanchester.org.uk
SUMMARY:Adult Carers Strategy focus group - ONLINE
DESCRIPTION:Do you look after a partner\, relative or friend due to their physical or mental illness\, frailty or addiction? Do you or the person you care for live in the Manchester City Council area? \n\n\nHelp shape Manchester’s Adult Carers Strategy by sharing your experience and views at this online focus group. \nTo sign up\, please email info@carersmanchester.org.uk or phone 0161 834 6069 [ext. 1133]. (Please leave a message if you don’t get through.) \nPlease note\, this focus group is first-come-first-served\, with 20 places available. The meeting link will be sent to you in advance.
URL:https://www.carersmanchester.org.uk/event/onlinefocusgroup/
LOCATION:online
END:VEVENT
BEGIN:VEVENT
DTSTART;TZID=Europe/Paris:20251008T103000
DTEND;TZID=Europe/Paris:20251008T120000
DTSTAMP:20260423T025836
CREATED:20250403T103051Z
LAST-MODIFIED:20250403T103051Z
UID:10003266-1759919400-1759924800@www.carersmanchester.org.uk
SUMMARY:Move and Live Well with Parkinson's class- North Manchester
DESCRIPTION:Led by experienced dance artist Jody\, this relaxed and fun session is for anyone living with Parkinson’s and their support network. Sessions can be taken seated or standing and adapted for anybody. \nSessions will begin sitting with gentle movements focusing on mobility and body awareness. Using a wide range of music\, sessions will develop physical strength\, spacial awareness\, balance and motor skills. \nSessions are £3\, first session free. There will be refreshments provided and social time included. Partners/carers are encouraged to join. Bring water\, comfortable loose clothing and supportive shoes. \nThere is a small car park at the church\, as well as on street parking. The venue is accessible by a ramp and there are accessible facilities. \nNo need to book\, just run up. For more info email manchester@livewellanddance.org.uk
URL:https://www.carersmanchester.org.uk/event/move-and-live-well-with-parkinsons-class-north-manchester/2025-10-08/
LOCATION:Crumpsall Methodist Church\, Lansdowne Road\, Manchester\, M8 5ST
END:VEVENT
BEGIN:VEVENT
DTSTART;TZID=Europe/Paris:20251008T110000
DTEND;TZID=Europe/Paris:20251008T130000
DTSTAMP:20260423T025836
CREATED:20250117T135335Z
LAST-MODIFIED:20250117T135442Z
UID:10002532-1759921200-1759928400@www.carersmanchester.org.uk
SUMMARY:Lifted: Walking Group
DESCRIPTION:Text from organiser: \nEvery Wednesday\, staff and carers and family who attend Lifted. Meet up for a lovely walk around Wythenshawe park. \nThe group meet up at the Cafe from there they set off as a group. Half way around the walk the group splits into two groups. One for those who want to do the 1 mile walk\, the other group for those who want to do a 2 or 3 mile walk. \nThe group meet back up at the cafe for a hot drink and a chat. \n  \nWe welcome all new walkers regardless of walking ability we cater for everyone! Still not sure why not read our blog about the walking group – Link \nLifted walking group – Every Wednesday at 11am – 1pm. Make sure to drop us a text or email to let us know you are coming.\nCall/text us on:07385568990 Or 07384784262 \nOr email us: info@liftedcarerscentre.org.uk
URL:https://www.carersmanchester.org.uk/event/lifted-walking-group-10/2025-10-08/
LOCATION:Wythenshawe Park\, Manchester\, M23 0AB
END:VEVENT
BEGIN:VEVENT
DTSTART;TZID=Europe/Paris:20251008T190000
DTEND;TZID=Europe/Paris:20251008T203000
DTSTAMP:20260423T025836
CREATED:20250211T165514Z
LAST-MODIFIED:20250211T165514Z
UID:10003148-1759950000-1759955400@www.carersmanchester.org.uk
SUMMARY:Together dementia support: Zoom Dementia Carers Training 4 week course
DESCRIPTION:Contact beth@togetherdementiasupport.org
URL:https://www.carersmanchester.org.uk/event/together-dementia-support-zoom-dementia-carers-training-4-week-course/2025-10-08/
END:VEVENT
END:VCALENDAR