BEGIN:VCALENDAR
VERSION:2.0
PRODID:-//The Carers Manchester Contact Point - ECPv6.15.18//NONSGML v1.0//EN
CALSCALE:GREGORIAN
METHOD:PUBLISH
X-WR-CALNAME:The Carers Manchester Contact Point
X-ORIGINAL-URL:https://www.carersmanchester.org.uk
X-WR-CALDESC:Events for The Carers Manchester Contact Point
REFRESH-INTERVAL;VALUE=DURATION:PT1H
X-Robots-Tag:noindex
X-PUBLISHED-TTL:PT1H
BEGIN:VTIMEZONE
TZID:Europe/Paris
BEGIN:DAYLIGHT
TZOFFSETFROM:+0100
TZOFFSETTO:+0200
TZNAME:CEST
DTSTART:20230326T010000
END:DAYLIGHT
BEGIN:STANDARD
TZOFFSETFROM:+0200
TZOFFSETTO:+0100
TZNAME:CET
DTSTART:20231029T010000
END:STANDARD
BEGIN:DAYLIGHT
TZOFFSETFROM:+0100
TZOFFSETTO:+0200
TZNAME:CEST
DTSTART:20240331T010000
END:DAYLIGHT
BEGIN:STANDARD
TZOFFSETFROM:+0200
TZOFFSETTO:+0100
TZNAME:CET
DTSTART:20241027T010000
END:STANDARD
BEGIN:DAYLIGHT
TZOFFSETFROM:+0100
TZOFFSETTO:+0200
TZNAME:CEST
DTSTART:20250330T010000
END:DAYLIGHT
BEGIN:STANDARD
TZOFFSETFROM:+0200
TZOFFSETTO:+0100
TZNAME:CET
DTSTART:20251026T010000
END:STANDARD
BEGIN:DAYLIGHT
TZOFFSETFROM:+0100
TZOFFSETTO:+0200
TZNAME:CEST
DTSTART:20260329T010000
END:DAYLIGHT
BEGIN:STANDARD
TZOFFSETFROM:+0200
TZOFFSETTO:+0100
TZNAME:CET
DTSTART:20261025T010000
END:STANDARD
END:VTIMEZONE
BEGIN:VEVENT
DTSTART;TZID=Europe/Paris:20250129T110000
DTEND;TZID=Europe/Paris:20250129T130000
DTSTAMP:20260423T053258
CREATED:20250117T135335Z
LAST-MODIFIED:20250117T135442Z
UID:10002496-1738148400-1738155600@www.carersmanchester.org.uk
SUMMARY:Lifted: Walking Group
DESCRIPTION:Text from organiser: \nEvery Wednesday\, staff and carers and family who attend Lifted. Meet up for a lovely walk around Wythenshawe park. \nThe group meet up at the Cafe from there they set off as a group. Half way around the walk the group splits into two groups. One for those who want to do the 1 mile walk\, the other group for those who want to do a 2 or 3 mile walk. \nThe group meet back up at the cafe for a hot drink and a chat. \n  \nWe welcome all new walkers regardless of walking ability we cater for everyone! Still not sure why not read our blog about the walking group – Link \nLifted walking group – Every Wednesday at 11am – 1pm. Make sure to drop us a text or email to let us know you are coming.\nCall/text us on:07385568990 Or 07384784262 \nOr email us: info@liftedcarerscentre.org.uk
URL:https://www.carersmanchester.org.uk/event/lifted-walking-group-10/2025-01-29/
LOCATION:Wythenshawe Park\, Manchester\, M23 0AB
END:VEVENT
BEGIN:VEVENT
DTSTART;TZID=Europe/Paris:20250129T103000
DTEND;TZID=Europe/Paris:20250129T123000
DTSTAMP:20260423T053259
CREATED:20250117T142331Z
LAST-MODIFIED:20250117T142331Z
UID:10002555-1738146600-1738153800@www.carersmanchester.org.uk
SUMMARY:Manchester Parent Carer Forum: Family Law – Looked After Children
DESCRIPTION:Text from organiser: \nThis session will be delivered by students from The University of Law and is FREE to book for parents and carers of children and young people with Special Educational Needs and/or Disabilities (SEND) in Manchester. \nThe presentation will cover: \n\nChild in Need and the duties of the Local Authority (LA)\n\nSection 17 of the Children’s Act : Duty to children in need – what is a Child in Need?\nLooked after in care of the LA\nSection 20 of the Children’s Act\n\n\nParental Responsibility (PR)\n\nWho has PR?\nWhat happens when the child turns 18?\nPerhaps also why does it matter?\n\n\nContact\n\nLong term foster care\nSection 34 of the Children’s Act\nTypes of contact – supervised and unsupervised\nRight to contact\n\n\nBest interests of the child & court proceedings\n\nSection 1 of the Children’s Act\nPublic Law Outline (PLO) meetings\nEntitlement to legal aid\n\n\n\nLunch will be provided at the end of the session. \nPlease let us know if you need any help with booking a place or with transportation to/from the venue. \n\nAbout the Trainers:\nThe session will be delivered by students from The University of Law\, with thanks to Fay Sayers (Senior Tutor & BPC LLM Supervisor\, Pro Bono Co-ordinator/Supervising Solicitor\, and Fellow of the HEA at The University of Law) for coordinating the session. \nAcknowledgements:\nWe are also grateful to the SEND Local Offer for making this possible. \n  \nOnline Event click here
URL:https://www.carersmanchester.org.uk/event/manchester-parent-carer-forum-family-law-looked-after-children/
LOCATION:online
END:VEVENT
BEGIN:VEVENT
DTSTART;TZID=Europe/Paris:20250127T190000
DTEND;TZID=Europe/Paris:20250127T203000
DTSTAMP:20260423T053259
CREATED:20241219T105759Z
LAST-MODIFIED:20250115T113522Z
UID:10002415-1738004400-1738009800@www.carersmanchester.org.uk
SUMMARY:Time For You - Carers short breaks workshop (online)
DESCRIPTION:An online workshop about what short breaks unpaid carers need in Manchester.\n  \nWe want to hear from you…\n· Do you get time for yourself? \n· What support you would need to take a break of your choice? \n· What breaks and activities are currently available? \n· What more is needed? \n  \nThis is one of several workshops we are holding to hear carers’ views. We will use these discussions to improve opportunities for carers in Manchester. The consultation is open until 31 January 2025. \n  \nOur  workshops are friendly and engaging. For your time you will receive a shopping voucher for £20. \n  \nPlease register for one of the workshops on Eventbrite. \n  \nYou can also take our survey for a chance to win a £40 voucher. \n 
URL:https://www.carersmanchester.org.uk/event/time-for-you-carers-short-breaks-workshop/2025-01-27/
LOCATION:online
END:VEVENT
BEGIN:VEVENT
DTSTART;TZID=Europe/Paris:20250127T140000
DTEND;TZID=Europe/Paris:20250127T153000
DTSTAMP:20260423T053259
CREATED:20250115T112749Z
LAST-MODIFIED:20250122T141735Z
UID:10002431-1737986400-1737991800@www.carersmanchester.org.uk
SUMMARY:Time For You - Carers short breaks workshop (online)
DESCRIPTION:An online workshop about what short breaks unpaid carers need in Manchester.\n  \nWe want to hear from you…\n· Do you get time for yourself? \n· What support you would need to take a break of your choice? \n· What breaks and activities are currently available? \n· What more is needed? \n  \nThis is one of several friendly and engaging workshops we are holding to hear carers’ views. We will use these discussions to improve opportunities for carers in Manchester. The consultation is open until 31 January 2025. \n  \nPlease register for a workshop on Eventbrite. For your time you will receive a shopping voucher for £20. \n  \nYou can also take our survey for a chance to win a £40 voucher. \n  \n \n  \n 
URL:https://www.carersmanchester.org.uk/event/time-for-you-carers-short-breaks-workshop-online-2/
LOCATION:online
END:VEVENT
BEGIN:VEVENT
DTSTART;TZID=Europe/Paris:20250127T123000
DTEND;TZID=Europe/Paris:20250127T140000
DTSTAMP:20260423T053259
CREATED:20241213T121023Z
LAST-MODIFIED:20241216T113524Z
UID:10001899-1737981000-1737986400@www.carersmanchester.org.uk
SUMMARY:Lifted: Uplift Meal
DESCRIPTION:
URL:https://www.carersmanchester.org.uk/event/lifted-uplift-meal-10/2025-01-27/
LOCATION:Dandelion Community Centre\, Oatlands Road\, Manchester\, M22 1AL
END:VEVENT
BEGIN:VEVENT
DTSTART;TZID=Europe/Paris:20250127T110000
DTEND;TZID=Europe/Paris:20250127T140000
DTSTAMP:20260423T053259
CREATED:20241213T120553Z
LAST-MODIFIED:20250519T121242Z
UID:10001641-1737975600-1737986400@www.carersmanchester.org.uk
SUMMARY:Lifted: Carers Drop-in
DESCRIPTION:
URL:https://www.carersmanchester.org.uk/event/lifted-carers-drop-in-10/2025-01-27/
LOCATION:Dandelion Community Centre\, Oatlands Road\, Manchester\, M22 1AL
END:VEVENT
BEGIN:VEVENT
DTSTART;TZID=Europe/Paris:20250126T160000
DTEND;TZID=Europe/Paris:20250126T173000
DTSTAMP:20260423T053259
CREATED:20241218T161142Z
LAST-MODIFIED:20241218T163103Z
UID:10002412-1737907200-1737912600@www.carersmanchester.org.uk
SUMMARY:Free concert for carers
DESCRIPTION:Through our partnership with The Hallé\, we offer free concerts for carers at The Bridgewater Hall. \nWe’re excited to announce that tickets are now available for the current season! \nKey info\n\nThe deadline for requesting a ticket is 10 days before each concert.\nYou’re welcome to bring a friend or the person you care for.\nWe will do our best to accommodate any access needs. However\, please note we only have a limited number of aisle seats\, step-free seats and wheelchair spaces.\nPlease arrive early to collect your ticket\nFor more information\, or to request a ticket\, email admin@carersmanchester.org.uk\nor call 0161 834 6069\, ext 1133. (Please leave a message if no one answers.)\n\n  \nThis concert date and time\nSunday\, 26th January\, 4pm \n  \nAll 2025 concert dates and times\n 
URL:https://www.carersmanchester.org.uk/event/free-concert-for-carers-5/
LOCATION:Bridgewater Hall
END:VEVENT
BEGIN:VEVENT
DTSTART;TZID=Europe/Paris:20250123T103000
DTEND;TZID=Europe/Paris:20250123T120000
DTSTAMP:20260423T053259
CREATED:20250127T122259Z
LAST-MODIFIED:20250127T122259Z
UID:10002556-1737628200-1737633600@www.carersmanchester.org.uk
SUMMARY:LMCP: Cost of living support group
DESCRIPTION:
URL:https://www.carersmanchester.org.uk/event/lmcp-cost-of-living-support-group/2025-01-23/
LOCATION:The Guidance Hub\, 389 Waterloo Road\, Manchester\, M8 8EP
END:VEVENT
BEGIN:VEVENT
DTSTART;TZID=Europe/Paris:20250123T100000
DTEND;TZID=Europe/Paris:20250123T130000
DTSTAMP:20260423T053259
CREATED:20241213T130946Z
LAST-MODIFIED:20241213T130946Z
UID:10001636-1737626400-1737637200@www.carersmanchester.org.uk
SUMMARY:Understanding Communication Differences (North Manchester)
DESCRIPTION:Text from organizer: \nThis session is aimed at parents/carers of PRIMARY and SECONDARY school-aged children.  \nNOTE: Other sessions in Central and South Manchester are also available.\n \nThis workshop is led by a Specialist Speech and Language Therapist in the Social Communication Pathway and will provide the opportunity to: \n\nDevelop your understanding of neurodiversity and communication.\nConsider different preferences and characteristics of communication.\nThink about the factors that can impact on communication.\nConsider your own communication.\nThink about environmental adjustments to support your child to communicate more easily.\nHear about the experiences of other families and share your own experiences if you wish.\n\nBiscuits\, tea and coffee will be provided. \nIf you need an interpreter to access the session\, please email mft.scppostdiagnosticworkshops@nhs.net with at least a week’s notice before the session. Each session can only cater for one interpreter so please contact the SCP team ASAP if you require one. \nAny queries about this session can be directed to: mft.scppostdiagnosticworkshops@nhs.net \nClick here for more information
URL:https://www.carersmanchester.org.uk/event/understanding-communication-differences-north-manchester/
LOCATION:Broadhurst Community Centre\, Lightbowne Rd\, Moston Manchester\, M40 0FJ\, United Kingdom
END:VEVENT
BEGIN:VEVENT
DTSTART;TZID=Europe/Paris:20250122T120000
DTEND;TZID=Europe/Paris:20250122T133000
DTSTAMP:20260423T053259
CREATED:20250115T112457Z
LAST-MODIFIED:20250122T141615Z
UID:10002430-1737547200-1737552600@www.carersmanchester.org.uk
SUMMARY:Time For You - Carers short breaks workshop (online)
DESCRIPTION:UPDATE: This workshop has been cancelled due to illness. If you have registered\, we will be in touch about a new date.\n  \nAn online workshop about what short breaks unpaid carers need in Manchester.\n  \nWe want to hear from you…\n· Do you get time for yourself? \n· What support you would need to take a break of your choice? \n· What breaks and activities are currently available? \n· What more is needed? \n  \nThis is one of several friendly and engaging workshops we are holding to hear carers’ views. We will use these discussions to improve opportunities for carers in Manchester. The consultation is open until 31 January 2025. \n  \nPlease register for a workshop on Eventbrite. For your time you will receive a shopping voucher for £20. \n  \nYou can also take our survey for a chance to win a £40 voucher. \n 
URL:https://www.carersmanchester.org.uk/event/time-for-you-carers-short-breaks-workshop-online/
LOCATION:online
END:VEVENT
BEGIN:VEVENT
DTSTART;TZID=Europe/Paris:20250122T110000
DTEND;TZID=Europe/Paris:20250122T130000
DTSTAMP:20260423T053259
CREATED:20250117T135335Z
LAST-MODIFIED:20250117T135442Z
UID:10002495-1737543600-1737550800@www.carersmanchester.org.uk
SUMMARY:Lifted: Walking Group
DESCRIPTION:Text from organiser: \nEvery Wednesday\, staff and carers and family who attend Lifted. Meet up for a lovely walk around Wythenshawe park. \nThe group meet up at the Cafe from there they set off as a group. Half way around the walk the group splits into two groups. One for those who want to do the 1 mile walk\, the other group for those who want to do a 2 or 3 mile walk. \nThe group meet back up at the cafe for a hot drink and a chat. \n  \nWe welcome all new walkers regardless of walking ability we cater for everyone! Still not sure why not read our blog about the walking group – Link \nLifted walking group – Every Wednesday at 11am – 1pm. Make sure to drop us a text or email to let us know you are coming.\nCall/text us on:07385568990 Or 07384784262 \nOr email us: info@liftedcarerscentre.org.uk
URL:https://www.carersmanchester.org.uk/event/lifted-walking-group-10/2025-01-22/
LOCATION:Wythenshawe Park\, Manchester\, M23 0AB
END:VEVENT
BEGIN:VEVENT
DTSTART;TZID=Europe/Paris:20250122T093000
DTEND;TZID=Europe/Paris:20250122T113000
DTSTAMP:20260423T053259
CREATED:20250109T155853Z
LAST-MODIFIED:20250109T155853Z
UID:10002422-1737538200-1737545400@www.carersmanchester.org.uk
SUMMARY:ACCG: Carers Walk - Sale Water Park
DESCRIPTION:
URL:https://www.carersmanchester.org.uk/event/accg-carers-walk-sale-water-park/
LOCATION:Claremont Resource Centre\, 2 Jarvis Road\, Manchester\, M15 5FS
END:VEVENT
BEGIN:VEVENT
DTSTART;TZID=Europe/Paris:20250121T100000
DTEND;TZID=Europe/Paris:20250121T130000
DTSTAMP:20260423T053259
CREATED:20241218T143849Z
LAST-MODIFIED:20241219T165044Z
UID:10002411-1737453600-1737464400@www.carersmanchester.org.uk
SUMMARY:Employcare Celebration
DESCRIPTION:This event is open to all unpaid carers\, including those who participated in our free employment coaching project and Carers Manchester Lived Experience panel members. \nPlease come along to enjoy lunch with other carers\, learn more about Employcare\, and share your experiences of finding work. \nTo confirm your place please call 0161 834 6069 [ext. 1133] or email admin@carersmanchester.org.uk.
URL:https://www.carersmanchester.org.uk/event/employcare-celebration/
LOCATION:St James Church\, 95a Princess Road\, Manchester\, M14 4TH
END:VEVENT
BEGIN:VEVENT
DTSTART;TZID=Europe/Paris:20250120T160000
DTEND;TZID=Europe/Paris:20250120T180000
DTSTAMP:20260423T053259
CREATED:20250117T134537Z
LAST-MODIFIED:20250117T134537Z
UID:10002493-1737388800-1737396000@www.carersmanchester.org.uk
SUMMARY:Lifted: Women’s Book Club
DESCRIPTION:Text from organiser: \nDid you know that we have a fortnightly book club? \nThe Lifted WOW team\, were having a chat at the start of the year about all the new books that they had been given. It then turned into a full on conversation between the WOW team and the Lifted team. We then realised we all love books! We could also spend hours talking about books. Myself\, Emma Moo and Sue then said why not set up a book group? \n  \nSo that is what we did. In January 2024 we set up the Lifted women’s book club. \nWe meet every other Monday at the Dandelion Hub between 4pm and 6pm. \nWe are not your typical book club\, as Emma Moo would say we are “ just an anti-typical book club” We don’t have a set book that we read each week\, we just talk about what book we are currently enjoying and share if we would recommend it out to the group. \nWe also count Paper book\, eBook\, Audio Book and podcast towards our book count for the year! \nIf you fancy being part of our women focused book group\, message kate@liftedmcr.org.uk or ring 07538589345
URL:https://www.carersmanchester.org.uk/event/lifted-womens-book-club/2025-01-20/
LOCATION:Dandelion Community Centre\, Oatlands Road\, Manchester\, M22 1AL
END:VEVENT
BEGIN:VEVENT
DTSTART;TZID=Europe/Paris:20250120T123000
DTEND;TZID=Europe/Paris:20250120T140000
DTSTAMP:20260423T053259
CREATED:20250117T132912Z
LAST-MODIFIED:20250117T132912Z
UID:10002433-1737376200-1737381600@www.carersmanchester.org.uk
SUMMARY:Lifted: Uplift meal
DESCRIPTION:Text from organiser: \nEvery Monday as part of the Lifted’s Women of Wythenshawe Project\, our WOW Leaders are making a hot meal for those who want to come join us at the Lifted’s drop in session. \nWe know people are struggling between eating and paying bills\, the WOW leaders want to help ease this worry by opening the Lifted’s door to those who want a warm place to be and have something to eat and chat with the #LiftedFamily for a few hours. \nFood will be available from 1pm for those who wish to join us. We are catering to 25 people each week\, but have room to expand with demand. \nMeals that we are offering will range from soup and a roll\, stew to rice puddings. \nWe would also like to know what you would like the WOW leaders to make each week. Email us and we can add it to the wish list \nIf you require a vegetarian meal\, please let us know and we can cater for you. Can you also please let us know of any dietary / allergies requirements. Email – kate@liftedmcr.org.uk
URL:https://www.carersmanchester.org.uk/event/lifted-uplift-meal-12/
LOCATION:Dandelion Community Centre\, Oatlands Road\, Manchester\, M22 1AL
END:VEVENT
BEGIN:VEVENT
DTSTART;TZID=Europe/Paris:20250120T123000
DTEND;TZID=Europe/Paris:20250120T140000
DTSTAMP:20260423T053259
CREATED:20241213T121023Z
LAST-MODIFIED:20241216T113524Z
UID:10001898-1737376200-1737381600@www.carersmanchester.org.uk
SUMMARY:Lifted: Uplift Meal
DESCRIPTION:
URL:https://www.carersmanchester.org.uk/event/lifted-uplift-meal-10/2025-01-20/
LOCATION:Dandelion Community Centre\, Oatlands Road\, Manchester\, M22 1AL
END:VEVENT
BEGIN:VEVENT
DTSTART;TZID=Europe/Paris:20250120T110000
DTEND;TZID=Europe/Paris:20250120T140000
DTSTAMP:20260423T053259
CREATED:20241213T120553Z
LAST-MODIFIED:20250519T121242Z
UID:10001640-1737370800-1737381600@www.carersmanchester.org.uk
SUMMARY:Lifted: Carers Drop-in
DESCRIPTION:
URL:https://www.carersmanchester.org.uk/event/lifted-carers-drop-in-10/2025-01-20/
LOCATION:Dandelion Community Centre\, Oatlands Road\, Manchester\, M22 1AL
END:VEVENT
BEGIN:VEVENT
DTSTART;TZID=Europe/Paris:20250114T130000
DTEND;TZID=Europe/Paris:20250114T150000
DTSTAMP:20260423T053259
CREATED:20241212T135616Z
LAST-MODIFIED:20241212T135616Z
UID:10001629-1736859600-1736866800@www.carersmanchester.org.uk
SUMMARY:Carers Manchester South: Drum Circle
DESCRIPTION:
URL:https://www.carersmanchester.org.uk/event/carers-manchester-south-drum-circle-2/
LOCATION:Amani Centre\, Moss Lane East\, Manchester\, M16 7DG
END:VEVENT
BEGIN:VEVENT
DTSTART;TZID=Europe/Paris:20250113T131500
DTEND;TZID=Europe/Paris:20250113T151500
DTSTAMP:20260423T053259
CREATED:20241219T164514Z
LAST-MODIFIED:20241219T164514Z
UID:10002417-1736774100-1736781300@www.carersmanchester.org.uk
SUMMARY:Lived Experience Panel: Monthly meeting
DESCRIPTION:Monthly meeting of the Carers Manchester Lived Experience Panel. \nThis one will be held online. \n  \nThis event is for current members of the Carers Manchester Lived Experience Panel. If you are interested to join the panel\, you can more information on our website. \n  \n 
URL:https://www.carersmanchester.org.uk/event/lived-experience-panel-monthly-meeting/
LOCATION:online
END:VEVENT
BEGIN:VEVENT
DTSTART;TZID=Europe/Paris:20250113T123000
DTEND;TZID=Europe/Paris:20250113T140000
DTSTAMP:20260423T053259
CREATED:20241213T121023Z
LAST-MODIFIED:20241216T113524Z
UID:10001897-1736771400-1736776800@www.carersmanchester.org.uk
SUMMARY:Lifted: Uplift Meal
DESCRIPTION:
URL:https://www.carersmanchester.org.uk/event/lifted-uplift-meal-10/2025-01-13/
LOCATION:Dandelion Community Centre\, Oatlands Road\, Manchester\, M22 1AL
END:VEVENT
BEGIN:VEVENT
DTSTART;TZID=Europe/Paris:20250113T110000
DTEND;TZID=Europe/Paris:20250113T140000
DTSTAMP:20260423T053259
CREATED:20241213T120553Z
LAST-MODIFIED:20250519T121242Z
UID:10001639-1736766000-1736776800@www.carersmanchester.org.uk
SUMMARY:Lifted: Carers Drop-in
DESCRIPTION:
URL:https://www.carersmanchester.org.uk/event/lifted-carers-drop-in-10/2025-01-13/
LOCATION:Dandelion Community Centre\, Oatlands Road\, Manchester\, M22 1AL
END:VEVENT
BEGIN:VEVENT
DTSTART;TZID=Europe/Paris:20250111T103000
DTEND;TZID=Europe/Paris:20250111T123000
DTSTAMP:20260423T053259
CREATED:20250109T151821Z
LAST-MODIFIED:20250109T152133Z
UID:10002423-1736591400-1736598600@www.carersmanchester.org.uk
SUMMARY:Together Dementia Support: Dunham Massey walk
DESCRIPTION:
URL:https://www.carersmanchester.org.uk/event/together-dementia-support-dunham-massey-walk/
END:VEVENT
BEGIN:VEVENT
DTSTART;TZID=Europe/Paris:20250109T100000
DTEND;TZID=Europe/Paris:20250109T120000
DTSTAMP:20260423T053259
CREATED:20241213T131708Z
LAST-MODIFIED:20241213T131708Z
UID:10001637-1736416800-1736424000@www.carersmanchester.org.uk
SUMMARY:Parent/Carer Coffee Morning – St. Matthew’s RCHS Neurodiversity in Education
DESCRIPTION:Text from organizer: \nDo you have a neurodivergent* child or young person at St. Matthew’s RC High School? \nIf so\, you are invited to our coffee morning at the school on Thursday\, the 9th of January\, 10am to 12pm. \nThese sessions are a chance for parents and carers to bond through our peer-to-peer support.\nWe’ll also be hosting feedback sessions to gather your thoughts and those of young people\, so we can pass on your comments and ideas to the school staff. Plus\, there are workshops on neurodiversity just waiting for you to dive in and attend! \nIf you have any questions or feedback\, please send them to jodie.shepherd@manchesterparentcarerforum.org.uk \n* Neurodivergent is an umbrella term for anyone with Attention Deficit Hyperactivity Disorder (ADHD)\, autism\, Developmental Coordination Disorder (DCD or dyspraxia)\, Developmental Language Disorder (DLD)\, dyslexia\, learning disability\, Tourette’s Syndrome\, and any other conditions/differences that are not considered ‘neurotypical’. \n  \nClick here for more information
URL:https://www.carersmanchester.org.uk/event/parent-carer-coffee-morning-st-matthews-rchs-neurodiversity-in-education/
LOCATION:St. Matthew’s RC High School\, Nuthurst Road\, Moston\, Manchester\, M40 0EW\, United Kingdom
END:VEVENT
BEGIN:VEVENT
DTSTART;TZID=Europe/Paris:20250109T091500
DTEND;TZID=Europe/Paris:20250109T110000
DTSTAMP:20260423T053259
CREATED:20241213T132854Z
LAST-MODIFIED:20241213T132854Z
UID:10001638-1736414100-1736420400@www.carersmanchester.org.uk
SUMMARY:SEND Coffee Morning @ Co-op Academy Manchester
DESCRIPTION:Text from organiser: \nCo-op Academy Manchester is hosting us for monthly SEND Coffee Mornings as part of the Neurodiversity in Schools project. \nThese informal sessions are for parents and carers with neurodivergent* children and young people currently going to this school. \nThe coffee mornings aim to: \n\nSupport parents and carers of children with SEND by connecting them to Manchester Parent Carer Forum and other families;\nShare feedback about what’s going well and what could be even better;\nOffer a chance to hear about and help shape developments from the SEND offer at Co-op Academy Manchester.\n\n\n* Neurodivergent is an umbrella term for anyone with Attention Deficit Hyperactivity Disorder (ADHD)\, autism\, Developmental Coordination Disorder (DCD or dyspraxia)\, Developmental Language Disorder (DLD)\, dyslexia\, learning disability\, Tourette’s Syndrome\, and any other conditions/differences that are not considered ‘neurotypical’. \nClick here for more information
URL:https://www.carersmanchester.org.uk/event/send-coffee-morning-co-op-academy-manchester/
LOCATION:Co-op Academy Manchester\, Plant Hill Road\, Higher Blackley\, Manchester\, M9 0WQ\, United Kingdom
END:VEVENT
BEGIN:VEVENT
DTSTART;TZID=Europe/Paris:20250106T123000
DTEND;TZID=Europe/Paris:20250106T140000
DTSTAMP:20260423T053259
CREATED:20241213T121023Z
LAST-MODIFIED:20241216T113524Z
UID:10001631-1736166600-1736172000@www.carersmanchester.org.uk
SUMMARY:Lifted: Uplift Meal
DESCRIPTION:
URL:https://www.carersmanchester.org.uk/event/lifted-uplift-meal-10/2025-01-06/
LOCATION:Dandelion Community Centre\, Oatlands Road\, Manchester\, M22 1AL
END:VEVENT
BEGIN:VEVENT
DTSTART;TZID=Europe/Paris:20250106T110000
DTEND;TZID=Europe/Paris:20250106T140000
DTSTAMP:20260423T053259
CREATED:20241213T120553Z
LAST-MODIFIED:20250519T121242Z
UID:10001630-1736161200-1736172000@www.carersmanchester.org.uk
SUMMARY:Lifted: Carers Drop-in
DESCRIPTION:
URL:https://www.carersmanchester.org.uk/event/lifted-carers-drop-in-10/2025-01-06/
LOCATION:Dandelion Community Centre\, Oatlands Road\, Manchester\, M22 1AL
END:VEVENT
BEGIN:VEVENT
DTSTART;TZID=Europe/Paris:20250103T140000
DTEND;TZID=Europe/Paris:20250103T153000
DTSTAMP:20260423T053259
CREATED:20250618T155142Z
LAST-MODIFIED:20250618T155142Z
UID:10003912-1735912800-1735918200@www.carersmanchester.org.uk
SUMMARY:Recurring event - Manchester Carers Forum: Burnage Carers Peer Support Group
DESCRIPTION:Please contact the organiser prior to attending\, in case of last minute changes. \n\n1st Friday of every month\, 2-3.30pm\nThe Burnage Library\, Burnage Ln\, Manchester M19 1EW\nContact Daniel on 07415 436382 or daniel@manchestercarersforum.org.uk
URL:https://www.carersmanchester.org.uk/event/burnage-peer-support/2025-01-03/
LOCATION:Burnage Library\, Burnage Lane\, Manchester\, M19 1EW
END:VEVENT
BEGIN:VEVENT
DTSTART;TZID=Europe/Paris:20241227T190000
DTEND;TZID=Europe/Paris:20241227T200000
DTSTAMP:20260423T053259
CREATED:20241213T130103Z
LAST-MODIFIED:20241213T130103Z
UID:10001635-1735326000-1735329600@www.carersmanchester.org.uk
SUMMARY:Twilight Trail – Festive Lights Show
DESCRIPTION:Text from organiser: \nLet’s go for a visit to the festive lights trail at Mayfield Park! Join us for a walk around the park\, taking in the beautiful scenery along the Twilight Trail. \n\nA member of the MPCF team will welcome you at the entrance between 6:45 to 7:15pm.\nEntrance timings are strict but\, once inside\, you can stay for as long as you like.\n\nPlease note that you are responsible for your own children’s safety throughout the session. \nAs part of the SEND Community Offer\, this event is FREE to book for families of children and young people with Special Educational Needs and/or Disabilities (SEND) who live in the city of Manchester. \n  \nClick here for more information
URL:https://www.carersmanchester.org.uk/event/twilight-trail-festive-lights-show/
LOCATION:Mayfield Park\, Boardman Gate Entrance\, 11 Baring St\, Manchester\, M1 2PY\, United Kingdom
END:VEVENT
BEGIN:VEVENT
DTSTART;TZID=Europe/Paris:20241217T110000
DTEND;TZID=Europe/Paris:20241217T120000
DTSTAMP:20260423T053259
CREATED:20241126T130740Z
LAST-MODIFIED:20241126T131058Z
UID:10001611-1734433200-1734436800@www.carersmanchester.org.uk
SUMMARY:Festive walk with snacks and drinks
DESCRIPTION:
URL:https://www.carersmanchester.org.uk/event/festive-walk-with-snacks-and-drinks/
END:VEVENT
BEGIN:VEVENT
DTSTART;TZID=Europe/Paris:20241216T110000
DTEND;TZID=Europe/Paris:20241216T140000
DTSTAMP:20260423T053259
CREATED:20241210T112715Z
LAST-MODIFIED:20241210T112715Z
UID:10001628-1734346800-1734357600@www.carersmanchester.org.uk
SUMMARY:Lifted's Family Christmas Party
DESCRIPTION:
URL:https://www.carersmanchester.org.uk/event/lifteds-family-christmas-party/
LOCATION:Dandelion Community Centre\, Oatlands Road\, Manchester\, M22 1AL
END:VEVENT
END:VCALENDAR