BEGIN:VCALENDAR
VERSION:2.0
PRODID:-//The Carers Manchester Contact Point - ECPv6.15.18//NONSGML v1.0//EN
CALSCALE:GREGORIAN
METHOD:PUBLISH
X-WR-CALNAME:The Carers Manchester Contact Point
X-ORIGINAL-URL:https://www.carersmanchester.org.uk
X-WR-CALDESC:Events for The Carers Manchester Contact Point
REFRESH-INTERVAL;VALUE=DURATION:PT1H
X-Robots-Tag:noindex
X-PUBLISHED-TTL:PT1H
BEGIN:VTIMEZONE
TZID:Europe/Paris
BEGIN:DAYLIGHT
TZOFFSETFROM:+0100
TZOFFSETTO:+0200
TZNAME:CEST
DTSTART:20240331T010000
END:DAYLIGHT
BEGIN:STANDARD
TZOFFSETFROM:+0200
TZOFFSETTO:+0100
TZNAME:CET
DTSTART:20241027T010000
END:STANDARD
BEGIN:DAYLIGHT
TZOFFSETFROM:+0100
TZOFFSETTO:+0200
TZNAME:CEST
DTSTART:20250330T010000
END:DAYLIGHT
BEGIN:STANDARD
TZOFFSETFROM:+0200
TZOFFSETTO:+0100
TZNAME:CET
DTSTART:20251026T010000
END:STANDARD
BEGIN:DAYLIGHT
TZOFFSETFROM:+0100
TZOFFSETTO:+0200
TZNAME:CEST
DTSTART:20260329T010000
END:DAYLIGHT
BEGIN:STANDARD
TZOFFSETFROM:+0200
TZOFFSETTO:+0100
TZNAME:CET
DTSTART:20261025T010000
END:STANDARD
END:VTIMEZONE
BEGIN:VEVENT
DTSTART;TZID=Europe/Paris:20250217T131500
DTEND;TZID=Europe/Paris:20250217T151500
DTSTAMP:20260423T023640
CREATED:20241219T164716Z
LAST-MODIFIED:20250213T113320Z
UID:10002418-1739798100-1739805300@www.carersmanchester.org.uk
SUMMARY:Lived Experience Panel: Monthly meeting
DESCRIPTION:Monthly meeting of the Carers Manchester Lived Experience Panel. \nThis one will be held in-person\, venue confirmed with panel members by email. \n  \nThis event is for current members of the Carers Manchester Lived Experience Panel. If you are interested to join the panel\, you can more information on our website. \n 
URL:https://www.carersmanchester.org.uk/event/lived-experience-panel-monthly-meeting-2/
END:VEVENT
BEGIN:VEVENT
DTSTART;TZID=Europe/Paris:20250217T123000
DTEND;TZID=Europe/Paris:20250217T140000
DTSTAMP:20260423T023640
CREATED:20241213T121023Z
LAST-MODIFIED:20241216T113524Z
UID:10001902-1739795400-1739800800@www.carersmanchester.org.uk
SUMMARY:Lifted: Uplift Meal
DESCRIPTION:
URL:https://www.carersmanchester.org.uk/event/lifted-uplift-meal-10/2025-02-17/
LOCATION:Dandelion Community Centre\, Oatlands Road\, Manchester\, M22 1AL
END:VEVENT
BEGIN:VEVENT
DTSTART;TZID=Europe/Paris:20250217T110000
DTEND;TZID=Europe/Paris:20250217T140000
DTSTAMP:20260423T023640
CREATED:20241213T120553Z
LAST-MODIFIED:20250519T121242Z
UID:10001644-1739790000-1739800800@www.carersmanchester.org.uk
SUMMARY:Lifted: Carers Drop-in
DESCRIPTION:
URL:https://www.carersmanchester.org.uk/event/lifted-carers-drop-in-10/2025-02-17/
LOCATION:Dandelion Community Centre\, Oatlands Road\, Manchester\, M22 1AL
END:VEVENT
BEGIN:VEVENT
DTSTART;TZID=Europe/Paris:20250213T103000
DTEND;TZID=Europe/Paris:20250213T120000
DTSTAMP:20260423T023640
CREATED:20250127T122259Z
LAST-MODIFIED:20250127T122259Z
UID:10002559-1739442600-1739448000@www.carersmanchester.org.uk
SUMMARY:LMCP: Cost of living support group
DESCRIPTION:
URL:https://www.carersmanchester.org.uk/event/lmcp-cost-of-living-support-group/2025-02-13/
LOCATION:The Guidance Hub\, 389 Waterloo Road\, Manchester\, M8 8EP
END:VEVENT
BEGIN:VEVENT
DTSTART;TZID=Europe/Paris:20250212T110000
DTEND;TZID=Europe/Paris:20250212T130000
DTSTAMP:20260423T023640
CREATED:20250117T135335Z
LAST-MODIFIED:20250117T135442Z
UID:10002498-1739358000-1739365200@www.carersmanchester.org.uk
SUMMARY:Lifted: Walking Group
DESCRIPTION:Text from organiser: \nEvery Wednesday\, staff and carers and family who attend Lifted. Meet up for a lovely walk around Wythenshawe park. \nThe group meet up at the Cafe from there they set off as a group. Half way around the walk the group splits into two groups. One for those who want to do the 1 mile walk\, the other group for those who want to do a 2 or 3 mile walk. \nThe group meet back up at the cafe for a hot drink and a chat. \n  \nWe welcome all new walkers regardless of walking ability we cater for everyone! Still not sure why not read our blog about the walking group – Link \nLifted walking group – Every Wednesday at 11am – 1pm. Make sure to drop us a text or email to let us know you are coming.\nCall/text us on:07385568990 Or 07384784262 \nOr email us: info@liftedcarerscentre.org.uk
URL:https://www.carersmanchester.org.uk/event/lifted-walking-group-10/2025-02-12/
LOCATION:Wythenshawe Park\, Manchester\, M23 0AB
END:VEVENT
BEGIN:VEVENT
DTSTART;TZID=Europe/Paris:20250212T103000
DTEND;TZID=Europe/Paris:20250212T123000
DTSTAMP:20260423T023640
CREATED:20250113T090408Z
LAST-MODIFIED:20250113T090408Z
UID:10002425-1739356200-1739363400@www.carersmanchester.org.uk
SUMMARY:ACCG: Carers 6 Week Ceramics Workshop
DESCRIPTION:
URL:https://www.carersmanchester.org.uk/event/accg-carers-6-week-ceramics-workshop/2025-02-12/
LOCATION:Claremont Resource Centre\, 2 Jarvis Road\, Manchester\, M15 5FS
END:VEVENT
BEGIN:VEVENT
DTSTART;TZID=Europe/Paris:20250212T100000
DTEND;TZID=Europe/Paris:20250212T120000
DTSTAMP:20260423T023640
CREATED:20250224T131107Z
LAST-MODIFIED:20250224T131107Z
UID:10003213-1739354400-1739361600@www.carersmanchester.org.uk
SUMMARY:SEND Local Offer Drop In
DESCRIPTION:Manchester Local Offer is designed for children and young people with SEND up to the age of 25 and their parents/carers in the Manchester City Council area. The monthly drop ins are an opportunity for you to talk to a range of services and groups for advice\, information and support. \nNext drop in:\nWednesday 12th March\, 10am-12pm\n@ Manchester Settlement\, Openshaw \nFor more information about the Manchester Local Offer\, see their web page.
URL:https://www.carersmanchester.org.uk/event/send-local-offer-drop-in-4/
LOCATION:Manchester Settlement\, 1328-1330 Ashton Old Road\, Openshaw\, M11 1JG
END:VEVENT
BEGIN:VEVENT
DTSTART;TZID=Europe/Paris:20250212T100000
DTEND;TZID=Europe/Paris:20250212T120000
DTSTAMP:20260423T023640
CREATED:20250211T125828Z
LAST-MODIFIED:20250211T125828Z
UID:10003107-1739354400-1739361600@www.carersmanchester.org.uk
SUMMARY:SEND Local Offer Drop In
DESCRIPTION:Manchester Local Offer is designed for children and young people with SEND up to the age of 25 and their parents/carers in the Manchester City Council area. Their monthly drop ins are an opportunity for you to talk to a range of services and groups for advice\, information and support. \nNext drop in:\n12th February\, 10am-12pm\n@ The Power House\, 140 Raby Street\, M14 4SL \nFor more information about the Manchester Local Offer\, see their web page.
URL:https://www.carersmanchester.org.uk/event/send-local-offer-drop-in-3/
LOCATION:Moss Side Power House\, 140 Raby Street\, Manchester\, M14 4SL
END:VEVENT
BEGIN:VEVENT
DTSTART;TZID=Europe/Paris:20250211T123000
DTEND;TZID=Europe/Paris:20250211T140000
DTSTAMP:20260423T023640
CREATED:20250128T094532Z
LAST-MODIFIED:20250207T132401Z
UID:10003099-1739277000-1739282400@www.carersmanchester.org.uk
SUMMARY:Time for you - Carers short breaks workshop (in person)
DESCRIPTION:An in-person workshop about what short breaks unpaid carers need in Manchester.\n  \nWe want to hear from you…\n· Do you get time for yourself? \n· What support you would need to take a break of your choice? \n· What breaks and activities are currently available? \n· What more is needed? \n  \nThis is one of several friendly and engaging workshops we are holding to hear carers’ views. We will use these discussions to improve opportunities for carers in Manchester. \n  \nPlease register for a workshop on Eventbrite. For your time you will receive a shopping voucher for £20. \n 
URL:https://www.carersmanchester.org.uk/event/time-for-you-carers-short-breaks-workshop-in-person/
LOCATION:Greenfish Resource Centre\, 46 - 50 Oldham Street\, Manchester\, M4 2LE\, United Kingdom
END:VEVENT
BEGIN:VEVENT
DTSTART;TZID=Europe/Paris:20250211T113000
DTEND;TZID=Europe/Paris:20250211T133000
DTSTAMP:20260423T023640
CREATED:20250204T141106Z
LAST-MODIFIED:20250204T141106Z
UID:10003105-1739273400-1739280600@www.carersmanchester.org.uk
SUMMARY:Walk in Whitworth Park
DESCRIPTION:
URL:https://www.carersmanchester.org.uk/event/walk-in-whitworth-park/
LOCATION:Whitworth Park\, Manchester\, United Kingdom
END:VEVENT
BEGIN:VEVENT
DTSTART;TZID=Europe/Paris:20250211T113000
DTEND;TZID=Europe/Paris:20250211T133000
DTSTAMP:20260423T023640
CREATED:20250204T135843Z
LAST-MODIFIED:20250204T135843Z
UID:10003104-1739273400-1739280600@www.carersmanchester.org.uk
SUMMARY:Together Dementia Support: Winter Walks
DESCRIPTION: 
URL:https://www.carersmanchester.org.uk/event/together-dementia-support-winter-walks-4/
LOCATION:Whitworth Park\, Manchester\, United Kingdom
END:VEVENT
BEGIN:VEVENT
DTSTART;TZID=Europe/Paris:20250210T123000
DTEND;TZID=Europe/Paris:20250210T140000
DTSTAMP:20260423T023640
CREATED:20241213T121023Z
LAST-MODIFIED:20241216T113524Z
UID:10001901-1739190600-1739196000@www.carersmanchester.org.uk
SUMMARY:Lifted: Uplift Meal
DESCRIPTION:
URL:https://www.carersmanchester.org.uk/event/lifted-uplift-meal-10/2025-02-10/
LOCATION:Dandelion Community Centre\, Oatlands Road\, Manchester\, M22 1AL
END:VEVENT
BEGIN:VEVENT
DTSTART;TZID=Europe/Paris:20250210T110000
DTEND;TZID=Europe/Paris:20250210T140000
DTSTAMP:20260423T023640
CREATED:20241213T120553Z
LAST-MODIFIED:20250519T121242Z
UID:10001643-1739185200-1739196000@www.carersmanchester.org.uk
SUMMARY:Lifted: Carers Drop-in
DESCRIPTION:
URL:https://www.carersmanchester.org.uk/event/lifted-carers-drop-in-10/2025-02-10/
LOCATION:Dandelion Community Centre\, Oatlands Road\, Manchester\, M22 1AL
END:VEVENT
BEGIN:VEVENT
DTSTART;TZID=Europe/Paris:20250208T100000
DTEND;TZID=Europe/Paris:20250208T110000
DTSTAMP:20260423T023640
CREATED:20250127T130325Z
LAST-MODIFIED:20250127T130325Z
UID:10003090-1739008800-1739012400@www.carersmanchester.org.uk
SUMMARY:Creative Care – Art for Kids with Additional Needs
DESCRIPTION:Text from organiser: \nCreative Care – Art for Kids with Additional Needs\n\nEvery other Saturday\, 10-11am\n@ Z-Arts\, 335 Stretford Road\, Hulme\, M15 5ZA\nThese inclusive sessions are open to children aged 8 to 16 and are led by Kirsty Gbasai\, a talented Artist & Freelance Creative Practitioner. The sessions celebrate diverse ways of thinking and learning\, offering a welcoming space for children to express their creativity. \nDuring each session\, children will have the chance to explore a range of art techniques\, from painting and drawing to collage and mixed media. \nThis isn’t a one-size-fits-all approach – we encourage each child to explore their own ideas\, experiment\, and try new techniques in a supportive and creative environment. \nFor a full list of dates\, visit the Z-arts Event Page. \nFor more information\, please reach out to Tabitha at tabitha@z-arts.org or call 0161 697 5916.
URL:https://www.carersmanchester.org.uk/event/creative-care-art-for-kids-with-additional-needs/2025-02-08/
LOCATION:Z-Arts\, 335 Stretford Road\, M15 5ZA
END:VEVENT
BEGIN:VEVENT
DTSTART;TZID=Europe/Paris:20250207T140000
DTEND;TZID=Europe/Paris:20250207T153000
DTSTAMP:20260423T023640
CREATED:20250618T155142Z
LAST-MODIFIED:20250618T155142Z
UID:10003913-1738936800-1738942200@www.carersmanchester.org.uk
SUMMARY:Recurring event - Manchester Carers Forum: Burnage Carers Peer Support Group
DESCRIPTION:Please contact the organiser prior to attending\, in case of last minute changes. \n\n1st Friday of every month\, 2-3.30pm\nThe Burnage Library\, Burnage Ln\, Manchester M19 1EW\nContact Daniel on 07415 436382 or daniel@manchestercarersforum.org.uk
URL:https://www.carersmanchester.org.uk/event/burnage-peer-support/2025-02-07/
LOCATION:Burnage Library\, Burnage Lane\, Manchester\, M19 1EW
END:VEVENT
BEGIN:VEVENT
DTSTART;TZID=Europe/Paris:20250206T103000
DTEND;TZID=Europe/Paris:20250206T120000
DTSTAMP:20260423T023640
CREATED:20250127T122259Z
LAST-MODIFIED:20250127T122259Z
UID:10002558-1738837800-1738843200@www.carersmanchester.org.uk
SUMMARY:LMCP: Cost of living support group
DESCRIPTION:
URL:https://www.carersmanchester.org.uk/event/lmcp-cost-of-living-support-group/2025-02-06/
LOCATION:The Guidance Hub\, 389 Waterloo Road\, Manchester\, M8 8EP
END:VEVENT
BEGIN:VEVENT
DTSTART;TZID=Europe/Paris:20250205T110000
DTEND;TZID=Europe/Paris:20250205T130000
DTSTAMP:20260423T023640
CREATED:20250117T135335Z
LAST-MODIFIED:20250117T135442Z
UID:10002497-1738753200-1738760400@www.carersmanchester.org.uk
SUMMARY:Lifted: Walking Group
DESCRIPTION:Text from organiser: \nEvery Wednesday\, staff and carers and family who attend Lifted. Meet up for a lovely walk around Wythenshawe park. \nThe group meet up at the Cafe from there they set off as a group. Half way around the walk the group splits into two groups. One for those who want to do the 1 mile walk\, the other group for those who want to do a 2 or 3 mile walk. \nThe group meet back up at the cafe for a hot drink and a chat. \n  \nWe welcome all new walkers regardless of walking ability we cater for everyone! Still not sure why not read our blog about the walking group – Link \nLifted walking group – Every Wednesday at 11am – 1pm. Make sure to drop us a text or email to let us know you are coming.\nCall/text us on:07385568990 Or 07384784262 \nOr email us: info@liftedcarerscentre.org.uk
URL:https://www.carersmanchester.org.uk/event/lifted-walking-group-10/2025-02-05/
LOCATION:Wythenshawe Park\, Manchester\, M23 0AB
END:VEVENT
BEGIN:VEVENT
DTSTART;TZID=Europe/Paris:20250205T103000
DTEND;TZID=Europe/Paris:20250205T123000
DTSTAMP:20260423T023640
CREATED:20250113T090408Z
LAST-MODIFIED:20250113T090408Z
UID:10002424-1738751400-1738758600@www.carersmanchester.org.uk
SUMMARY:ACCG: Carers 6 Week Ceramics Workshop
DESCRIPTION:
URL:https://www.carersmanchester.org.uk/event/accg-carers-6-week-ceramics-workshop/2025-02-05/
LOCATION:Claremont Resource Centre\, 2 Jarvis Road\, Manchester\, M15 5FS
END:VEVENT
BEGIN:VEVENT
DTSTART;TZID=Europe/Paris:20250203T160000
DTEND;TZID=Europe/Paris:20250203T180000
DTSTAMP:20260423T023640
CREATED:20250117T134537Z
LAST-MODIFIED:20250117T134537Z
UID:10002494-1738598400-1738605600@www.carersmanchester.org.uk
SUMMARY:Lifted: Women’s Book Club
DESCRIPTION:Text from organiser: \nDid you know that we have a fortnightly book club? \nThe Lifted WOW team\, were having a chat at the start of the year about all the new books that they had been given. It then turned into a full on conversation between the WOW team and the Lifted team. We then realised we all love books! We could also spend hours talking about books. Myself\, Emma Moo and Sue then said why not set up a book group? \n  \nSo that is what we did. In January 2024 we set up the Lifted women’s book club. \nWe meet every other Monday at the Dandelion Hub between 4pm and 6pm. \nWe are not your typical book club\, as Emma Moo would say we are “ just an anti-typical book club” We don’t have a set book that we read each week\, we just talk about what book we are currently enjoying and share if we would recommend it out to the group. \nWe also count Paper book\, eBook\, Audio Book and podcast towards our book count for the year! \nIf you fancy being part of our women focused book group\, message kate@liftedmcr.org.uk or ring 07538589345
URL:https://www.carersmanchester.org.uk/event/lifted-womens-book-club/2025-02-03/
LOCATION:Dandelion Community Centre\, Oatlands Road\, Manchester\, M22 1AL
END:VEVENT
BEGIN:VEVENT
DTSTART;TZID=Europe/Paris:20250203T123000
DTEND;TZID=Europe/Paris:20250203T140000
DTSTAMP:20260423T023640
CREATED:20241213T121023Z
LAST-MODIFIED:20241216T113524Z
UID:10001900-1738585800-1738591200@www.carersmanchester.org.uk
SUMMARY:Lifted: Uplift Meal
DESCRIPTION:
URL:https://www.carersmanchester.org.uk/event/lifted-uplift-meal-10/2025-02-03/
LOCATION:Dandelion Community Centre\, Oatlands Road\, Manchester\, M22 1AL
END:VEVENT
BEGIN:VEVENT
DTSTART;TZID=Europe/Paris:20250203T110000
DTEND;TZID=Europe/Paris:20250203T140000
DTSTAMP:20260423T023640
CREATED:20241213T120553Z
LAST-MODIFIED:20250519T121242Z
UID:10001642-1738580400-1738591200@www.carersmanchester.org.uk
SUMMARY:Lifted: Carers Drop-in
DESCRIPTION:
URL:https://www.carersmanchester.org.uk/event/lifted-carers-drop-in-10/2025-02-03/
LOCATION:Dandelion Community Centre\, Oatlands Road\, Manchester\, M22 1AL
END:VEVENT
BEGIN:VEVENT
DTSTART;TZID=Europe/Paris:20250201T103000
DTEND;TZID=Europe/Paris:20250201T150000
DTSTAMP:20260423T023640
CREATED:20250127T130957Z
LAST-MODIFIED:20250127T131157Z
UID:10003098-1738405800-1738422000@www.carersmanchester.org.uk
SUMMARY:Together Dementia Support: Dunham Massey Walk
DESCRIPTION:
URL:https://www.carersmanchester.org.uk/event/together-dementia-support-dunham-massey-walk-2/
END:VEVENT
BEGIN:VEVENT
DTSTART;TZID=Europe/Paris:20250131T103000
DTEND;TZID=Europe/Paris:20250131T123000
DTSTAMP:20260423T023640
CREATED:20250117T130611Z
LAST-MODIFIED:20250117T130611Z
UID:10002432-1738319400-1738326600@www.carersmanchester.org.uk
SUMMARY:Manchester Carers Forum: Blackley Carers Peer Support
DESCRIPTION:It is an informal group providing social and emotional support\, with refreshments provided and often guest speakers and activities. \n\nFriday 31st January 2025\, 10.30am-12.30pm\nThe Avenue Library Learning Centre\, 9 Victoria Ave East\, Manchester\, M9 6HW\n\n  \nFor more information
URL:https://www.carersmanchester.org.uk/event/manchester-carers-forum-blackley-carers-peer-support-2/
LOCATION:The Avenue Library and Learning Centre\, 9 Victoria Avenue East\, Manchester\, M9 6HW
END:VEVENT
BEGIN:VEVENT
DTSTART;TZID=Europe/Paris:20250130T103000
DTEND;TZID=Europe/Paris:20250130T120000
DTSTAMP:20260423T023640
CREATED:20250127T122259Z
LAST-MODIFIED:20250127T122259Z
UID:10002557-1738233000-1738238400@www.carersmanchester.org.uk
SUMMARY:LMCP: Cost of living support group
DESCRIPTION:
URL:https://www.carersmanchester.org.uk/event/lmcp-cost-of-living-support-group/2025-01-30/
LOCATION:The Guidance Hub\, 389 Waterloo Road\, Manchester\, M8 8EP
END:VEVENT
BEGIN:VEVENT
DTSTART;TZID=Europe/Paris:20250129T110000
DTEND;TZID=Europe/Paris:20250129T130000
DTSTAMP:20260423T023640
CREATED:20250117T135335Z
LAST-MODIFIED:20250117T135442Z
UID:10002496-1738148400-1738155600@www.carersmanchester.org.uk
SUMMARY:Lifted: Walking Group
DESCRIPTION:Text from organiser: \nEvery Wednesday\, staff and carers and family who attend Lifted. Meet up for a lovely walk around Wythenshawe park. \nThe group meet up at the Cafe from there they set off as a group. Half way around the walk the group splits into two groups. One for those who want to do the 1 mile walk\, the other group for those who want to do a 2 or 3 mile walk. \nThe group meet back up at the cafe for a hot drink and a chat. \n  \nWe welcome all new walkers regardless of walking ability we cater for everyone! Still not sure why not read our blog about the walking group – Link \nLifted walking group – Every Wednesday at 11am – 1pm. Make sure to drop us a text or email to let us know you are coming.\nCall/text us on:07385568990 Or 07384784262 \nOr email us: info@liftedcarerscentre.org.uk
URL:https://www.carersmanchester.org.uk/event/lifted-walking-group-10/2025-01-29/
LOCATION:Wythenshawe Park\, Manchester\, M23 0AB
END:VEVENT
BEGIN:VEVENT
DTSTART;TZID=Europe/Paris:20250129T103000
DTEND;TZID=Europe/Paris:20250129T123000
DTSTAMP:20260423T023640
CREATED:20250117T142331Z
LAST-MODIFIED:20250117T142331Z
UID:10002555-1738146600-1738153800@www.carersmanchester.org.uk
SUMMARY:Manchester Parent Carer Forum: Family Law – Looked After Children
DESCRIPTION:Text from organiser: \nThis session will be delivered by students from The University of Law and is FREE to book for parents and carers of children and young people with Special Educational Needs and/or Disabilities (SEND) in Manchester. \nThe presentation will cover: \n\nChild in Need and the duties of the Local Authority (LA)\n\nSection 17 of the Children’s Act : Duty to children in need – what is a Child in Need?\nLooked after in care of the LA\nSection 20 of the Children’s Act\n\n\nParental Responsibility (PR)\n\nWho has PR?\nWhat happens when the child turns 18?\nPerhaps also why does it matter?\n\n\nContact\n\nLong term foster care\nSection 34 of the Children’s Act\nTypes of contact – supervised and unsupervised\nRight to contact\n\n\nBest interests of the child & court proceedings\n\nSection 1 of the Children’s Act\nPublic Law Outline (PLO) meetings\nEntitlement to legal aid\n\n\n\nLunch will be provided at the end of the session. \nPlease let us know if you need any help with booking a place or with transportation to/from the venue. \n\nAbout the Trainers:\nThe session will be delivered by students from The University of Law\, with thanks to Fay Sayers (Senior Tutor & BPC LLM Supervisor\, Pro Bono Co-ordinator/Supervising Solicitor\, and Fellow of the HEA at The University of Law) for coordinating the session. \nAcknowledgements:\nWe are also grateful to the SEND Local Offer for making this possible. \n  \nOnline Event click here
URL:https://www.carersmanchester.org.uk/event/manchester-parent-carer-forum-family-law-looked-after-children/
LOCATION:online
END:VEVENT
BEGIN:VEVENT
DTSTART;TZID=Europe/Paris:20250127T190000
DTEND;TZID=Europe/Paris:20250127T203000
DTSTAMP:20260423T023640
CREATED:20241219T105759Z
LAST-MODIFIED:20250115T113522Z
UID:10002415-1738004400-1738009800@www.carersmanchester.org.uk
SUMMARY:Time For You - Carers short breaks workshop (online)
DESCRIPTION:An online workshop about what short breaks unpaid carers need in Manchester.\n  \nWe want to hear from you…\n· Do you get time for yourself? \n· What support you would need to take a break of your choice? \n· What breaks and activities are currently available? \n· What more is needed? \n  \nThis is one of several workshops we are holding to hear carers’ views. We will use these discussions to improve opportunities for carers in Manchester. The consultation is open until 31 January 2025. \n  \nOur  workshops are friendly and engaging. For your time you will receive a shopping voucher for £20. \n  \nPlease register for one of the workshops on Eventbrite. \n  \nYou can also take our survey for a chance to win a £40 voucher. \n 
URL:https://www.carersmanchester.org.uk/event/time-for-you-carers-short-breaks-workshop/2025-01-27/
LOCATION:online
END:VEVENT
BEGIN:VEVENT
DTSTART;TZID=Europe/Paris:20250127T140000
DTEND;TZID=Europe/Paris:20250127T153000
DTSTAMP:20260423T023640
CREATED:20250115T112749Z
LAST-MODIFIED:20250122T141735Z
UID:10002431-1737986400-1737991800@www.carersmanchester.org.uk
SUMMARY:Time For You - Carers short breaks workshop (online)
DESCRIPTION:An online workshop about what short breaks unpaid carers need in Manchester.\n  \nWe want to hear from you…\n· Do you get time for yourself? \n· What support you would need to take a break of your choice? \n· What breaks and activities are currently available? \n· What more is needed? \n  \nThis is one of several friendly and engaging workshops we are holding to hear carers’ views. We will use these discussions to improve opportunities for carers in Manchester. The consultation is open until 31 January 2025. \n  \nPlease register for a workshop on Eventbrite. For your time you will receive a shopping voucher for £20. \n  \nYou can also take our survey for a chance to win a £40 voucher. \n  \n \n  \n 
URL:https://www.carersmanchester.org.uk/event/time-for-you-carers-short-breaks-workshop-online-2/
LOCATION:online
END:VEVENT
BEGIN:VEVENT
DTSTART;TZID=Europe/Paris:20250127T123000
DTEND;TZID=Europe/Paris:20250127T140000
DTSTAMP:20260423T023640
CREATED:20241213T121023Z
LAST-MODIFIED:20241216T113524Z
UID:10001899-1737981000-1737986400@www.carersmanchester.org.uk
SUMMARY:Lifted: Uplift Meal
DESCRIPTION:
URL:https://www.carersmanchester.org.uk/event/lifted-uplift-meal-10/2025-01-27/
LOCATION:Dandelion Community Centre\, Oatlands Road\, Manchester\, M22 1AL
END:VEVENT
BEGIN:VEVENT
DTSTART;TZID=Europe/Paris:20250127T110000
DTEND;TZID=Europe/Paris:20250127T140000
DTSTAMP:20260423T023640
CREATED:20241213T120553Z
LAST-MODIFIED:20250519T121242Z
UID:10001641-1737975600-1737986400@www.carersmanchester.org.uk
SUMMARY:Lifted: Carers Drop-in
DESCRIPTION:
URL:https://www.carersmanchester.org.uk/event/lifted-carers-drop-in-10/2025-01-27/
LOCATION:Dandelion Community Centre\, Oatlands Road\, Manchester\, M22 1AL
END:VEVENT
END:VCALENDAR